BEGIN:VCALENDAR
VERSION:2.0
PRODID:-//UP Alumni Website - ECPv6.15.16//NONSGML v1.0//EN
CALSCALE:GREGORIAN
METHOD:PUBLISH
X-WR-CALNAME:UP Alumni Website
X-ORIGINAL-URL:https://alum.up.edu.ph
X-WR-CALDESC:Events for UP Alumni Website
REFRESH-INTERVAL;VALUE=DURATION:PT1H
X-Robots-Tag:noindex
X-PUBLISHED-TTL:PT1H
BEGIN:VTIMEZONE
TZID:UTC
BEGIN:STANDARD
TZOFFSETFROM:+0000
TZOFFSETTO:+0000
TZNAME:UTC
DTSTART:20240101T000000
END:STANDARD
END:VTIMEZONE
BEGIN:VEVENT
DTSTART;VALUE=DATE:20250201
DTEND;VALUE=DATE:20250301
DTSTAMP:20260422T232023
CREATED:20250126T214904Z
LAST-MODIFIED:20250126T214904Z
UID:19034-1738368000-1740787199@alum.up.edu.ph
SUMMARY:Arts and Culture Festival 2025
DESCRIPTION:Inihahandog ng UP Diliman Opisina para sa Pagpapasimuno sa Kultura at mga Sining (UPD-OICA) ang mga programa at aktibidad na bahagi ng Arts and Culture Festival 2025 na may temang “Kalahok sa Nagbabagong Kalikasan.” Sa isang buwang pagdiriwang na ito ay matutunghayan natin ang iba’t ibang paraan ng pagpapahalaga at pangangalaga sa kalikasan sa larangan ng sining at gawaing pang-kultural.\n\nNarito ang mga proyektong inihanda ng UPD-OICA at ng iba pang mga opisina\, yunit\, at organisasyong pangmag-aaral ng UP Diliman:\n\nSeremonya ng Pagbubukas ng UP Diliman Arts and Culture Festival 2025\, tatlong Himigsikan\, at ang konsiyerto ng Kuwerdas Filipinas mula sa UP Diliman OICA\n\nMga workshop tungkol sa kalikasan at mga sostenibleng kasanayan sa teatro mula sa Dulaang UP (Dulaang Unibersidad ng Pilipinas)\, Departamento ng Komunikasyong Pasalita at Sining Panteatro (DSCTA)\, na pinamagatang “DuLABhusayan: Mga Anak ng Unos” (Workshops on Environment and Sustainability Component)\n\nAng docu-series na “Bukas\, sa UP\, bukas: Imagining UP Diliman’s Ecocritical Futures” mula sa Departamento ng Brodkasting (UP Department of Broadcast Communication)\n\nIsang workshop tungkol sa personal archiving na pinamagatang “Future-Proofing Stories: Climate-Responsive Personal Archiving Workshop for Student Filmmakers and Film Scholars” mula sa UP Instityut ng Pelikula (UPFI Film Center)\n\nAng “Imbuing Cultural and Arts Education with Critical Discourse on the Interface of Ecological Issues\, Social Justice\, and Human Rights” isang kumperensiya mula sa Departamento ng Edukasyong Pangmusika\, UP Kolehiyo ng Musika (UP Kolehiyo ng Musika)\n\nTalakayan tungkol sa aksesibilidad at inklusibong kasanayan sa museo na pinamagatang “Talakayan sa Bulwagan: Sessions on Equity in Museums” mula sa Bulwagan ng Dangal University Heritage Museum\n\nAng “AnthropoScene”\, isang interactive na exhibit mula sa Departmento ng Sining sa Estudyo\, Kolehiyo ng Sining Biswal (CFA) (UP College of Fine Arts Department of Visual Communication)\n\nDiskurso tungkol sa kultura ng Cordillera mula sa Paggawisan Tako Am-In UP Diliman\, na pinamagatang “PAGTAtalakay Series: Navigating the Impact of Environmental Changes to Cordilleran Cultural Performances” (Paggawisan Tako Am-in – PAGTA UPD)\n\nMga workshop tungkol sa pagsusulat ng sining na “Essays and Assays: Approaches and Experiments in Art Writing” mula sa Departamento ng Aralin sa Sining\, Kolehiyo ng Arte at Literatura (Art Studies UP Diliman)\n\nIsang proyekto tungkol sa sostenibleng pamamaraan sa pagkain mula sa Serbisyong Pampagkain ng Unibersidad (University Food Service – UFS) na pinamagatang “Kani-kaniyang Baunan (KKB): Tungo sa Sostenibleng UP Diliman”\n\nAng “Youth In-Charge: Environmental Actions of the Youth as Champions of Sustainability”\, isang proyektong tungkol sa halaga at papel ng kabataan sa mga krisis sa kalikasan na mula sa Sentrong Asyano (Asian Center\, UP Diliman)\n\nKompetisyon ng sabayang pagbigkas at interpretasyong oral na pinamagatang “Speech Cup 2025” mula sa UP Speech Communication Association (SPECA)\n\nSamahan kaming suriin kung paano nakakaapekto ang sining sa ating pananaw at pagtangkilik sa mas maayos na kalikasan. Abangan ang mga susunod na anunsiyo at detalye sa aming FB page. Sama-sama nating itaguyod ang sining para sa kalikasan! 🍃✨\n\nPoster by Cyp Damot\n\nSource: UP Diliman OICA Facebook
URL:https://alum.up.edu.ph/event/arts-and-culture-festival-2025/
END:VEVENT
BEGIN:VEVENT
DTSTART;VALUE=DATE:20250201
DTEND;VALUE=DATE:20260101
DTSTAMP:20260422T232023
CREATED:20250213T203449Z
LAST-MODIFIED:20250213T203449Z
UID:19267-1738368000-1767225599@alum.up.edu.ph
SUMMARY:UP Mindanao's 30th Anniversary Year-long Schedule of Activities
DESCRIPTION:LOOK | Year-long Schedule of Activities for UP Mindanao’s 30th Anniversary\n\nJoin us as we celebrate three decades of academic excellence\, research innovation\, and community engagement! UP Mindanao’s 30th Anniversary is packed with exciting activities\, from cultural performances and academic forums to sports events and community outreach programs.\n\nHere’s the full schedule and be part of this milestone celebration! Let’s honor our past\, celebrate our present\, and shape our future together.\n\nSource: University of the Philippines Mindanao Facebook
URL:https://alum.up.edu.ph/event/up-mindanaos-30th-anniversary-year-long-schedule-of-activities/
END:VEVENT
BEGIN:VEVENT
DTSTART;TZID=UTC:20250201T090000
DTEND;TZID=UTC:20250228T160000
DTSTAMP:20260422T232023
CREATED:20250209T221012Z
LAST-MODIFIED:20250209T221012Z
UID:19176-1738400400-1740758400@alum.up.edu.ph
SUMMARY:UP Fine Arts Gallery February 2025 Exhibitions and Events
DESCRIPTION:FEBRUARY AT PAROLA\n​\nIt’s a vibrant February at Parola with our jam-packed lineup of exhibitions and events. For National Arts Month 2025\, we center on interconnectedness\, locating art within communities of care. 🧡\n​\nAnthroposcene\nGallery One\nFebruary 14 – March 31\, 2025\nOpens February 14\n​\nImaginarium\nAtrium\nFebruary 15 – 22\, 2025\nExhibition Preview and Fashion show on February 15\nCreative talks on February 21\n​\nHubog-Likha\nUPCFA Latagan\nMultipurpose Hall\nFebruary 19-21\, 2025\n​\nHubog-Sarili\nUPCFA Student Exhibition\nAtrium\nFebruary 25 – March 11\, 2025\n​\nSining Kalingawan: Interdependent Art\, Practices\, and Communities\nArt Talk Series\nGallery Lobby\nFebruary 18 – March 4\, 2025\n​\n2025 National Conference of the Society for Strategic Education Studies\nMultipurpose Hall\nFebruary 27 – 28\, 2025\n​\nImages (1974 – 2024)\nNap Jamir Retrospective\nGallery Two\nFebruary 28 – March 29\, 2025\nOpens on February 28\, 2025\n​\nAngat Sining Fellowship for Young Filipino Artists for Visual Arts\nAngat Sining Fellows\nGallery Two\nRuns until February 19\, 2025\nPublic program TBA\n​\nEpey Art Pantry\nUPCFA Permanent Collection x Community Pantry PH\nAtrium Lobby\n​\nShifting Spaces\nDennis Bato\nArts and Design West Hall Lawn\nRuns until February 28\n​\nFREE AND OPEN TO THE PUBLIC\n​\nStay tuned to the Parola Facebook and Instagram pages for the latest updates.\n​\nWalk-in guests are welcome from Tuesdays to Saturdays\, 9 AM – 4 PM. For inquiries\, email us at cfagallery.upd@up.edu.ph.\n​\nSee you! 🧡\n\nSource: UP Fine Arts Gallery Facebook
URL:https://alum.up.edu.ph/event/up-fine-arts-gallery-february-2025-exhibitions-and-events/
END:VEVENT
BEGIN:VEVENT
DTSTART;VALUE=DATE:20250203
DTEND;VALUE=DATE:20250301
DTSTAMP:20260422T232023
CREATED:20250202T222020Z
LAST-MODIFIED:20250202T222020Z
UID:19109-1738540800-1740787199@alum.up.edu.ph
SUMMARY:UP Cebu National Arts Month 2025 Activities
DESCRIPTION:The University of the Philippines Cebu celebrates National Arts Month 2025\, embracing the NCCA’s theme\, 𝐀𝐧𝐢 𝐧𝐠 𝐒𝐢𝐧𝐢𝐧𝐠: 𝐃𝐢𝐰𝐚 𝐚𝐭 𝐃𝐚𝐦𝐝𝐚𝐦𝐢𝐧\, honoring the spirit and passion behind Filipino creativity.\n\nAs part of the celebration\, here are the events and activities that highlight UP Cebu’s commitment to the arts and cultural development:\n\nPrismatic Light: Martino Abellana\, The Teacher\nLaunching of the 50th Anniversary of UP Cebu Fine Arts Program | 5:00 PM\nOpening of the tribute exhibition | 6:00 PM\n\nErehensiya\nOpening Reception | 5:00 PM\nJose T. Joya Gallery\nExhibit runs until Feb. 15\, 2025\n\nThe Curious Incident of the Dog in the Nighttime\nFeb. 8 Premiere | 2:00 PM & 7:00 PM\nUP Cebu Performing Arts Hall\nFeb. 9 | 2:00 PM\nUP Cebu Performing Arts Hall\n\nHopeless Romantics\, Inc.\nFeb. 21-23| 4:30 PM & 7:00 PM\nUP Cebu Performing Arts Hall\n\nMINDWORKS 39: Kita’ng Katag\nFeb. 17-22 | Absurd Week!\nFeb. 24 – March 1 | MINDWORKS Week\n\nJoin us in this celebration of creativity and embracing the arts!\n\nSource: University of the Philippines Cebu Facebook
URL:https://alum.up.edu.ph/event/up-cebu-national-arts-month-2025-activities/
END:VEVENT
BEGIN:VEVENT
DTSTART;TZID=UTC:20250214T090000
DTEND;TZID=UTC:20250307T160000
DTSTAMP:20260422T232023
CREATED:20250212T173320Z
LAST-MODIFIED:20250212T173320Z
UID:19225-1739523600-1741363200@alum.up.edu.ph
SUMMARY:ANTHROPOSCENE: Art Installation
DESCRIPTION:At the precipice of extinction\, what remains?\n\nAnthropoScene is a large-scale\, multi-disciplinary art installation envisioning a haunting landscape at the end of the Anthropocene—a time when human influence has irreversibly altered the planet. Through moving images of superstorms and sculptural remnants of lost species\, this exhibition confronts the stark realities of climate change\, biodiversity loss\, and human-wildlife conflicts.\n\nANTHROPOSCENE\n📅 February 14 – March 28\, 2025\n📍 Gallery One\, UP Fine Arts Gallery\, Arts and Design West Hall\, UP Diliman\n\nSource: AnthropoScene Facebook
URL:https://alum.up.edu.ph/event/anthroposcene-art-installation/
END:VEVENT
BEGIN:VEVENT
DTSTART;TZID=UTC:20250217T080000
DTEND;TZID=UTC:20250228T170000
DTSTAMP:20260422T232023
CREATED:20250102T223449Z
LAST-MODIFIED:20250102T223449Z
UID:18845-1739779200-1740762000@alum.up.edu.ph
SUMMARY:93rd Postgraduate Course in Occupational Health and Safety
DESCRIPTION:Interested in practicing Occupational Health and Safety (OHS)?\n\nJoin the 93rd Postgraduate Course in Occupational Health and Safety from 17 to 21\, 24 to 28 February 2025\, to be offered online via Zoom and Google Classroom.\n\nThis is open to physicians\, nurses\, dentists\, medical technologists\, physical therapists\, sanitary engineers\, and other professionals interested in OHS. This course offering aims to contribute to the achievement of #SDG3 #SDG8.\n\nTo register\, kindly email us at upm.cph.deoh@up.edu.ph or visit our website for more information https://sites.google.com/up.edu.ph/deoh-pgcohs/home\n\nSee you there!\n\nSource: College of Public Health\, University of the Philippines Facebook
URL:https://alum.up.edu.ph/event/93rd-postgraduate-course-in-occupational-health-and-safety/
END:VEVENT
BEGIN:VEVENT
DTSTART;TZID=UTC:20250224T090000
DTEND;TZID=UTC:20250225T170000
DTSTAMP:20260422T232023
CREATED:20250219T211851Z
LAST-MODIFIED:20250219T211851Z
UID:19354-1740387600-1740502800@alum.up.edu.ph
SUMMARY:"The NextGen of Farming: Harnessing Science and Nature for Resilient Crops & a Healthier World"
DESCRIPTION:CSSP Webinar Series\n\n“The NextGen of Farming: Harnessing Science and Nature for Resilient Crops & a Healthier World”\n\n📢 Registration is open until February 20\, 2025\, 5:00PM.\n \n➡️Register here: https://tinyurl.com/CSSP-Webinar-2025\n📅 Date: February 21\, 2025\, Time: 1:00 PM – 4:00 PM\n🎟️ Registration Fee: 150 Php\n🌐 Where: Online (Zoom)\n⭐ 3 CPD points (Licensed Agriculturists)\n\nSource: Crop Science Society of the Philippines Facebook
URL:https://alum.up.edu.ph/event/the-nextgen-of-farming-harnessing-science-and-nature-for-resilient-crops-a-healthier-world/
END:VEVENT
BEGIN:VEVENT
DTSTART;TZID=UTC:20250224T090000
DTEND;TZID=UTC:20250225T170000
DTSTAMP:20260422T232023
CREATED:20250219T212442Z
LAST-MODIFIED:20250219T212442Z
UID:19355-1740387600-1740502800@alum.up.edu.ph
SUMMARY:AgCultivate 2025
DESCRIPTION:📢 Calling all agriculture and agri-food enthusiasts and stakeholders!\n\nJoin us online for #AgCultivate2025\, a two-day event that will bring together stakeholders from the Philippines and Canada to address critical challenges facing the agriculture sector. This is FREE and OPEN TO THE PUBLIC!\n\nReady to be part of the conversation? Register now at bit.ly/AgCultivate2025-online-reg!\n—\n✅Check out the program at bit.ly/AgCultivate2025-program\, and let us know you’ll attend at bit.ly/AgCultivate-event-page.\n\nSource: AgCultivate Facebook
URL:https://alum.up.edu.ph/event/agcultivate-2025/
END:VEVENT
BEGIN:VEVENT
DTSTART;TZID=UTC:20250224T120000
DTEND;TZID=UTC:20250224T130000
DTSTAMP:20260422T232023
CREATED:20250218T210427Z
LAST-MODIFIED:20250218T210441Z
UID:19310-1740398400-1740402000@alum.up.edu.ph
SUMMARY:UP Med Webinar 2025 "Refilling Your Cup: Mind-Body Strategies for Stress Management in Healthcare"
DESCRIPTION:We often hear\, “you cannot give from an empty cup.” Let us listen to Silver Jubilarian Dr. Rowena Cabigon-Mercado share her insights on this special topic: Refilling Your Cup: Mind-Body Strategies for Stress Management in Healthcare.\n\nJoin us on February 24\, 2025\, from 12 NN to 1 PM.\n\nTo register for this UPCM 2000 Webinar\, click here: https://tinyurl.com/DOSMILekturas-February-24\n\nSource: UP Med Webinars Facebook
URL:https://alum.up.edu.ph/event/up-med-webinar-2025/
END:VEVENT
BEGIN:VEVENT
DTSTART;TZID=UTC:20250224T130000
DTEND;TZID=UTC:20250224T143000
DTSTAMP:20260422T232023
CREATED:20250220T160024Z
LAST-MODIFIED:20250220T160024Z
UID:19365-1740402000-1740407400@alum.up.edu.ph
SUMMARY:"From the Periphery to Plate: Filipino Cuisine\, National Identity\, and the Quest for Global Recognition"
DESCRIPTION:The UP Department of History invites the public to attend the lecture of Juliene Porciuncula titled “From the Periphery to Plate: Filipino Cuisine\, National Identity\, and the Quest for Global Recognition.”\n\nWhen: 24 February 2025\, 1:00 PM – 2:30 PM\nWhere: Silid Balatik\, Pavilion 2\, Palma Hall\, UP Diliman\n\nSource: UP Departamento ng Kasaysayan Facebook
URL:https://alum.up.edu.ph/event/from-the-periphery-to-plate-filipino-cuisine-national-identity-and-the-quest-for-global-recognition/
END:VEVENT
BEGIN:VEVENT
DTSTART;TZID=UTC:20250224T133000
DTEND;TZID=UTC:20250224T150000
DTSTAMP:20260422T232023
CREATED:20250211T210757Z
LAST-MODIFIED:20250211T210757Z
UID:19203-1740403800-1740409200@alum.up.edu.ph
SUMMARY:Applying Integrity in Research
DESCRIPTION:📡 AIRING SOON… 📡\n\nUPD TFRI’s SURI series is coming back to bring you SURI Session #3: Applying Integrity in Research!\n\nThis session will feature different perspectives on the application of integrity in the various stages of the research process.\n\nJOIN US LIVE!\n\n📅 Date: February 24\, 2025 (Monday)\n🕒 Time: 1:30pm\n💻 Platform: Zoom \n\n👉 Register now: [bit.ly/SURIreg3]\n\n🔍 Stay tuned for more updates soon 🔍\n\nSource: UP Diliman Task Force for Research Integrity Facebook
URL:https://alum.up.edu.ph/event/applying-integrity-in-research/
END:VEVENT
BEGIN:VEVENT
DTSTART;TZID=UTC:20250224T133000
DTEND;TZID=UTC:20250224T153000
DTSTAMP:20260422T232023
CREATED:20250218T201145Z
LAST-MODIFIED:20250218T201145Z
UID:19303-1740403800-1740411000@alum.up.edu.ph
SUMMARY:Mentoring the Health Professionals
DESCRIPTION:You are invited to the Monthly Seminar entitled: Mentoring the Health Professionals on Monday\, February 24\, 2025 at 1:30 to 3:30 PM. via zoom.\n\nPlease register in advance by clicking the link below to receive the confirmation email about joining the meeting.\nhttps://bit.ly/MentoringtheHealthProfessionals\n\nNote that this event is a first come first served basis. If there is any problem with the link\, you can contact the NTTCHP secretariat email: nttchp.upmanila@up.edu.ph.\n\nThank you and see you there!\n\nSource: NTTCHP UP Manila Facebook
URL:https://alum.up.edu.ph/event/mentoring-the-health-professionals/
END:VEVENT
BEGIN:VEVENT
DTSTART;TZID=UTC:20250224T133000
DTEND;TZID=UTC:20250224T163000
DTSTAMP:20260422T232023
CREATED:20250202T182919Z
LAST-MODIFIED:20250202T182919Z
UID:19096-1740403800-1740414600@alum.up.edu.ph
SUMMARY:UP AIT Professorial Lecture Series: "Partnership and Sustainability in Tourism"
DESCRIPTION:Make way for our Professorial Lecture Series happening on February 17 and 24\, 2025 as our academic offering for AIT’s 49th Founding Anniversary.\n\nCentennial Professorial Chair Awardees Assoc. Prof. Maricel Badilla and Prof. Edieser dela Santa share their research outputs with students\, academics and researchers.\n\nFree admission but pre-registration is required. See you at the AIT Seminar Room.\n\nRegister Here.\n\nSource: UP Asian Institute of Tourism Facebook
URL:https://alum.up.edu.ph/event/up-ait-professorial-lecture-series-partnership-and-sustainability-in-tourism/
END:VEVENT
BEGIN:VEVENT
DTSTART;TZID=UTC:20250224T140000
DTEND;TZID=UTC:20250224T170000
DTSTAMP:20260422T232023
CREATED:20250223T220142Z
LAST-MODIFIED:20250223T220142Z
UID:19404-1740405600-1740416400@alum.up.edu.ph
SUMMARY:Pakighinabi 2025: Harmonies of Identity: Exploring Filipino Music and Dance Across Time
DESCRIPTION:🎶✨ Get ready for a harmonious celebration of Filipino culture! 🎉\n\nJoin us for the 2025 Pakighinabi Event Series – Harmonies of Identity: Exploring Filipino Music and Dance Across Time 🎵💃 on 24 February 2025\, 2 PM\, at the GT-Toyota Asian Center\, UP Diliman! 🎤 View details\, Register now: bit.ly/tricollegehabi2025\n\nExpect insightful research presentations\, lively discussions\, and stunning live performances that will take you through the rich tapestry of our music and dance. 🌍\n\nThis event is organized by the @tTriCollege Ph.D. Philippine Studies Program. 🗓️\n\nFree and Open to the Public! Pre-registration recommended.\n\nSee you there! ✨🎶\n\nSource: Asian Center\, UP Diliman Facebook
URL:https://alum.up.edu.ph/event/pakighinabi-2025-harmonies-of-identity-exploring-filipino-music-and-dance-across-time/
END:VEVENT
END:VCALENDAR