BEGIN:VCALENDAR
VERSION:2.0
PRODID:-//UP Alumni Website - ECPv6.15.16//NONSGML v1.0//EN
CALSCALE:GREGORIAN
METHOD:PUBLISH
X-WR-CALNAME:UP Alumni Website
X-ORIGINAL-URL:https://alum.up.edu.ph
X-WR-CALDESC:Events for UP Alumni Website
REFRESH-INTERVAL;VALUE=DURATION:PT1H
X-Robots-Tag:noindex
X-PUBLISHED-TTL:PT1H
BEGIN:VTIMEZONE
TZID:UTC
BEGIN:STANDARD
TZOFFSETFROM:+0000
TZOFFSETTO:+0000
TZNAME:UTC
DTSTART:20240101T000000
END:STANDARD
END:VTIMEZONE
BEGIN:VEVENT
DTSTART;VALUE=DATE:20250201
DTEND;VALUE=DATE:20260101
DTSTAMP:20260423T222929
CREATED:20250213T203449Z
LAST-MODIFIED:20250213T203449Z
UID:19267-1738368000-1767225599@alum.up.edu.ph
SUMMARY:UP Mindanao's 30th Anniversary Year-long Schedule of Activities
DESCRIPTION:LOOK | Year-long Schedule of Activities for UP Mindanao’s 30th Anniversary\n\nJoin us as we celebrate three decades of academic excellence\, research innovation\, and community engagement! UP Mindanao’s 30th Anniversary is packed with exciting activities\, from cultural performances and academic forums to sports events and community outreach programs.\n\nHere’s the full schedule and be part of this milestone celebration! Let’s honor our past\, celebrate our present\, and shape our future together.\n\nSource: University of the Philippines Mindanao Facebook
URL:https://alum.up.edu.ph/event/up-mindanaos-30th-anniversary-year-long-schedule-of-activities/
END:VEVENT
BEGIN:VEVENT
DTSTART;TZID=UTC:20250225T080000
DTEND;TZID=UTC:20250331T170000
DTSTAMP:20260423T222929
CREATED:20250218T205840Z
LAST-MODIFIED:20250218T205840Z
UID:19304-1740470400-1743440400@alum.up.edu.ph
SUMMARY:UP Manila College of Public Health Post Graduate Course on Basic Health Promotion
DESCRIPTION:The Department of Health Promotion and Education of UP Manila College of Public Health invites you to the Post Graduate Course on Basic Health Promotion on 25-28 & 31 March 2025. This five-day online short course will cover the essential concepts and strategies in health promotion and education.\n\nFor more info and early registration\, please go to https://bit.ly/HealthPromotion-March2025\n\nSource: College of Public Health\, University of the Philippines Facebook
URL:https://alum.up.edu.ph/event/up-manila-college-of-public-health-post-graduate-course-on-basic-health-promotion-3/
END:VEVENT
BEGIN:VEVENT
DTSTART;VALUE=DATE:20250301
DTEND;VALUE=DATE:20250401
DTSTAMP:20260423T222929
CREATED:20250305T173628Z
LAST-MODIFIED:20250305T173628Z
UID:19536-1740787200-1743465599@alum.up.edu.ph
SUMMARY:UP Mindanao March Activities
DESCRIPTION:March is packed with exciting events and meaningful engagements at UP Mindanao!\n\nFrom academic colloquia and university-wide celebrations to community service initiatives and leadership training\, this month reflects UPMin’s commitment to excellence\, collaboration\, and service. Highlights include University Week (March 3-7)\, CSM\, SOM\, and CHSS Weeks\, the UPMin Alumni Basketball Tournament\, and the Pagkat-on 2025: Leadership Training.\n\nJoin us in making every event a step toward shaping the future together!\n\nSource: University of the Philippines Mindanao Facebook
URL:https://alum.up.edu.ph/event/up-mindanao-march-activities/
END:VEVENT
BEGIN:VEVENT
DTSTART;TZID=UTC:20250303T090000
DTEND;TZID=UTC:20250314T163000
DTSTAMP:20260423T222929
CREATED:20250227T214141Z
LAST-MODIFIED:20250227T214141Z
UID:19486-1740992400-1741969800@alum.up.edu.ph
SUMMARY:Handmade Textile Bazaar
DESCRIPTION:In celebration of Women’s Month for 2025\, the Ugnayan ng Pahinungód Manila\, in partnership with the UP Manila Cash Office\, Center for Gender and Women’s Studies\, and Human Resource Development Office invites you to the Handmade Textile Bazaar on March 3-7 and March 11-14\, 2025 located at Ground Floor\, Old NEDA Bldg.\, Padre Faura\, Manila.\n\nSee you there!\n\nSource: University of the Philippines Manila Facebook
URL:https://alum.up.edu.ph/event/handmade-textile-bazaar/
END:VEVENT
BEGIN:VEVENT
DTSTART;TZID=UTC:20250312T100000
DTEND;TZID=UTC:20250312T113000
DTSTAMP:20260423T222929
CREATED:20250311T183748Z
LAST-MODIFIED:20250311T183748Z
UID:19587-1741773600-1741779000@alum.up.edu.ph
SUMMARY:“Elephant Clocks and Stuttering Parrots: Art\, Automation\, and Artificial Intelligence”
DESCRIPTION:THIS WEDNESDAY AT PAROLA 💡\n​\n“Elephant Clocks and Stuttering Parrots: Art\, Automation\, and Artificial Intelligence”\nA Lecture by Dr. Gunalan Nadarajan\, University of Michigan\n​\nWhile historical and contemporary discussions of automation and artificial intelligence have primarily focused on its technological instantiations\, specifically on its mechanical and industrial instances\, it is useful to understand automation as embedded in and programmed into practices\, discourses\, and materialities that are sometimes ‘non-technological. ’\n​\nDr. Nadajaran’s talk proposes that automation be (re)conceived in an expanded way as a constellation of elements through which cultures are produced and structured to predispose specific behaviors and material effects; as structures and programs for the deferral of decisions and actions. It provides an abbreviated genealogy of automation by excavating the historical and culturally specific technological devices\, industrial machinations\, and technical discourses that have come to be associated with automation\, and as these are tempered by the changing philosophical\, neurological\, psychological\, legal\, and ethical conceptions of human agency. It proposes that artistic explorations of automation and AI show us ways of imagining and acting to ethically restitute agency back to humans.\n​\nAbout the speaker\n​\nGunalan Nadarajan\, an art theorist and curator working at the intersections of art\, science\, and technology\, is Dean Emeritus and Professor at the Penny W. Stamps School of Art and Design at the University of Michigan.\n​\nMarch 12 (Wednesday)\, 10:00 – 11:30 A.M.\nAtrium and Gallery Lobby\n​\nFREE AND OPEN TO THE PUBLIC\nRegistration starts at 9:30 A.M. Limited seating.\n​\nWalk-in guests are welcome from Tuesdays to Saturdays\, from 9 AM to 4 PM. For inquiries\, email us at cfagallery.upd@up.edu.ph.\n​\nSee you!\n\nSource: UP Fine Arts Gallery Facebook\n​
URL:https://alum.up.edu.ph/event/elephant-clocks-and-stuttering-parrots-art-automation-and-artificial-intelligence/
END:VEVENT
BEGIN:VEVENT
DTSTART;TZID=UTC:20250312T113000
DTEND;TZID=UTC:20250312T123000
DTSTAMP:20260423T222929
CREATED:20250311T174325Z
LAST-MODIFIED:20250311T174325Z
UID:19570-1741779000-1741782600@alum.up.edu.ph
SUMMARY:“Engaged Anthropology: Can Archaeologists Engage?”
DESCRIPTION:Is there an archaeology beyond discoveries\, research\, and publications?\n\nWhile archaeologists deal with the lives and cultures of those long gone\, we need to acknowledge we aren’t isolated from the communities of the living. Whether residing by archaeological sites\, working with the team\, playing vital roles in historical-cultural-biological contextualization\, or are just plain curious about what archaeologists do\, there are advocacies at hand with these communities\, lest we remain in our ivory towers.\n\nThis Wednesday (12 March 2025)\, Prof. Mary Racelis explores these ideas and leads an interactive discussion on “Engaged Anthropology: Can Archaeologists Engage?” at Seminar Rm. 2\, Albert Hall\, UP Diliman\, from 11:30am to 1:00pm. Join us in-person or via Zoom. This is the first of a three-part series collaboration between the UP School of Archaeology Binalot Talks and the Ugnayang Pang-Aghamtao (UGAT) @ugataghamtao.\n\nAs always\, the Binalot Talks are open to everyone and we even encourage bringing your lunch as you attend. See you there!\n\n📅 Date: 12 March 2025 (Wednesday)\n⏰ Time: 11:30 AM\n📍 Location: Seminar Room 2\, Albert Hall\, UP Diliman\n💻 Zoom: https://bit.ly/Binalot_12Mar25 Passcode: BinalotMAR\n\nSource: Binalot Talks Facebook Group page
URL:https://alum.up.edu.ph/event/engaged-anthropology-can-archaeologists-engage/
END:VEVENT
BEGIN:VEVENT
DTSTART;TZID=UTC:20250312T130000
DTEND;TZID=UTC:20250312T160000
DTSTAMP:20260423T222929
CREATED:20250220T155434Z
LAST-MODIFIED:20250220T155434Z
UID:19364-1741784400-1741795200@alum.up.edu.ph
SUMMARY:“Gulf Migration from the Philippines Beyond Labor: Exploring the Nexus Between Filipinos and UAE Cities”
DESCRIPTION:We would like to invite everyone to a Round Table Discussion on “Gulf Migration from the Philippines Beyond Labor: Exploring the Nexus Between Filipinos and UAE Cities” to be held at the Pilar Herrera Hall\, College of Social Sciences and Philosophy (CSSP) at the University of the Philippines Diliman\, on Wednesday 12 March 2025.\n\nThis RTD is an initiative of the Japan Society for the Promotion of Sciences (JSPS) Grant-in-Aid for Scientific Research on “Ethnographic Studies on the Filipino Migrants in the UAE” under Assoc. Prof. Naomi Hosoda of Nagasaki University and is jointly organized with CSSP\, the Department of Political Science at UP Diliman\, and the Philippine Social Sciences Council (PSSC) with the Philippine Migration Research Network (PMRN).\n\nTo register\, please open the following link: https://forms.gle/GT9eXpkcZrkde3KSA\n\nSource: UP College of Social Sciences and Philosophy Facebook
URL:https://alum.up.edu.ph/event/gulf-migration-from-the-philippines-beyond-labor-exploring-the-nexus-between-filipinos-and-uae-cities/
END:VEVENT
BEGIN:VEVENT
DTSTART;TZID=UTC:20250312T150000
DTEND;TZID=UTC:20250312T170000
DTSTAMP:20260423T222929
CREATED:20250220T164320Z
LAST-MODIFIED:20250220T164320Z
UID:19385-1741791600-1741798800@alum.up.edu.ph
SUMMARY:Community Art\, Mural\, and Organizing Work
DESCRIPTION:In commemoration of the National Arts Month\, the UP Fine Arts Gallery launches a six-part series of talks under the theme\, Sining​Kalingawan: Interdependent Art\, Practices\, and Communities. \n\nOur lineup of speakers includes artists\, groups\, and spaces from different backgrounds that altogether foreground how collective practice orients our responsibility as practitioners to the bigger fabric of society:\n​\nOn Spaces we Shape \n98B COLLABoratory: Kathy Nuñez and LK Rigor\nFebruary 21\n1:00 – 3:00 PM\n​\nTirik: Heritage Advocacy through Experimental Film\nWika Nadera\nFebruary 21\n3:00 – 5:00 PM\n​\nPotluck: On Shared Practices in Ceramic Art\nJezzel Wee\nFebruary 26\n10:00 AM – 12:00 NN\n​\nThe Politics of Glass and Scent in the Global South\nGoldie Poblador\nMarch 4\n3:00 – 5:00 PM\n​\nUgnayan in Independent Press\nMakó Micro-Pess\nMarch 6\n3:00 – 5:00 PM\n​\nCommunity Art\, Mural\, and Organizing Work\nTambisan sa Sining\nMarch 12\n3:00 – 5:00 PM\n​\nFREE AND OPEN TO THE PUBLIC\n​\nAll talks will take place at the Lobby of the UP Fine Arts Gallery. For inquiries\, email us at cfagallery.upd@up.edu.ph.\n\nSource: UP Fine Arts Gallery Facebook
URL:https://alum.up.edu.ph/event/community-art-mural-and-organizing-work/
END:VEVENT
BEGIN:VEVENT
DTSTART;TZID=UTC:20250312T160000
DTEND;TZID=UTC:20250312T170000
DTSTAMP:20260423T222929
CREATED:20250302T224026Z
LAST-MODIFIED:20250302T224026Z
UID:19500-1741795200-1741798800@alum.up.edu.ph
SUMMARY:“Health Technology Assessment: A Potential for Pharmacists and Key Driver towards Universal Health Coverage”
DESCRIPTION:The UP College of Pharmacy will be conducting an online lecture via Zoom on March 12\, 2025 (4:00 to 5:00 PM)\, on “Health Technology Assessment: A Potential for Pharmacists and Key Driver towards Universal Health Coverage”.\n\nThis Professorial Lecture aims to discuss health technology assessment and its role in Universal Health Coverage\, including the responsibilities of pharmacists in health technology assessment.\n\nRegister by scanning the QR code or through the following link: https://bit.ly/UPCPHTA25\n\nSource: UP College of Pharmacy Facebook
URL:https://alum.up.edu.ph/event/health-technology-assessment-a-potential-for-pharmacists-and-key-driver-towards-universal-health-coverage/
END:VEVENT
END:VCALENDAR