BEGIN:VCALENDAR
VERSION:2.0
PRODID:-//UP Alumni Website - ECPv6.15.16//NONSGML v1.0//EN
CALSCALE:GREGORIAN
METHOD:PUBLISH
X-WR-CALNAME:UP Alumni Website
X-ORIGINAL-URL:https://alum.up.edu.ph
X-WR-CALDESC:Events for UP Alumni Website
REFRESH-INTERVAL;VALUE=DURATION:PT1H
X-Robots-Tag:noindex
X-PUBLISHED-TTL:PT1H
BEGIN:VTIMEZONE
TZID:UTC
BEGIN:STANDARD
TZOFFSETFROM:+0000
TZOFFSETTO:+0000
TZNAME:UTC
DTSTART:20240101T000000
END:STANDARD
END:VTIMEZONE
BEGIN:VEVENT
DTSTART;VALUE=DATE:20250201
DTEND;VALUE=DATE:20260101
DTSTAMP:20260422T080700
CREATED:20250213T203449Z
LAST-MODIFIED:20250213T203449Z
UID:19267-1738368000-1767225599@alum.up.edu.ph
SUMMARY:UP Mindanao's 30th Anniversary Year-long Schedule of Activities
DESCRIPTION:LOOK | Year-long Schedule of Activities for UP Mindanao’s 30th Anniversary\n\nJoin us as we celebrate three decades of academic excellence\, research innovation\, and community engagement! UP Mindanao’s 30th Anniversary is packed with exciting activities\, from cultural performances and academic forums to sports events and community outreach programs.\n\nHere’s the full schedule and be part of this milestone celebration! Let’s honor our past\, celebrate our present\, and shape our future together.\n\nSource: University of the Philippines Mindanao Facebook
URL:https://alum.up.edu.ph/event/up-mindanaos-30th-anniversary-year-long-schedule-of-activities/
END:VEVENT
BEGIN:VEVENT
DTSTART;TZID=UTC:20250225T080000
DTEND;TZID=UTC:20250331T170000
DTSTAMP:20260422T080700
CREATED:20250218T205840Z
LAST-MODIFIED:20250218T205840Z
UID:19304-1740470400-1743440400@alum.up.edu.ph
SUMMARY:UP Manila College of Public Health Post Graduate Course on Basic Health Promotion
DESCRIPTION:The Department of Health Promotion and Education of UP Manila College of Public Health invites you to the Post Graduate Course on Basic Health Promotion on 25-28 & 31 March 2025. This five-day online short course will cover the essential concepts and strategies in health promotion and education.\n\nFor more info and early registration\, please go to https://bit.ly/HealthPromotion-March2025\n\nSource: College of Public Health\, University of the Philippines Facebook
URL:https://alum.up.edu.ph/event/up-manila-college-of-public-health-post-graduate-course-on-basic-health-promotion-3/
END:VEVENT
BEGIN:VEVENT
DTSTART;VALUE=DATE:20250301
DTEND;VALUE=DATE:20250401
DTSTAMP:20260422T080700
CREATED:20250305T173628Z
LAST-MODIFIED:20250305T173628Z
UID:19536-1740787200-1743465599@alum.up.edu.ph
SUMMARY:UP Mindanao March Activities
DESCRIPTION:March is packed with exciting events and meaningful engagements at UP Mindanao!\n\nFrom academic colloquia and university-wide celebrations to community service initiatives and leadership training\, this month reflects UPMin’s commitment to excellence\, collaboration\, and service. Highlights include University Week (March 3-7)\, CSM\, SOM\, and CHSS Weeks\, the UPMin Alumni Basketball Tournament\, and the Pagkat-on 2025: Leadership Training.\n\nJoin us in making every event a step toward shaping the future together!\n\nSource: University of the Philippines Mindanao Facebook
URL:https://alum.up.edu.ph/event/up-mindanao-march-activities/
END:VEVENT
BEGIN:VEVENT
DTSTART;TZID=UTC:20250317T090000
DTEND;TZID=UTC:20250317T170000
DTSTAMP:20260422T080700
CREATED:20250311T180822Z
LAST-MODIFIED:20250311T180822Z
UID:19584-1742202000-1742230800@alum.up.edu.ph
SUMMARY:Transgender and Gender Non-Conforming (TGNC) Community-Care Salo-Salo
DESCRIPTION:SOBRANG LATINA NAMAN OYCH! 🫵🏻🌸\n\nCalling all munyeka friends 📣📣\n\nArrive na sa ating Transgender and Gender Non-conforming Community-Care Salo-salo\,\,\,\,give namin ang FREE Medical Transition Consultation\, Kumustahan with mga kumars\, and Performance!!! Syempre may LAFANG!!!\n\nMayroon ding versusan?????!!!! True!!! Arrive with your best White and Blue outfit for 1puk!!! 💰💸🤑 Kaya Tito Mars you’re OUT we’re IN 🫣🫣 pazabogggg!!\n\nSama na sa darating na March 17\, 2025 mula 9am hanggang 5pm sa Bulwagang Tandang Sora\, CSWCD\, UP Diliman. Kitakits!!! Please lang che!\n\nFor more chika mag register sa link na ito 👉🏻👉🏻 bit.ly/3QPaGkS\n\nKasama ang mga friends mula sa Office of the Vice Chancellor for Academic Affairs\, UP NSTP\, at HIV and AIDS Support House pasabogzch!!!!\n\nSEE YOU MGA MUNYEKAAA 🫶🏻🫶🏻🫶🏻\n\nSource: UP Diliman Gender Office Facebook
URL:https://alum.up.edu.ph/event/transgender-and-gender-non-conforming-tgnc-community-care-salo-salo/
END:VEVENT
BEGIN:VEVENT
DTSTART;TZID=UTC:20250317T100000
DTEND;TZID=UTC:20250317T110000
DTSTAMP:20260422T080700
CREATED:20250312T220426Z
LAST-MODIFIED:20250312T220426Z
UID:19629-1742205600-1742209200@alum.up.edu.ph
SUMMARY:Principles of Ethical AI: A Framework for Higher Education
DESCRIPTION:Artificial intelligence is transforming the world—but how do we ensure it remains ethical and responsible?\n\nJoin us for #SEARCA’s 49th SOLVE Webinar! Don’t miss this insightful session with Dr. Reinald Adrian Pugoy from the UP Open University (UPOU) as he unpacks the principles of ethical AI—a topic more relevant than ever in today’s digital era!\n\nMark your calendar and be part of the conversation!\n\nRegister now. 🔗 bit.ly/49SOLVE-reg\n\nSource: SEARCA Facebook
URL:https://alum.up.edu.ph/event/principles-of-ethical-ai-a-framework-for-higher-education/
END:VEVENT
BEGIN:VEVENT
DTSTART;TZID=UTC:20250317T100000
DTEND;TZID=UTC:20250317T113000
DTSTAMP:20260422T080700
CREATED:20250312T171211Z
LAST-MODIFIED:20250312T171211Z
UID:19596-1742205600-1742211000@alum.up.edu.ph
SUMMARY:"Balancing Nature and Nurture: Understanding People's Willingness to Conserve the Biodiversity and Ecosystem Services of Lagonoy Natural Biotic Area (LNBA)"
DESCRIPTION:Please join us for IESM@22 Talk Series with Dr. Enrico L. Replan on “Balancing Nature and Nurture: Understanding People’s Willingness to Conserve the Biodiversity and Ecosystem Services of Lagonoy Natural Biotic Area (LNBA)” on March 17\, Monday at 10 AM at the IESM Auditorium (hybrid).\n\nSee you there!\n\nSource: UP-IESM Facebook
URL:https://alum.up.edu.ph/event/balancing-nature-and-nurture-understanding-peoples-willingness-to-conserve-the-biodiversity-and-ecosystem-services-of-lagonoy-natural-biotic-area-lnba/
END:VEVENT
BEGIN:VEVENT
DTSTART;TZID=UTC:20250317T130000
DTEND;TZID=UTC:20250317T160000
DTSTAMP:20260422T080700
CREATED:20250311T174909Z
LAST-MODIFIED:20250311T174909Z
UID:19571-1742216400-1742227200@alum.up.edu.ph
SUMMARY:"#Winnah: Women Taking Space in Architecture\, Heritage Work\, and Tourism"
DESCRIPTION:📢 UPCOMING EVENT 📢\n\nThe UP Asian Institute of Tourism (UP AIT)\, UP College of Architecture (UP CA)\, and UP School of Archaeology (UP SA) invite everyone to participate in “#Winnah: Women Taking Space in Architecture\, Heritage Work\, and Tourism.”\n\n📅 March 17\, 2025 (Monday)\n🕐 1:00 PM – 4:00 PM\n📍 Benito Sy Pow Auditorium\, UP College of Architecture\, E. Delos Santos Street\, University of the Philippines Diliman\, Quezon City\n\nRegister here:\n\nhttps://tinyurl.com/WINNAHMar17\n\nSee you on March 17!\n\nSource: UP Asian Institute of Tourism Facebook
URL:https://alum.up.edu.ph/event/winnah-women-taking-space-in-architecture-heritage-work-and-tourism/
END:VEVENT
BEGIN:VEVENT
DTSTART;TZID=UTC:20250317T140000
DTEND;TZID=UTC:20250317T150000
DTSTAMP:20260422T080700
CREATED:20250313T211953Z
LAST-MODIFIED:20250313T211953Z
UID:19637-1742220000-1742223600@alum.up.edu.ph
SUMMARY:“Looking at Things From Afar”
DESCRIPTION:For the next speaker in the MSI@50 Lecture Series\, collecting data from a distance can help us make the right decisions\, both through remote sensing and by gaining a broader perspective.\n\nDr. Laura T. David’s seminar\, “Looking at things from afar\,” will be held in the MSI AVR on March 17 at 2 PM.\n\nRegister now: bit.ly/MSIat50LS29\n\nSource: UP Marine Science Institute Facebook
URL:https://alum.up.edu.ph/event/looking-at-things-from-afar/
END:VEVENT
BEGIN:VEVENT
DTSTART;TZID=UTC:20250317T140000
DTEND;TZID=UTC:20250317T160000
DTSTAMP:20260422T080700
CREATED:20250312T181425Z
LAST-MODIFIED:20250312T181425Z
UID:19610-1742220000-1742227200@alum.up.edu.ph
SUMMARY:Gurong Pahinungód Talks: Discovering Passion and Purpose
DESCRIPTION:Maanyag na Monday\, Pahinungod volunteers!\n\nDiscover your passion and purpose in your PagPahinungód. Do you have what it takes to become the next changemaker in the lives of underprivileged students?\n\nJoin us on March 17\, 2025\, from 2:00 pm – 4:00 pm for a Special Talk on Gurong Pahinungód by Ms. Megan Kaye Rayala\, GP Coordinator from the UP System Ugnayan ng Pahinungód and a former Gurong Pahinungód.\n\nClick this link to join: https://bit.ly/GPOrientation2025.\n\nThe activity will be available via Zoom and face-to-face.\n\nSource: Ugnayan ng Pahinungod Mindanao Facebook post
URL:https://alum.up.edu.ph/event/gurong-pahinungod-talks-discovering-passion-and-purpose/
END:VEVENT
END:VCALENDAR