BEGIN:VCALENDAR
VERSION:2.0
PRODID:-//UP Alumni Website - ECPv6.15.16//NONSGML v1.0//EN
CALSCALE:GREGORIAN
METHOD:PUBLISH
X-WR-CALNAME:UP Alumni Website
X-ORIGINAL-URL:https://alum.up.edu.ph
X-WR-CALDESC:Events for UP Alumni Website
REFRESH-INTERVAL;VALUE=DURATION:PT1H
X-Robots-Tag:noindex
X-PUBLISHED-TTL:PT1H
BEGIN:VTIMEZONE
TZID:UTC
BEGIN:STANDARD
TZOFFSETFROM:+0000
TZOFFSETTO:+0000
TZNAME:UTC
DTSTART:20240101T000000
END:STANDARD
END:VTIMEZONE
BEGIN:VEVENT
DTSTART;VALUE=DATE:20250201
DTEND;VALUE=DATE:20260101
DTSTAMP:20260422T120746
CREATED:20250213T203449Z
LAST-MODIFIED:20250213T203449Z
UID:19267-1738368000-1767225599@alum.up.edu.ph
SUMMARY:UP Mindanao's 30th Anniversary Year-long Schedule of Activities
DESCRIPTION:LOOK | Year-long Schedule of Activities for UP Mindanao’s 30th Anniversary\n\nJoin us as we celebrate three decades of academic excellence\, research innovation\, and community engagement! UP Mindanao’s 30th Anniversary is packed with exciting activities\, from cultural performances and academic forums to sports events and community outreach programs.\n\nHere’s the full schedule and be part of this milestone celebration! Let’s honor our past\, celebrate our present\, and shape our future together.\n\nSource: University of the Philippines Mindanao Facebook
URL:https://alum.up.edu.ph/event/up-mindanaos-30th-anniversary-year-long-schedule-of-activities/
END:VEVENT
BEGIN:VEVENT
DTSTART;TZID=UTC:20250225T080000
DTEND;TZID=UTC:20250331T170000
DTSTAMP:20260422T120746
CREATED:20250218T205840Z
LAST-MODIFIED:20250218T205840Z
UID:19304-1740470400-1743440400@alum.up.edu.ph
SUMMARY:UP Manila College of Public Health Post Graduate Course on Basic Health Promotion
DESCRIPTION:The Department of Health Promotion and Education of UP Manila College of Public Health invites you to the Post Graduate Course on Basic Health Promotion on 25-28 & 31 March 2025. This five-day online short course will cover the essential concepts and strategies in health promotion and education.\n\nFor more info and early registration\, please go to https://bit.ly/HealthPromotion-March2025\n\nSource: College of Public Health\, University of the Philippines Facebook
URL:https://alum.up.edu.ph/event/up-manila-college-of-public-health-post-graduate-course-on-basic-health-promotion-3/
END:VEVENT
BEGIN:VEVENT
DTSTART;VALUE=DATE:20250301
DTEND;VALUE=DATE:20250401
DTSTAMP:20260422T120746
CREATED:20250305T173628Z
LAST-MODIFIED:20250305T173628Z
UID:19536-1740787200-1743465599@alum.up.edu.ph
SUMMARY:UP Mindanao March Activities
DESCRIPTION:March is packed with exciting events and meaningful engagements at UP Mindanao!\n\nFrom academic colloquia and university-wide celebrations to community service initiatives and leadership training\, this month reflects UPMin’s commitment to excellence\, collaboration\, and service. Highlights include University Week (March 3-7)\, CSM\, SOM\, and CHSS Weeks\, the UPMin Alumni Basketball Tournament\, and the Pagkat-on 2025: Leadership Training.\n\nJoin us in making every event a step toward shaping the future together!\n\nSource: University of the Philippines Mindanao Facebook
URL:https://alum.up.edu.ph/event/up-mindanao-march-activities/
END:VEVENT
BEGIN:VEVENT
DTSTART;VALUE=DATE:20250324
DTEND;VALUE=DATE:20250329
DTSTAMP:20260422T120746
CREATED:20250318T223705Z
LAST-MODIFIED:20250318T223705Z
UID:19665-1742774400-1743206399@alum.up.edu.ph
SUMMARY:“Babae sa Lahat ng Sektor\, Aangat ang Bukas sa Bagong Pilipinas”
DESCRIPTION:As spearheaded by the UP Manila – Museum of a History of Ideas together with the UP Manila Center for Women’s and Gender Studies\, the University of the Philippines Manila joins in the celebration of the National Women’s Month 2025 this March\, with the theme\, “Babae sa Lahat ng Sektor\, Aangat ang Bukas sa Bagong Pilipinas”.\n\nIn line with this\, there will be an exhibit of HerStory from the Philippine Commission on Women\, Women’s Right compack exhibit provided by Presidential Communications Office – Bureau of Communications Services and National Historical Commission of the Philippines’ Tagubilin: The Life and Lesson of Gregoria de Jesus (Oryang@150: The 150th Birth Anniversary of Gregoria de Jesus) in the lobby of the museum.\n\nWe would like to invite everyone to join us on March 24 – 28\, 2025 as we have prepared some exciting and interactive week-long activities. This includes the poster – slogan making contest that will be held in the museum on March 24\, 2025 at 1:00 pm to 3:00 pm.\n\nBelow is the Registration Link for the Poster Making contest:\nhttps://docs.google.com/…/1FAIpQLSeFIAZyFVrfJi…/viewform\n\nThe mechanics of the contest will be posted through the Official Facebook page of the UP Manila – Museum of a History of Ideas.\n\nMabuhay ang mga Kababaihan!\nMabuhay ang Inangbayan!\nSee you there!\n\nSource: University of the Philippines Manila Facebook
URL:https://alum.up.edu.ph/event/babae-sa-lahat-ng-sektor-aangat-ang-bukas-sa-bagong-pilipinas/
END:VEVENT
BEGIN:VEVENT
DTSTART;TZID=UTC:20250324T080000
DTEND;TZID=UTC:20250328T170000
DTSTAMP:20260422T120746
CREATED:20250320T180423Z
LAST-MODIFIED:20250320T180423Z
UID:19746-1742803200-1743181200@alum.up.edu.ph
SUMMARY:UPV Gender and Development Program "People's Bazaar"
DESCRIPTION:In celebration of Women’s Month\, the UPV Gender and Development Program invites everyone to visit the People’s Bazaar on 24-28 March 2025\, 8:00 AM – 5:00 PM at the open area at the back of UPV Main Building\, Iloilo City campus.\n\nThe bazaar will sell and display food products\, clothes\, accessories\, and many more. This will not only highlight local entrepreneurs and artisans but will also support women-led enterprises\, providing them with a platform to showcase their talents and products.\n\nEveryone is encouraged to drop by\, support local entrepreneurs\, and celebrate Women’s Month with us!\n\nSource: UPV Gender and Development Program Facebook
URL:https://alum.up.edu.ph/event/upv-gender-and-development-program-peoples-bazaar/
END:VEVENT
BEGIN:VEVENT
DTSTART;TZID=UTC:20250325T080000
DTEND;TZID=UTC:20250328T170000
DTSTAMP:20260422T120746
CREATED:20250311T175507Z
LAST-MODIFIED:20250311T175507Z
UID:19578-1742889600-1743181200@alum.up.edu.ph
SUMMARY:LAYAG 2025: UP Diliman Study Abroad Fair
DESCRIPTION:The University of the Philippines Diliman Office of International Linkages (OIL Diliman)\, in partnership with the UPD College of Engineering\, officially invites you to LAYAG 2025: UP Diliman Study Abroad Fair\, to be held at the Melchor Hall\, from 25 to 28 March 2025.\nJoin us for informative forums and sessions\, engaging activities\, exclusive merchandise\, and a week full of fun! 🌟\n\nSabay-sabay tayong mag-LAYAG tungo sa ating mga pangarap! ⛵✨\n\nSee you there\, everyone!\n\nSource: Office of International Linkages Diliman – OVCAA\, UP Diliman Facebook
URL:https://alum.up.edu.ph/event/layag-2025-up-diliman-study-abroad-fair/
END:VEVENT
BEGIN:VEVENT
DTSTART;TZID=UTC:20250326T080000
DTEND;TZID=UTC:20250328T170000
DTSTAMP:20260422T120746
CREATED:20250320T171921Z
LAST-MODIFIED:20250320T171921Z
UID:19737-1742976000-1743181200@alum.up.edu.ph
SUMMARY:LocalGov101: An Introduction to Local Governance for Beginners
DESCRIPTION:Curious about how your local government works? 🏛️\n\nThe Center for Local and Regional Governance is inviting everyone to attend LocalGov101: An Introduction to Local Governance for Beginners course on 26–28 March 2025\, via Zoom.\n\nThis online program is OPEN TO ALL — perfect for anyone\, whether you’re a concerned citizen\, an aspiring public servant\, or simply curious about how Philippine local governments shape communities. And the best part? It’s completely FREE\, with an e-certificate upon completion of requirements!\n\nRegister now via localgov.up.edu.ph/2025coursesregistrationform.html or scan the QR code below.\n\nRegistration ends on 21 March 2025.\n\nSource: CLRG – Center for Local and Regional Governance Facebook
URL:https://alum.up.edu.ph/event/localgov101-an-introduction-to-local-governance-for-beginners/
END:VEVENT
BEGIN:VEVENT
DTSTART;TZID=UTC:20250328T083000
DTEND;TZID=UTC:20250328T103000
DTSTAMP:20260422T120747
CREATED:20250325T174329Z
LAST-MODIFIED:20250325T174329Z
UID:19817-1743150600-1743157800@alum.up.edu.ph
SUMMARY:Power UP: Boosting Research Impact with Newly Subscribed Digital Resources
DESCRIPTION:🎮 Boost your Research Skills with Power UP!\n\nJoin us on 28 March 2025 & 04 April 2025 via Zoom to learn more about our newly subscribed e-resources.\nA demonstration led by a database specialist shall also be conducted to better guide you in your research journey.\n\nRegister here ➡️ https://up-edu.zoom.us/…/regi…/D1oEoovQRN6z2zqVZZ4omA… (Please register using your UP Mail)\n\n—\n\nSee comment box section for more details.\n\nSource: The University Library\, UP Diliman Facebook
URL:https://alum.up.edu.ph/event/power-up-boosting-research-impact-with-newly-subscribed-digital-resources/
END:VEVENT
BEGIN:VEVENT
DTSTART;TZID=UTC:20250328T100000
DTEND;TZID=UTC:20250328T113000
DTSTAMP:20260422T120747
CREATED:20250325T220043Z
LAST-MODIFIED:20250325T220043Z
UID:19845-1743156000-1743161400@alum.up.edu.ph
SUMMARY:INKheritage: Women\, Tattoos\, and Cultural Identity in the Cordillera
DESCRIPTION:In celebration of National Women’s Month\, Museo Kordilyera invites you to INKheritage: Women\, Tattoos\, and Cultural Identity in the Cordillera on March 28\, 10 AM\, at the MK Mini-Gallery. This event explores the significance of traditional Cordilleran tattoos in shaping female identity. 🖋️✨\n\nAmmin Acha-ur\, a mambabatok (a tattoo artist who practices traditional tattooing) from Baguio City\, will lead a talk on the historical and cultural meanings of traditional tattoos\, especially for women\, and their evolving role in contemporary society. As a 𝘮𝘢𝘮𝘣𝘢𝘣𝘢𝘵𝘰𝘬\, she carries forward this long-standing tradition\, which has long been a marker of identity. A live demonstration of the traditional tattooing process will follow.\n\nAvail yourselves of books and merchandise related to women\, enjoy “Free Tea” & coffee\, and experience a live serenade during the break!\n\nSee you there! 👋🏼\n\nSource: Museo Kordilyera – UP Baguio Ethnographic Museum Facebook
URL:https://alum.up.edu.ph/event/inkheritage-women-tattoos-and-cultural-identity-in-the-cordillera/
END:VEVENT
BEGIN:VEVENT
DTSTART;TZID=UTC:20250328T100000
DTEND;TZID=UTC:20250328T120000
DTSTAMP:20260422T120747
CREATED:20250319T212027Z
LAST-MODIFIED:20250319T212027Z
UID:19715-1743156000-1743163200@alum.up.edu.ph
SUMMARY:“Transfeminism: Women’s Month 2025 Celebration”
DESCRIPTION:In celebration of Women’s Month\, the Department of Sociology\, in partnership with the UP Diliman Gender Office\, cordially invites you to a compelling talk on Transfeminism. We are honored to host Prof. Jaya Jacobo from the College of Social Work and Community Development as our guest speaker.\n\nJoin us on March 28\, 2025\, at 10:00 AM in the Pilar Herrera Hall. All are welcome to attend!\n\nSource: UP Diliman Department of Sociology Facebook
URL:https://alum.up.edu.ph/event/transfeminism-womens-month-2025-celebration/
END:VEVENT
BEGIN:VEVENT
DTSTART;TZID=UTC:20250328T100000
DTEND;TZID=UTC:20250328T160000
DTSTAMP:20260422T120747
CREATED:20250325T165816Z
LAST-MODIFIED:20250325T165816Z
UID:19810-1743156000-1743177600@alum.up.edu.ph
SUMMARY:Women's Health Caravan 2025
DESCRIPTION:Para sa Kababaihan\, Para sa Lahat—LIBRE AT ABOT KAYA ANG ALAGA! 💜✨\n\nSa Women’s Health Caravan\, may LIBRENG serbisyong pangkalusugan at abot-kayang tests para sa lahat! 💪🏼kasama natin ang friends mula sa Family Planning Organization of the Philippines (FPOP) 👩🏽‍⚕️\n\n✔ Libreng serbisyo: Sexual health consultations\, breast exams\, oral contraceptive pills\, injectables\, condoms\, at lubricants\n✔ Libreng talakayan ukol sa women’s health and family planning\n✔ May maliit na bayad: VIA screening\, pap smear\, at implant insertion/removal\n\n📅 March 28\, 2025\n📍 UP Diliman Gender Office\n⏰ 10:00am – 4:00pm\n\nHuwag palampasin ang pagkakataong ito para alagaan ang iyong kalusugan! Tara\, alamin ang iyong karapatan at magrehistro! 💜\nhttps://bit.ly/WomensHealthCaravan\n\nSource: UP Diliman Gender Office Facebook
URL:https://alum.up.edu.ph/event/womens-health-caravan-2025/
END:VEVENT
BEGIN:VEVENT
DTSTART;TZID=UTC:20250328T103000
DTEND;TZID=UTC:20250413T193000
DTSTAMP:20260422T120747
CREATED:20250325T165247Z
LAST-MODIFIED:20250325T165247Z
UID:19805-1743157800-1744572600@alum.up.edu.ph
SUMMARY:Dulaang UP’s “Mga Anak ng Unos”
DESCRIPTION:#DUPMgaAnakNgUnos: Dalawang dula ng danas sa krisis pangklima\n\nSA GITNA NG DIGMAAN NG MGA MAHIWAGANG NILALANG LABAN SA SANGKATAUHAN\nwritten by Joshua Lim So\nDirection José Estrella\n\nThis play follows the bathalas and other mythological creatures amidst a war waged against humans for destroying the sacred earth. These are not mere moral tales. The narratives illustrate how cultural communities and indigenous peoples have historically navigated the complexities of the earth.\n\nCLIMATE IN CRAZIES\nDevised from David Finnigan’s “Scenes from the Climate Era”\nDirection Issa Manalo Lopez and Tess Jamias\n\nThis play documents the climate crisis as it exists beyond two extremes: an idealized portrayal of nature\, and a grim\, apocalyptic vision. “Climate in Crazies” is a conversation that intersects mythology and scientific data on the climate crisis we now collectively face.\n\nIBG-KAL Theater\nUniversity of the Philippines Diliman\n‼️OPENING THIS WEEK‼️\n\nMarch 28\, April 4\, 11 (7:30 PM)\nMarch 29\, April 5\, 12 (2:30 PM & 7:30 PM)\nMarch 30\, April 6\, 13 (10:30 AM & 2:30 PM)\n\n🎟️ DIRECT PURCHASE: bit.ly/MgaAnakNgUnosTickets \n🎟️ TICKET2ME: ticket2me.net/event/22217\n🎟️ TICKETMELON: ticketmelon.com/dulaang-up/mga-anak-ng-unos\n\nIn partnership with:\nGreenpeace Philippines\n\nMedia partners:\nAgimat\nMANILA BULLETIN\nNews5\nPhilippine Collegian\nPhilippine Star\nSINEGANG.ph\nWhen In Manila\n\nOrganizational partners:\nPhilippine Movement for Climate Justice\nDLSU Harlequin Theatre Guild\nMaroon FM\nProject Kalikhasan\nUP Run Club\nYouth Climate Navigators\nThe Third Space UP Diliman\nPoster Design: Pliny Del Rio\, Jada Bartolome\, Jien Santiago\, Yvette Fornal\n\nSource: Dulaang Unibersidad ng Pilipinas (DUP Official Page) Facebook
URL:https://alum.up.edu.ph/event/dulaang-ups-mga-anak-ng-unos/
END:VEVENT
BEGIN:VEVENT
DTSTART;TZID=UTC:20250328T120000
DTEND;TZID=UTC:20250328T130000
DTSTAMP:20260422T120747
CREATED:20250306T163715Z
LAST-MODIFIED:20250327T140528Z
UID:19558-1743163200-1743166800@alum.up.edu.ph
SUMMARY:Health UPdates Webinar #232 "Bagong Pananaw sa Pag-aaral ng Anatomiya": Innovating Medical Education
DESCRIPTION:The University of the Philippines\,\nin partnership with the UP Manila – National Institutes of Health\,\nand in cooperation with UP Philippine General Hospital and UP College of Medicine\,\nwould like to invite you to attend this webinar! \n  \nRegistration slots are limited to this HEALTH UPDATES webinar\nSo sign up NOW:\nbit.ly/HealthUpdatesWebinar232 \n  \nWebinar #232\nMarch 28\, 2025 (Friday)\, 12:00 noon\nBagong Pananaw sa Pag-aaral ng Anatomiya\nInnovating Medical Education\n\nPresenter:\nDR. FLORIDA F. TALADTAD\nAssociate Professor 2\, Department of Anatomy\nUP College of Medicine\nActive Consultant\, Department of Obstetrics and Gynecology\, Jose B. Lingad Memorial General Hospital\nFellow\, Philippine Infectious Diseases Society for Obstetrics and Gynecology\, Inc.\n\nReactor:\nDR. RAFAEL C. BUNDOC\nFormer Chair\, Department of Anatomy\, UP College of Medicine\nActive Consultant\, Division of Spine Surgery\, Department of Orthopedics\,\nUP – Philippine General Hospital\n\n———————————————————–\n\nWebinar #232\nMarch 28\, 2025 (Friday)\, 12:00 noon\nBagong Pananaw sa Pag-aaral ng Anatomiya\nInnovating Medical Education\n\nIn the dynamic landscape of modern medicine\, a foundational understanding of human anatomy remains paramount. However\, traditional methods of gross anatomy instruction\, often reliant on rote memorization and cadaveric dissection\, may not always align with the evolving needs of contemporary healthcare professionals. In this week’s episode\, we will demystify complex anatomical concepts and provide practical insights that can be immediately applied in clinical practice.\n\nOur esteemed speakers\, who are seasoned anatomy professors with extensive experience in medical education\, will discuss the integration of novel technologies and pedagogical strategies that are revolutionizing the way gross anatomy is taught and learned. We will examine the implementation of virtual reality (VR) and augmented reality (AR) platforms\, which provide immersive and interactive experiences\, allowing for detailed visualization and manipulation of anatomical structures. These technologies bridge the gap between abstract concepts and tangible clinical relevance\, facilitating a deeper understanding of spatial relationships and anatomical variations.\n\nIn addition\, we will explore the utilization of 3D printing in anatomical modeling\, enabling the creation of patient-specific replicas for pre-surgical planning and educational purposes. This approach fosters a more nuanced appreciation for anatomical complexity and its implications for clinical decision-making. We will also discuss the integration of problem-based learning (PBL) and case-based learning (CBL) into the curriculum\, emphasizing the application of anatomical knowledge to real-world clinical scenarios. This methodology encourages critical thinking and enhances the ability to translate anatomical understanding into effective patient care.\n\nAs we continue the celebration of National Women’s Month\, we are putting a spotlight on one of the emerging anatomy professors in the country: Dr. Florida F. Taladtad\, who is an associate professor at the Department of Anatomy of the UP College of Medicine. Our reactor is Dr. Rafael C. Bundoc\, who is a former chairperson of the Department of Anatomy at the UP College of Medicine and is an active consultant of the Division of Spine Surgery\, Department of Orthopedics\, UP – Philippine General Hospital.\n\nJoin us this week so you can be equipped with the tools and knowledge necessary to navigate the complexities of human anatomy with confidence and precision\, ultimately contributing to improved patient outcomes and a deeper appreciation for the human form.
URL:https://alum.up.edu.ph/event/health-updates-webinar-232/
END:VEVENT
BEGIN:VEVENT
DTSTART;TZID=UTC:20250328T130000
DTEND;TZID=UTC:20250328T150000
DTSTAMP:20260422T120747
CREATED:20250319T173502Z
LAST-MODIFIED:20250319T173502Z
UID:19683-1743166800-1743174000@alum.up.edu.ph
SUMMARY:“Dantedì 2025: Why does Dante Continue to be Present in Contemporary Popular Culture?”
DESCRIPTION:DEL-dalan celebrates Dantedì 2025!\n\nIn celebration of Dantedì (Dante Day) 2025\, the Department of European Languages\, in collaboration with the Società Dante Alighieri\, the Philippine Italian Association\, and the UP Piccola Italia\, will organize a seminar to honor Dante Alighieri\, the renowned Italian poet and author of “The Divine Comedy.”\n\nProf. Claudia del Punta from the De La Salle University joins us\, whose talk will highlight why Dante remains an enduring figure in contemporary popular culture\, even centuries after his death.\n\nSee you on Friday\, 28 March 2025\, from 1:00 to 3:00 pm at the CAL AVR!\n\nSource: UPD Department of European Languages Facebook
URL:https://alum.up.edu.ph/event/dantedi-2025-why-does-dante-continue-to-be-present-in-contemporary-popular-culture/
END:VEVENT
BEGIN:VEVENT
DTSTART;TZID=UTC:20250328T130000
DTEND;TZID=UTC:20250328T150000
DTSTAMP:20260422T120747
CREATED:20250325T163201Z
LAST-MODIFIED:20250325T163201Z
UID:19803-1743166800-1743174000@alum.up.edu.ph
SUMMARY:LEXICON UNPACKED: THE MANY WORDS AND WORLDS OF MOTHERHOOD
DESCRIPTION:LEXICON UNPACKED: THE MANY WORDS AND WORLDS OF MOTHERHOOD\n\n28 March 2025 | Friday | 1:00 PM\nPilar Herrera\, Palma Hall\n\nLexicon Unpacked is a lecture series that seeks to unravel the meaning\, usage\, and context of terminologies considered as important for the history and culture of the community that uses them.\n\nFor this installment\, and in celebration of Women’s Month 2025\, the UP Diliman Gender Office and the UP Department of Linguistics present\, “The Many Words and Worlds of Motherhood.”\n\nSpeakers:\nAssoc. Prof. Mary Ann G. Bacolod\nAsst. Prof. Fellow Kyung Min Bae\nAsst. Prof. Fellow Kritsana A. Canilao\nSenior Lecturer Farah C. Cunanan\n\nTune in and continue following our social media pages for more updates!\n\nSource: UP Department of Linguistics Facebook
URL:https://alum.up.edu.ph/event/lexicon-unpacked-the-many-words-and-worlds-of-motherhood/
END:VEVENT
BEGIN:VEVENT
DTSTART;TZID=UTC:20250328T140000
DTEND;TZID=UTC:20250328T170000
DTSTAMP:20260422T120747
CREATED:20250319T212218Z
LAST-MODIFIED:20250319T212218Z
UID:19720-1743170400-1743181200@alum.up.edu.ph
SUMMARY:“Practical Tips in Fire Prevention: Sharing Experiences From a Woman Firefighter”
DESCRIPTION:Makilahok sa panayam na “Practical Tips in Fire Prevention: Sharing Experiences From a Woman Firefighter” na gaganapin sa Marso 28\, Biyernes\, 2–5 n.h.\, sa UP Health Service (UPHS) Public Health Section.\n\nAng panauhing tagapagsalita ay si FO1 Jillie Ann D. Santiago.\n\nIto ay handog ng UPHS\, sa pakikipagtulungan ng UP Community Chest Foundation\, Inc. at ng UP Diliman Gender Office.\n\nSource: UP Diliman Facebook
URL:https://alum.up.edu.ph/event/practical-tips-in-fire-prevention-sharing-experiences-from-a-woman-firefighter/
END:VEVENT
BEGIN:VEVENT
DTSTART;TZID=UTC:20250328T160000
DTEND;TZID=UTC:20250328T170000
DTSTAMP:20260422T120747
CREATED:20250327T172319Z
LAST-MODIFIED:20250327T172319Z
UID:19859-1743177600-1743181200@alum.up.edu.ph
SUMMARY:“How Do Households’ View on Inflation Expectations Affect Their Consumption Decisions?”
DESCRIPTION:Join the seminar “How Do Households’ View on Inflation Expectations Affect Their Consumption Decisions?” tomorrow\, March 28\, 4 p.m.\, at Room 105\, Judith R. Duavit-Vasquez and Class of 1984 Lecture Room\, UP Diliman School of Economics (SE) and via Zoom.\n\nThe resource speaker is Faith Christian Q. Cacnio\, principal researcher at the BSP Research Academy.\n\nTo register\, visit https://tinyurl.com/ybd45zfm (on-site) or https://tinyurl.com/46wpt2ek (via Zoom)\, or scan the QR codes on the poster.\nThe event is organized by the SE and the Philippine Center for Economic Development as part of the “Friday Seminar Series 2025.”\n\nFor inquiries\, email upseresearch.uipd@up.edu.ph.\n\nSource: UP Diliman Facebook
URL:https://alum.up.edu.ph/event/how-do-households-view-on-inflation-expectations-affect-their-consumption-decisions/
END:VEVENT
END:VCALENDAR