BEGIN:VCALENDAR
VERSION:2.0
PRODID:-//UP Alumni Website - ECPv6.15.16//NONSGML v1.0//EN
CALSCALE:GREGORIAN
METHOD:PUBLISH
X-WR-CALNAME:UP Alumni Website
X-ORIGINAL-URL:https://alum.up.edu.ph
X-WR-CALDESC:Events for UP Alumni Website
REFRESH-INTERVAL;VALUE=DURATION:PT1H
X-Robots-Tag:noindex
X-PUBLISHED-TTL:PT1H
BEGIN:VTIMEZONE
TZID:UTC
BEGIN:STANDARD
TZOFFSETFROM:+0000
TZOFFSETTO:+0000
TZNAME:UTC
DTSTART:20240101T000000
END:STANDARD
END:VTIMEZONE
BEGIN:VEVENT
DTSTART;VALUE=DATE:20250201
DTEND;VALUE=DATE:20260101
DTSTAMP:20260425T210707
CREATED:20250213T203449Z
LAST-MODIFIED:20250213T203449Z
UID:19267-1738368000-1767225599@alum.up.edu.ph
SUMMARY:UP Mindanao's 30th Anniversary Year-long Schedule of Activities
DESCRIPTION:LOOK | Year-long Schedule of Activities for UP Mindanao’s 30th Anniversary\n\nJoin us as we celebrate three decades of academic excellence\, research innovation\, and community engagement! UP Mindanao’s 30th Anniversary is packed with exciting activities\, from cultural performances and academic forums to sports events and community outreach programs.\n\nHere’s the full schedule and be part of this milestone celebration! Let’s honor our past\, celebrate our present\, and shape our future together.\n\nSource: University of the Philippines Mindanao Facebook
URL:https://alum.up.edu.ph/event/up-mindanaos-30th-anniversary-year-long-schedule-of-activities/
END:VEVENT
BEGIN:VEVENT
DTSTART;TZID=UTC:20250328T103000
DTEND;TZID=UTC:20250413T193000
DTSTAMP:20260425T210707
CREATED:20250325T165247Z
LAST-MODIFIED:20250325T165247Z
UID:19805-1743157800-1744572600@alum.up.edu.ph
SUMMARY:Dulaang UP’s “Mga Anak ng Unos”
DESCRIPTION:#DUPMgaAnakNgUnos: Dalawang dula ng danas sa krisis pangklima\n\nSA GITNA NG DIGMAAN NG MGA MAHIWAGANG NILALANG LABAN SA SANGKATAUHAN\nwritten by Joshua Lim So\nDirection José Estrella\n\nThis play follows the bathalas and other mythological creatures amidst a war waged against humans for destroying the sacred earth. These are not mere moral tales. The narratives illustrate how cultural communities and indigenous peoples have historically navigated the complexities of the earth.\n\nCLIMATE IN CRAZIES\nDevised from David Finnigan’s “Scenes from the Climate Era”\nDirection Issa Manalo Lopez and Tess Jamias\n\nThis play documents the climate crisis as it exists beyond two extremes: an idealized portrayal of nature\, and a grim\, apocalyptic vision. “Climate in Crazies” is a conversation that intersects mythology and scientific data on the climate crisis we now collectively face.\n\nIBG-KAL Theater\nUniversity of the Philippines Diliman\n‼️OPENING THIS WEEK‼️\n\nMarch 28\, April 4\, 11 (7:30 PM)\nMarch 29\, April 5\, 12 (2:30 PM & 7:30 PM)\nMarch 30\, April 6\, 13 (10:30 AM & 2:30 PM)\n\n🎟️ DIRECT PURCHASE: bit.ly/MgaAnakNgUnosTickets \n🎟️ TICKET2ME: ticket2me.net/event/22217\n🎟️ TICKETMELON: ticketmelon.com/dulaang-up/mga-anak-ng-unos\n\nIn partnership with:\nGreenpeace Philippines\n\nMedia partners:\nAgimat\nMANILA BULLETIN\nNews5\nPhilippine Collegian\nPhilippine Star\nSINEGANG.ph\nWhen In Manila\n\nOrganizational partners:\nPhilippine Movement for Climate Justice\nDLSU Harlequin Theatre Guild\nMaroon FM\nProject Kalikhasan\nUP Run Club\nYouth Climate Navigators\nThe Third Space UP Diliman\nPoster Design: Pliny Del Rio\, Jada Bartolome\, Jien Santiago\, Yvette Fornal\n\nSource: Dulaang Unibersidad ng Pilipinas (DUP Official Page) Facebook
URL:https://alum.up.edu.ph/event/dulaang-ups-mga-anak-ng-unos/
END:VEVENT
BEGIN:VEVENT
DTSTART;TZID=UTC:20250402T080000
DTEND;TZID=UTC:20250403T170000
DTSTAMP:20260425T210707
CREATED:20250401T182445Z
LAST-MODIFIED:20250401T182445Z
UID:19907-1743580800-1743699600@alum.up.edu.ph
SUMMARY:Placemaking Fiesta 2025
DESCRIPTION:🏡 Placemaking Fiesta 2025 🌱\n\nAs part of UP Mindanao’s 30th Anniversary Celebration\, we are proud to host Placemaking Fiesta 2025 on April 2-3\, 2025\, at the UP Mindanao Cultural Center\, Mintal\, Davao City.\n\nOrganized by the BS Architecture Arch161 (Fundamentals of Urban Design and Community Architecture) Class\, this event brings together experts\, students\, professionals and community members from six barangays (Bago Oshiro\, Manambulan\, Mintal\, Mulig\, Sto. Nino\, Tacunan) to participate in fun-filled placemaking activities\, anchored upon collaboration and knowledge-sharing.\n\nDefined as community-led improvement of public spaces\, this year’s Placemaking Fiesta will feature lectures and hands-on workshops on Sustainable Urban Gardening\, Bamboo Construction and Community-Based Bamboo Enterprise\, and Permaculture\, to enhance the communities’ capacity towards sustainable cities and communities (SDG11).\n\nThis event is co-organized by the Office of Extension and Community Service\, Ugnayan ng Pahinungod Mindanao\, and the Department of Architecture – UP Mindanao\, in collaboration with UAP Sinlayan Dabaw\, SKS Interiors\, Inc.\, and the Australia Global Alumni.\n\nSource: Office of Extension and Community Service – UP Mindanao Facebook
URL:https://alum.up.edu.ph/event/placemaking-fiesta-2025/
END:VEVENT
BEGIN:VEVENT
DTSTART;TZID=UTC:20250402T120000
DTEND;TZID=UTC:20250402T130000
DTSTAMP:20260425T210707
CREATED:20250330T213612Z
LAST-MODIFIED:20250330T213612Z
UID:19895-1743595200-1743598800@alum.up.edu.ph
SUMMARY:"Authorship of places in long-form songs of the Tandulan'en Tagbanua and Kalamianen Tagbanua of Northern Palawan"
DESCRIPTION:Why are oral traditions important?\n\nConcluding the three-part series of the UPSA Binalot Talks x UGAT (@ugataghamtao) collaboration\, Eulalo R. Guieb III shares his multi-year research on the “Authorship of places in long-form songs of the Tandulan’en Tagbanua and Kalamianen Tagbanua of Northern Palawan.”\n\nJoin us this Wednesday (2 April 2025) in person at Seminar Rm. 2\, Albert Hall\, UP Diliman or via Zoom through: https://bit.ly/Binalot_2Apr25 from 12nn to 1pm.\n\nSee you there!\n\nWant to invite a friend who is not on FB? Send them this link instead: https://archaeology.upd.edu.ph/calendar\n\nSource: Binalot Talks Facebook
URL:https://alum.up.edu.ph/event/authorship-of-places-in-long-form-songs-of-the-tandulanen-tagbanua-and-kalamianen-tagbanua-of-northern-palawan/
END:VEVENT
BEGIN:VEVENT
DTSTART;TZID=UTC:20250402T140000
DTEND;TZID=UTC:20250402T153000
DTSTAMP:20260425T210707
CREATED:20250330T213350Z
LAST-MODIFIED:20250330T213350Z
UID:19889-1743602400-1743607800@alum.up.edu.ph
SUMMARY:Taiwan’s Regional Environment and Cross-Strait Relations
DESCRIPTION:Taiwan remains a critical flashpoint in Asia\, and its relationship with mainland China is evolving in unprecedented ways. Join us for an insightful exploration of Taiwan’s Regional Environment and Cross-Strait Relations on 2 April 2025\, 2 PM (PHT)at the UP Asian Center Seminar Room.\n\n🔗 Register Now: bit.ly/taiwanstrait\n\nThis lecture will delve into Taiwan’s security concerns\, the current state of cross-strait relations\, and the implications for the Philippines and the region. Don’t miss out on this timely and engaging event!\n\nSource: Asian Center\, UP Diliman Facebook
URL:https://alum.up.edu.ph/event/taiwans-regional-environment-and-cross-strait-relations/
END:VEVENT
END:VCALENDAR