BEGIN:VCALENDAR
VERSION:2.0
PRODID:-//UP Alumni Website - ECPv6.15.16//NONSGML v1.0//EN
CALSCALE:GREGORIAN
METHOD:PUBLISH
X-WR-CALNAME:UP Alumni Website
X-ORIGINAL-URL:https://alum.up.edu.ph
X-WR-CALDESC:Events for UP Alumni Website
REFRESH-INTERVAL;VALUE=DURATION:PT1H
X-Robots-Tag:noindex
X-PUBLISHED-TTL:PT1H
BEGIN:VTIMEZONE
TZID:UTC
BEGIN:STANDARD
TZOFFSETFROM:+0000
TZOFFSETTO:+0000
TZNAME:UTC
DTSTART:20240101T000000
END:STANDARD
END:VTIMEZONE
BEGIN:VEVENT
DTSTART;VALUE=DATE:20250201
DTEND;VALUE=DATE:20260101
DTSTAMP:20260424T135245
CREATED:20250213T203449Z
LAST-MODIFIED:20250213T203449Z
UID:19267-1738368000-1767225599@alum.up.edu.ph
SUMMARY:UP Mindanao's 30th Anniversary Year-long Schedule of Activities
DESCRIPTION:LOOK | Year-long Schedule of Activities for UP Mindanao’s 30th Anniversary\n\nJoin us as we celebrate three decades of academic excellence\, research innovation\, and community engagement! UP Mindanao’s 30th Anniversary is packed with exciting activities\, from cultural performances and academic forums to sports events and community outreach programs.\n\nHere’s the full schedule and be part of this milestone celebration! Let’s honor our past\, celebrate our present\, and shape our future together.\n\nSource: University of the Philippines Mindanao Facebook
URL:https://alum.up.edu.ph/event/up-mindanaos-30th-anniversary-year-long-schedule-of-activities/
END:VEVENT
BEGIN:VEVENT
DTSTART;TZID=UTC:20250328T103000
DTEND;TZID=UTC:20250413T193000
DTSTAMP:20260424T135245
CREATED:20250325T165247Z
LAST-MODIFIED:20250325T165247Z
UID:19805-1743157800-1744572600@alum.up.edu.ph
SUMMARY:Dulaang UP’s “Mga Anak ng Unos”
DESCRIPTION:#DUPMgaAnakNgUnos: Dalawang dula ng danas sa krisis pangklima\n\nSA GITNA NG DIGMAAN NG MGA MAHIWAGANG NILALANG LABAN SA SANGKATAUHAN\nwritten by Joshua Lim So\nDirection José Estrella\n\nThis play follows the bathalas and other mythological creatures amidst a war waged against humans for destroying the sacred earth. These are not mere moral tales. The narratives illustrate how cultural communities and indigenous peoples have historically navigated the complexities of the earth.\n\nCLIMATE IN CRAZIES\nDevised from David Finnigan’s “Scenes from the Climate Era”\nDirection Issa Manalo Lopez and Tess Jamias\n\nThis play documents the climate crisis as it exists beyond two extremes: an idealized portrayal of nature\, and a grim\, apocalyptic vision. “Climate in Crazies” is a conversation that intersects mythology and scientific data on the climate crisis we now collectively face.\n\nIBG-KAL Theater\nUniversity of the Philippines Diliman\n‼️OPENING THIS WEEK‼️\n\nMarch 28\, April 4\, 11 (7:30 PM)\nMarch 29\, April 5\, 12 (2:30 PM & 7:30 PM)\nMarch 30\, April 6\, 13 (10:30 AM & 2:30 PM)\n\n🎟️ DIRECT PURCHASE: bit.ly/MgaAnakNgUnosTickets \n🎟️ TICKET2ME: ticket2me.net/event/22217\n🎟️ TICKETMELON: ticketmelon.com/dulaang-up/mga-anak-ng-unos\n\nIn partnership with:\nGreenpeace Philippines\n\nMedia partners:\nAgimat\nMANILA BULLETIN\nNews5\nPhilippine Collegian\nPhilippine Star\nSINEGANG.ph\nWhen In Manila\n\nOrganizational partners:\nPhilippine Movement for Climate Justice\nDLSU Harlequin Theatre Guild\nMaroon FM\nProject Kalikhasan\nUP Run Club\nYouth Climate Navigators\nThe Third Space UP Diliman\nPoster Design: Pliny Del Rio\, Jada Bartolome\, Jien Santiago\, Yvette Fornal\n\nSource: Dulaang Unibersidad ng Pilipinas (DUP Official Page) Facebook
URL:https://alum.up.edu.ph/event/dulaang-ups-mga-anak-ng-unos/
END:VEVENT
BEGIN:VEVENT
DTSTART;TZID=UTC:20250406T090000
DTEND;TZID=UTC:20250420T160000
DTSTAMP:20260424T135245
CREATED:20250410T213452Z
LAST-MODIFIED:20250410T213452Z
UID:19993-1743930000-1745164800@alum.up.edu.ph
SUMMARY:GUNITA Exhibit
DESCRIPTION:NOW ON VIEW AT PAROLA: GUNITA 🔥\n​\nGunita stands as a profound tribute to the life and career of Rita Badilla-Gudino\, a dedicated figure in Philippine ceramic art. This exhibition offers a rich collection of works that are deeply imbued with both personal and societal symbolism\, each piece reflecting a unique story and meaning. Rita’s ceramics go beyond mere visual artistry; they provoke thought\, inspire interpretation\, and foster a connection with viewers.\n​\nMoreover\, Rita’s influence extends far beyond her personal artistic creations. Through her role as founder of the University of the Philippines College of Fine Arts Ceramic Studio and as a mentor within the Tahanan Pottery Studio community\, she has generously shared her knowledge\, shaping the next generation of ceramic artists. This community she has cultivated\, molded like clay\, has become an integral part of her legacy\, ensuring her lasting impact on the evolution and practice of Philippine ceramic art.\n​\nCatch Gunita at the Atrium of the UP Fine Arts Gallery until April 20\, 2025. 🏺\n​\nFREE AND OPEN TO THE PUBLIC\n​\nWalk-in guests are welcome from Tuesdays to Saturdays\, 9 AM to 4 PM. For inquiries\, email us at cfagallery.upd@up.edu.ph.\n\nSource: UP Fine Arts Gallery Facebook
URL:https://alum.up.edu.ph/event/gunita-exhibit/
END:VEVENT
BEGIN:VEVENT
DTSTART;TZID=UTC:20250407T080000
DTEND;TZID=UTC:20250412T170000
DTSTAMP:20260424T135245
CREATED:20250323T181537Z
LAST-MODIFIED:20250323T181537Z
UID:19785-1744012800-1744477200@alum.up.edu.ph
SUMMARY:77th UP College of Nursing Foundation Week Celebration!
DESCRIPTION:🎉 Be Part of the 77th UP College of Nursing Foundation Week Celebration! 🎉\n\nHello\, UP College of Nursing community! Whether you’re an alum\, student\, faculty\, or friend\, we’re excited to invite you to celebrate 77 years of honor\, service\, and excellence with us!\n\n🗓️ Save the Dates: April 7-12\, 2025\n✨ Theme: “Shaping the Future of Nursing”\n\nREGISTER HERE: https://tinyurl.com/UPCNat77\n\nGet ready for an unforgettable week filled with exciting activities! We’ll kick off with a Mass Celebration and Salu-salo\, followed by a Flag Raising Ceremony to officially open the festivities. Enjoy Student-Led Activities that highlight creativity and camaraderie\, engage in thought-provoking discussions at the Research Forum\, and explore opportunities at the Graduate Program Open House. Take a step back in time with a Museum Tour\, reconnect through Balikturo\, and let loose during Students’ Night. Finally\, we’ll close the celebration on a high note with the much-anticipated Grand Alumni Homecoming.\n\nJoin us as we honor our legacy and shape the future of nursing together! Check out the full schedule in the attached photo. ⬇️\nLet’s come together\, celebrate our roots\, and ignite a brighter future—see you there! 💚❤️\n\nSource: UP College of Nursing Facebook
URL:https://alum.up.edu.ph/event/77th-up-college-of-nursing-foundation-week-celebration/
END:VEVENT
BEGIN:VEVENT
DTSTART;TZID=UTC:20250408T090000
DTEND;TZID=UTC:20250420T160000
DTSTAMP:20260424T135245
CREATED:20250410T212735Z
LAST-MODIFIED:20250410T212735Z
UID:19988-1744102800-1745164800@alum.up.edu.ph
SUMMARY:TOMORROW AT PAROLA: PUTIK AT PAPEL Exhibit
DESCRIPTION:TOMORROW AT PAROLA: PUTIK AT PAPEL 🪴\n​\nIn a society increasingly influenced by foreign cultures\, we often lose sight of our own. The natural beauty of our surroundings is overshadowed by a chaotic concrete landscape\, and traditions that seem outdated are left behind.\n​\nIn Putik at Papel\, the artists aim to reconnect with our cultural roots by drawing inspiration from local folklore and nature. Using soil collected from various regions as a primary medium\, the goal is to present diverse art styles that bring Cordilleran folklore to life. These stories\, often untold or unillustrated\, capture the mystique and depth of our cultural heritage.\n​\nIn a society increasingly influenced by foreign cultures\, we often lose sight of our own. The natural beauty of our surroundings is overshadowed by a chaotic concrete landscape\, and traditions that seem outdated are left behind an integral part of the earth and calls for a reconnection to these ancient ties.\n​\nPutik at Papel opens tomorrow at the Multipurpose Hall at 3 PM. The exhibit will run until April 20\, 2025.\n​\nFREE AND OPEN TO THE PUBLIC\n​\nWalk-in guests are welcome from Tuesdays to Saturdays\, 9 AM to 4 PM. For inquiries\, email us at cfagallery.upd@up.edu.ph.\n​\nSee you!\n\nSource: UP Fine Arts Gallery Facebook
URL:https://alum.up.edu.ph/event/tomorrow-at-parola-putik-at-papel-exhibit/
END:VEVENT
BEGIN:VEVENT
DTSTART;TZID=UTC:20250408T090000
DTEND;TZID=UTC:20250428T160000
DTSTAMP:20260424T135245
CREATED:20250409T162846Z
LAST-MODIFIED:20250409T162846Z
UID:19964-1744102800-1745856000@alum.up.edu.ph
SUMMARY:“If/Then 2.0”
DESCRIPTION:IF/THEN IS BACK AT PAROLA! ⚙️\n⁣\nIf/Then 2.0 features recent outstanding student works produced in electronic art electives offered by the UP College of Fine Arts. Now on its second iteration\, this year’s exhibition highlights creative mechanics\, programming\, and electronics.\n⁣\nThrough a variety of disciplines that include software development\, circuit design\, digital fabrication\, and mechatronics\, the featured projects survey the creative potential of such technologies in exploring design\, sound art\, interactive art\, and other emerging art practices.\n⁣\nIf/Then 2.0 opens this Tuesday\, April 8\, at 5 PM. The exhibit will be on view at Gallery One from April 8 to 28\, 2025.\n⁣\nFREE AND OPEN TO THE PUBLIC\n⁣\nWalk-in guests are welcome from Tuesdays to Saturdays\, 9 AM to 4 PM. For inquiries\, email us at cfagallery.upd@up.edu.ph.\n⁣\nSee you!\n\nSource: UP Fine Arts Gallery Facebook
URL:https://alum.up.edu.ph/event/if-then-2-0/
END:VEVENT
BEGIN:VEVENT
DTSTART;TZID=UTC:20250411T080000
DTEND;TZID=UTC:20250411T120000
DTSTAMP:20260424T135245
CREATED:20250409T222713Z
LAST-MODIFIED:20250409T222713Z
UID:19978-1744358400-1744372800@alum.up.edu.ph
SUMMARY:UP Mindanao Stress Management Lecture and Consultation
DESCRIPTION:LOOK | The University\, through the joint efforts of HRDO\, OSA\, and TTBDO\, invites everyone to a Stress Management Lecture and Consultation on April 11\, 2025\, from 8:00 AM to 12:00 NN at CHSS Mini Theater and AVR.\n\nThis half-day event aims to promote mental wellness by providing participants with practical strategies to manage stress\, along with opportunities for personal consultation and mental health screening.\n\nThe consultation highlights Bone Screening\, Mental\, and Neuro Testing.\n\nRegister here: https://forms.gle/KqQUV7qSbypZ1qXT7. Take note that you will undergo self assessment when u register for the event.\n\nTake this opportunity to pause\, reflect\, and prioritize your well-being—we look forward to seeing you there.\n\nSource: University of the Philippines Mindanao Facebook
URL:https://alum.up.edu.ph/event/up-mindanao-stress-management-lecture-and-consultation/
END:VEVENT
BEGIN:VEVENT
DTSTART;TZID=UTC:20250411T090000
DTEND;TZID=UTC:20250411T163000
DTSTAMP:20260424T135245
CREATED:20250302T223805Z
LAST-MODIFIED:20250302T223805Z
UID:19499-1744362000-1744389000@alum.up.edu.ph
SUMMARY:3rd SOLAIR Job Fair!
DESCRIPTION:🚀 Get Hired at the 3rd SOLAIR Job Fair! 🌟\n\nLooking for your next career move? Meet top employers\, explore job opportunities\, and expand your network at Isabelo de los Reyes Auditorium on April 11\, 2025!\n\n📌 Job seekers: Register now! https://tinyurl.com/SOLAIRjobfair3 or scan the QR code\n📌 Companies & partners: Email cipc.upd@up.edu.ph to join.\n\nRead more: https://solair.upd.edu.ph/get-hired/\n\nSource: UP School of Labor and Industrial Relations Facebook
URL:https://alum.up.edu.ph/event/3rd-solair-job-fair/
END:VEVENT
BEGIN:VEVENT
DTSTART;TZID=UTC:20250411T120000
DTEND;TZID=UTC:20250411T130000
DTSTAMP:20260424T135245
CREATED:20250403T153114Z
LAST-MODIFIED:20250410T163914Z
UID:19922-1744372800-1744376400@alum.up.edu.ph
SUMMARY:Health UPdates Webinar #234  Self-Regulated Learning: "Paano Makapasa ng Medical Board Exams Bilang Lifelong Learner?"
DESCRIPTION:The University of the Philippines\,\nin partnership with the UP Manila – National Institutes of Health\,\nand in cooperation with UP Philippine General Hospital and UP College of Medicine\,\nwould like to invite you to attend this webinar! \n  \nRegistration slots are limited to this HEALTH UPDATES webinar\nSo sign up NOW:\nbit.ly/HealthUpdatesWebinar234 \n  \nWebinar #234\nApril 11\, 2025 (Friday)\, 12:00 noon\nSelf-Regulated Learning\nPaano Makapasa ng Medical Board Exams Bilang Lifelong Learner?\n\nPresenter:\nDR. ENRICO PAOLO C. BANZUELA\nAssociate Professor II and Unit Head\, Curriculum and Instructions\, Office of Medical Education\nSan Beda University – College of Medicine\nFellow and Past President\, Philippine Society of Physiologists\nPhysiology Teacher\, Topnotch Medical Board Prep\n\nReactor:\nDR. MANUEL S. VIDAL\, Jr.\nAssociate Faculty\nSan Beda University – College of Medicine\n\n———————————————————–\n\nWebinar #234\nApril 11\, 2025 (Friday)\, 12:00 noon\nSelf-Regulated Learning\nPaano Makapasa ng Medical Board Exams Bilang Lifelong Learner?\n\nThis week’s episode is designed to equip a diverse cohort of healthcare professionals and aspiring practitioners with the essential strategies and insights for excelling in medical board examinations\, and even informed lay individuals interested in understanding the rigorous standards of medical qualification.\n\nDrawing upon evidence-based learning methodologies and a wealth of practical experience\, we will discuss the multifaceted aspects of examination preparation. We will elucidate effective study techniques grounded in cognitive science\, including spaced repetition\, active recall\, and the strategic utilization of mnemonics to optimize knowledge retention and retrieval under high-pressure conditions. Participants will gain invaluable insights into time management strategies crucial for navigating the extensive curriculum and the demanding examination format. In addition\, we will dissect common examination pitfalls and provide actionable strategies to mitigate these challenges\, fostering a confident and strategic approach to test-taking.\n\nBeyond the cognitive domain\, this webinar will also address the critical role of psychological preparedness. We will explore evidence-based stress management techniques\, including mindfulness and relaxation exercises\, to help participants maintain optimal mental acuity and emotional resilience throughout their preparation and during the examination itself. We will also underscore the importance of building a robust support network and fostering a mindset of perseverance and self-efficacy.\n\nOur main speaker this week is Dr. Enrico Paolo C. Banzuela\, who is Associate Professor II and Unit Head for Curriculum and Instructions of the Office of Medical Education\, San Beda University – College of Medicine. Our reactor is Dr. Manuel S. Vidal\, Jr.\, an MD-PhD holder and is currently an Associate Faculty at the San Beda University – College of Medicine. They will share their personal journeys and provide invaluable firsthand advice\, offering practical tips and insider perspectives on navigating the examination process.\n\nJoin us this week as we aim to empower you to approach the medical board exams with confidence\, competence\, and a clear pathway to success by integrating rigorous academic preparation with effective test-taking strategies and robust psychological support.
URL:https://alum.up.edu.ph/event/health-updates-webinar-234/
END:VEVENT
BEGIN:VEVENT
DTSTART;TZID=UTC:20250411T160000
DTEND;TZID=UTC:20250411T173000
DTSTAMP:20260424T135245
CREATED:20250410T213057Z
LAST-MODIFIED:20250410T213057Z
UID:19991-1744387200-1744392600@alum.up.edu.ph
SUMMARY:"Grim Trigger Auctions in Repeated Procurement for Medicines"
DESCRIPTION:HAPPENING THIS FRIDAY\, April 11!\n\nDon’t miss the seminar\, “Grim Trigger Auctions in Repeated Procurement for Medicines\,”\nand discover how bid caps based on past prices can lower costs—but may also risk failed auctions.\n\nRegister now:\nOnsite: https://bit.ly/4iURa2T\nZoom: https://bit.ly/4ciYPFK\n\nSource: UP School of Economics Facebook
URL:https://alum.up.edu.ph/event/grim-trigger-auctions-in-repeated-procurement-for-medicines/
END:VEVENT
BEGIN:VEVENT
DTSTART;TZID=UTC:20250411T180000
DTEND;TZID=UTC:20250411T193000
DTSTAMP:20260424T135245
CREATED:20250409T160016Z
LAST-MODIFIED:20250409T160016Z
UID:19956-1744394400-1744399800@alum.up.edu.ph
SUMMARY:“Ang Pagputok ng Bulkang Pinatubo sa Sining Kapampangan”
DESCRIPTION:Inaanyayahan ang lahat na dumalo sa panayam ni JC Gaillard\, propesor ng Heograpiya mula sa The University of Auckland\, New Zealand. Gaganapin ito sa Ika-11 ng Abril 2025 (Biyernes)\, 6:00–7:30 ng gabi sa PAV 2 Geography Conference Room (Room 2246-2248)\, UP Diliman.\n\nTatalakayin niya ang paksa na “Ang Pagputok ng Bulkang Pinatubo sa Sining Kapampangan”\, isang pagninilay sa sakuna gamit ang lente ng kultura at sining ng mga Kapampangan.\n\nMakakasama rin sa programa sina Dr. Emmanuel Luna ng Philippine Academic Society for Climate and Disaster Resilience at Dr. Ramon “Bomen” Guillermo ng UP Center for International Studies bilang mga reactor.\n\nAng panayam ay bahagi ng mga inisyatibo ng UP Department of Geography at ng iba pang katuwang na programa at organisasyon. Bukas po ito sa lahat ng estudyante\, guro\, at lahat ng interesado.\n\nTara’t makinig at makibahagi sa makabuluhang talakayan!\n\nSource: UP Department of Geography Facebook
URL:https://alum.up.edu.ph/event/ang-pagputok-ng-bulkang-pinatubo-sa-sining-kapampangan/
END:VEVENT
BEGIN:VEVENT
DTSTART;TZID=UTC:20250411T180000
DTEND;TZID=UTC:20250411T200000
DTSTAMP:20260424T135245
CREATED:20250225T164142Z
LAST-MODIFIED:20250225T164142Z
UID:19417-1744394400-1744401600@alum.up.edu.ph
SUMMARY:By Her Hand: A Concert Celebrating Music by Women
DESCRIPTION:By Her Hand: A Concert Celebrating Music by Women\nfeaturing the UP Symphony Orchestra\n\n📅 11 April 2025 (Friday)\, 6pm\n📍 UP Theater\, UP Diliman\n🎟️ http://bit.ly/upsobhhpresell\n\nEarly Bird tickets available with special Arts Month discount (50% off)!\n\nPre-selling tickets priced at Php 750 and Php 400. Reserve your seats today at http://bit.ly/upsobhhpresell\n\nSee you there!!\n\nSource: UP Symphony Orchestra Facebook
URL:https://alum.up.edu.ph/event/by-her-hand-a-concert-celebrating-music-by-women/
END:VEVENT
BEGIN:VEVENT
DTSTART;TZID=UTC:20250411T180000
DTEND;TZID=UTC:20250411T235900
DTSTAMP:20260424T135245
CREATED:20250401T190053Z
LAST-MODIFIED:20250401T190053Z
UID:19912-1744394400-1744415940@alum.up.edu.ph
SUMMARY:Sari-Sari 2025: Pagpadayag sa Musikang Mindanaoan
DESCRIPTION:UP Mindanao AMPLI Presents…\nSari-Sari 2025:\nPagpadayag sa Musikang Mindanaoan 🎶\nA music festival in celebration of UP Mindanao’s 30th Anniversary ✨\n\n📅 Date: April 11\, 2025\n🕕 Time: 6:00 PM – 11:59 PM\n📍 Venue: University Grounds\, UP Mindanao\n🎟️ Registration Fee: FREE! (Open to outsiders as well!)\n\n🎤 Performances by:\nYano • Precal Dropouts • Cerise • Kuntaw Mindanao • Anne Mendoza • RJ Manulid • Wardy Puyod • The Variables • DEKODA • Tala-Hori • Tones and Values • Rey Marvin Rizal\n\n⬇️ Pre-register here for a hassle-free registration at the event:\nhttps://bit.ly/SS25Pre-Registration\n\nSee you there! 🤩🙌🏻\n\n🌟 Co-Presented by:\nHolodeck Productions (Co-organizer)\nAfterDreams (Co-organizer)\nUP Beta Sigma Fraternity – UP Mindanao Chapter\nUP Sigma Beta Sorority – UP Mindanao Chapter\n\n💫 In Partnership with:\nKappa Epsilon Fraternity and Sorority – UP Mindanao Chapter\nUP Mindanao Agipo\nHimati\n\n✨ Special Thanks to:\nUP Legal Studies Society\nSociety of Math Majors – UP Mindanao\nUP Literary Society\nDUGONG-Antro\nUP Community of Data Experts\nUP Mindanao CSM Student Council\nUP Mindanao School of Management Student Council\nUP Mindanao College of Humanities and Social Sciences\nUP Mindanao University Student Council\n\nSource: Sari-Sari 2025 Facebook
URL:https://alum.up.edu.ph/event/sari-sari-2025-pagpadayag-sa-musikang-mindanaoan/
END:VEVENT
END:VCALENDAR