BEGIN:VCALENDAR
VERSION:2.0
PRODID:-//UP Alumni Website - ECPv6.15.16//NONSGML v1.0//EN
CALSCALE:GREGORIAN
METHOD:PUBLISH
X-WR-CALNAME:UP Alumni Website
X-ORIGINAL-URL:https://alum.up.edu.ph
X-WR-CALDESC:Events for UP Alumni Website
REFRESH-INTERVAL;VALUE=DURATION:PT1H
X-Robots-Tag:noindex
X-PUBLISHED-TTL:PT1H
BEGIN:VTIMEZONE
TZID:UTC
BEGIN:STANDARD
TZOFFSETFROM:+0000
TZOFFSETTO:+0000
TZNAME:UTC
DTSTART:20240101T000000
END:STANDARD
END:VTIMEZONE
BEGIN:VEVENT
DTSTART;VALUE=DATE:20250201
DTEND;VALUE=DATE:20260101
DTSTAMP:20260424T053611
CREATED:20250213T203449Z
LAST-MODIFIED:20250213T203449Z
UID:19267-1738368000-1767225599@alum.up.edu.ph
SUMMARY:UP Mindanao's 30th Anniversary Year-long Schedule of Activities
DESCRIPTION:LOOK | Year-long Schedule of Activities for UP Mindanao’s 30th Anniversary\n\nJoin us as we celebrate three decades of academic excellence\, research innovation\, and community engagement! UP Mindanao’s 30th Anniversary is packed with exciting activities\, from cultural performances and academic forums to sports events and community outreach programs.\n\nHere’s the full schedule and be part of this milestone celebration! Let’s honor our past\, celebrate our present\, and shape our future together.\n\nSource: University of the Philippines Mindanao Facebook
URL:https://alum.up.edu.ph/event/up-mindanaos-30th-anniversary-year-long-schedule-of-activities/
END:VEVENT
BEGIN:VEVENT
DTSTART;TZID=UTC:20250408T090000
DTEND;TZID=UTC:20250428T160000
DTSTAMP:20260424T053611
CREATED:20250409T162846Z
LAST-MODIFIED:20250409T162846Z
UID:19964-1744102800-1745856000@alum.up.edu.ph
SUMMARY:“If/Then 2.0”
DESCRIPTION:IF/THEN IS BACK AT PAROLA! ⚙️\n⁣\nIf/Then 2.0 features recent outstanding student works produced in electronic art electives offered by the UP College of Fine Arts. Now on its second iteration\, this year’s exhibition highlights creative mechanics\, programming\, and electronics.\n⁣\nThrough a variety of disciplines that include software development\, circuit design\, digital fabrication\, and mechatronics\, the featured projects survey the creative potential of such technologies in exploring design\, sound art\, interactive art\, and other emerging art practices.\n⁣\nIf/Then 2.0 opens this Tuesday\, April 8\, at 5 PM. The exhibit will be on view at Gallery One from April 8 to 28\, 2025.\n⁣\nFREE AND OPEN TO THE PUBLIC\n⁣\nWalk-in guests are welcome from Tuesdays to Saturdays\, 9 AM to 4 PM. For inquiries\, email us at cfagallery.upd@up.edu.ph.\n⁣\nSee you!\n\nSource: UP Fine Arts Gallery Facebook
URL:https://alum.up.edu.ph/event/if-then-2-0/
END:VEVENT
BEGIN:VEVENT
DTSTART;TZID=UTC:20250422T080000
DTEND;TZID=UTC:20250424T170000
DTSTAMP:20260424T053611
CREATED:20250409T161824Z
LAST-MODIFIED:20250409T161824Z
UID:19957-1745308800-1745514000@alum.up.edu.ph
SUMMARY:Participatory Project Development and Management Training
DESCRIPTION:Don’t miss the chance to catch our esteemed Professor Emeritus\, Former Dean Amaryllis Torres and Senior Lecturer Ms. Lody Espenido at the Participatory Project Development and Management Training on 22 to 24 April 2025!\n\nThe registration fee per participant is PhP 12\,000. The three-day training is inclusive of materials\, meals (lunch and snacks)\, and certificate. Please note that these trainings will be conducted on-site.\n\nTo register\, scan the QR Code below or visit this link: https://bit.ly/2025PPDM\n\nFor inquiries\, kindly send an email to redo_cswcd.updiliman@up.edu.ph\n\nKitakits! ❤
URL:https://alum.up.edu.ph/event/participatory-project-development-and-management-training/
END:VEVENT
BEGIN:VEVENT
DTSTART;VALUE=DATE:20250423
DTEND;VALUE=DATE:20250501
DTSTAMP:20260424T053611
CREATED:20250422T221809Z
LAST-MODIFIED:20250422T221809Z
UID:20061-1745366400-1746057599@alum.up.edu.ph
SUMMARY:UP Tacloban Humanities Fair
DESCRIPTION:The Division of Humanities invites the UP Tacloban community to the Humanities Fair to be held from 23 to 30 April 2025 at the Humanities Laboratory\, UP Tacloban College.\n\nThe fair features a series of activities:\n23 April – Opening of the Humanities Fair: book & zine fair\, film showings\, poetry reading\, inauguration of the Humanities Laboratory\n28-30 April – R|E|A|D|I|N|G Literary Explorations Exhibit by Arts 1 classes\, scheduled film showings\n30 April – Booklad – Launching of Buklad: A Reading Community (talks and readings)\, garden soiree\, performances\n\nThe six-day fair is the culmination of UP Tacloban College’s National Literature Month celebration.\nPagbasa\, pagkita\, pamati\, ngan pagrisyo kita!\n\nPubmat by Zarene Gacusan\, Gabrielle Bibay\, Zyra Gaviola\n\nSource: UP Tacloban College – Division of Humanities Facebook
URL:https://alum.up.edu.ph/event/up-tacloban-humanities-fair/
END:VEVENT
BEGIN:VEVENT
DTSTART;TZID=UTC:20250423T090000
DTEND;TZID=UTC:20250429T160000
DTSTAMP:20260424T053611
CREATED:20250422T181059Z
LAST-MODIFIED:20250422T181059Z
UID:20048-1745398800-1745942400@alum.up.edu.ph
SUMMARY:"Linggo ng Paggawa: Isang Pagtanaw sa Kalagayan at Hinaharap ng Manggagawa"
DESCRIPTION:Bilang bahagi ng papalapit na komemorasyon ng Araw ng Paggawa\, inihahandog ng Research and Extension for Development Office (REDO)\, Solidarity of Asia Trade Unions Foundation\, Alliance of Contractual Employees in UP\, UP CSWCD Student Council\, Philippine Labor Movement Archive at Mayday ang isang exhibit-forum na may temang “Linggo ng Paggawa: Isang Pagtanaw sa Kalagayan at Hinaharap ng Manggagawa” ngayong Abril 23-29 sa CSWCD\, UP Diliman.\n\nAbangan ang Public Forum sa Abril 29\, 9:00-11:00 n.u.\, sa Bulwagang Tandang Sora. Pangunahing tagapagsalita sa araw na ito ang mga manggagawa mula sa Nexperia\, Samahan ng Nagkakaisang Gwardiya at ACE UP.\n\nMagkita-kita po tayo.\n\nSource: College of Social Work and Community Development Facebook
URL:https://alum.up.edu.ph/event/linggo-ng-paggawa-isang-pagtanaw-sa-kalagayan-at-hinaharap-ng-manggagawa/
END:VEVENT
BEGIN:VEVENT
DTSTART;TZID=UTC:20250424T080000
DTEND;TZID=UTC:20250426T170000
DTSTAMP:20260424T053611
CREATED:20250319T170710Z
LAST-MODIFIED:20250319T170710Z
UID:19672-1745481600-1745686800@alum.up.edu.ph
SUMMARY:2025 UPD-CSSP Extramural Training Seminar for Social Science Teachers
DESCRIPTION:Sign-up na sa The Essentials of Language Documentation in the Philippines ng UP Department of Linguistics!\n\nThis workshop equips those interested in the scientific study of language with the necessary workflows\, skills\, and concepts needed in language documentation in the Philippines.\n\nKita-kits sa 24-26 April 2025 sa UP Diliman para sa UP College of Social Sciences and Philosophy Extramural Training Seminar for Social Sciences Teachers! Register na!\n\nhttps://bit.ly/CSSPEx2025Registration\n\nSource: CSSP Extramural Training Seminar for Social Science Teachers Facebook
URL:https://alum.up.edu.ph/event/2025-upd-cssp-extramural-training-seminar-for-social-science-teachers/
END:VEVENT
BEGIN:VEVENT
DTSTART;TZID=UTC:20250424T080000
DTEND;TZID=UTC:20250426T170000
DTSTAMP:20260424T053611
CREATED:20250319T210759Z
LAST-MODIFIED:20250319T210759Z
UID:19705-1745481600-1745686800@alum.up.edu.ph
SUMMARY:Open-Source Mobile Data Collection and Mapping
DESCRIPTION:Sign-up na sa Open-Source Mobile Data Collection and Mapping ng UP Department of Geography!\n\nThis workshop introduces participants to the fundamentals of open-source mobile data collection and mapping using user-friendly tools. Participants will learn how to design online questionnaires or digital forms\, gather location-based data in real time or offline\, and visualize their results on intuitive map platforms.\n\nBy the end of the workshop\, they will be equipped with practical skills to plan\, implement\, and analyze data-driven projects with greater efficiency. Participants who are mostly secondary school teachers can also adapt these methods for teaching and research activities.\n\nKita-kits sa 24-26 April 2025 sa UP Diliman! Register na!\nhttps://bit.ly/CSSPEx2025Registration\n\nSource: CSSP Extramural Training Seminar for Social Science Teachers Facebook
URL:https://alum.up.edu.ph/event/open-source-mobile-data-collection-and-mapping/
END:VEVENT
BEGIN:VEVENT
DTSTART;TZID=UTC:20250424T150000
DTEND;TZID=UTC:20250424T170000
DTSTAMP:20260424T053611
CREATED:20250421T181415Z
LAST-MODIFIED:20250421T181415Z
UID:20027-1745506800-1745514000@alum.up.edu.ph
SUMMARY:Asia Under Pressure: Trump’s Economic Policies & Asian Economies
DESCRIPTION:🌏 Asia Under Pressure: Trump’s Economic Policies & Asian Economies\nHow will Trump’s new tariffs shake up Asia? Join experts as they unpack the impact on ASEAN\, China\, and the Philippines in this timely roundtable hosted by the UP Asian Center.\n\n📅 April 24\, 2025 | 3:00 PM PHT\n📍 Online via Zoom | Free & Open to All\n🔗 Register now: bit.ly/pressuredasia\n\nSource: Asian Center\, UP Diliman Facebook
URL:https://alum.up.edu.ph/event/asia-under-pressure-trumps-economic-policies-asian-economies/
END:VEVENT
BEGIN:VEVENT
DTSTART;TZID=UTC:20250424T150000
DTEND;TZID=UTC:20250424T180000
DTSTAMP:20260424T053611
CREATED:20250422T171247Z
LAST-MODIFIED:20250422T171247Z
UID:20037-1745506800-1745517600@alum.up.edu.ph
SUMMARY:"Kontra-Tiyempo: Babae\, Panitikan\, Bayan"
DESCRIPTION:📖 KONTRA-TIYEMPO: BABAE\, PANITIKAN\, BAYAN 📖\n\nTatlo sa pinakamahuhusay at pinakamatatapang na babaeng manunulat sa Pilipinas\, magkukuwentuhan! Inihahandog ng Larangan ng Panitikan\, UP Departamento ng Filipino at Panitikan ng Pilipinas ang “Kontra-Tiyempo: Babae\, Panitikan\, Bayan.”\n\nMakipagkuwentuhan tayo kina Luna Sicat Cleto\, Ninotchka Rosca\, at Mia Tijam ngayong Abril 24 (Huwebes)\, 3:00 n.h.-6:00 n.g. sa Palma Hall Pavillion 1131. Bukod sa bahaginan\, may book sale ding magaganap sa araw na ito hatid ng University of the Philippines Press at Anvil Publishing. Maaari pang makapagpapirma ng libro at makapagpalitrato sa mga tampok na manunulat.\n\nKung nahulaan niyo rin ang may-akda ng mga ipinaskil na sipi\, matatanggap ninyo sa mismong araw ng programa ang premyo na handog ng Likhaan: University of the Philippines Institute of Creative Writing.\n\nTara na’t dumalo at magpadalo!\n\nSource: UP Departamento ng Filipino at Panitikan ng Pilipinas Facebook
URL:https://alum.up.edu.ph/event/kontra-tiyempo-babae-panitikan-bayan/
END:VEVENT
BEGIN:VEVENT
DTSTART;TZID=UTC:20250424T160000
DTEND;TZID=UTC:20250424T180000
DTSTAMP:20260424T053611
CREATED:20250409T164954Z
LAST-MODIFIED:20250409T164954Z
UID:19965-1745510400-1745517600@alum.up.edu.ph
SUMMARY:Resilience Live (17th episode)
DESCRIPTION:How does transportation impact climate change adaptation and mitigation?\n\nFind out in the 17th episode of Resilience Live\, featuring Mr. Geo Esguerra\, University Extension Specialist at the UP National Center for Transportation Studies.\n\n📌 Topic: Roads to Resilience: Transit-Oriented Climate Change Adaptation and Mitigation\n📅 Date: 24 April 2025 (Thursday)\n🕓 Time: 4:00 PM (UTC+8)\n💻 Platform: Zoom\n🔗 Register now: https://up-edu.zoom.us/…/register/jNlpA9fQT2SCimlJuh46UQ \n\nThis event is brought to you in partnership with UPLB-Interdisciplinary Studies Center for INREM\, BASC- Association of Geodetic Engineering Students\, Ateneo Institute of Sustainability – AIS\, Youth Advocates for Climate Action Philippines\, and Geographic Society of the University of the Philippines (UP GeogSoc).\n\nSource: UP Resilience Institute Facebook
URL:https://alum.up.edu.ph/event/resilience-live-17th-episode/
END:VEVENT
BEGIN:VEVENT
DTSTART;TZID=UTC:20250424T163000
DTEND;TZID=UTC:20250424T183000
DTSTAMP:20260424T053611
CREATED:20250409T162232Z
LAST-MODIFIED:20250409T162232Z
UID:19963-1745512200-1745519400@alum.up.edu.ph
SUMMARY:Namumulitika? O Kung Paano Pag-Aralan ang Pakikilahok sa Pulitika
DESCRIPTION:“Mamamayan lang naman ako. Aanhin ko ba ang politika na ‘yan?” Kung iisipin natin\, mahalaga ang gampanin natin bilang mga Pilipino sa pamamahala ng ating bansa. Tayo ang pumipili kung sino ang ihahalal sa pwesto\, at sa atin din ang balik ng mga polisiyang binubuo ng mga politiko (gusto man natin o hindi). Dapat lang talaga na nasasalamin ang ating mga saloobin at pangangailangan sa bawat desisyon na ginagawa ng pamahalaan.\n\nKaya layunin ng talakayan na ito na sagutin: Sino ba naman tayo para lumahok sa politika? Bakit at paano tayo lumalahok? Anong mapapala natin kung tayo ay sasabak o iiwas na lang? Pwede bang mag-isa o sama-sama? Kailangan bang buong sarili ang ibigay\, o pwede na ang “pwede na”?\n\nSamahan niyo kami sa Asuncion Miteria Austria Professorial Chair Lecture ni Dr. Francis Simonh M. Bries sa 24 Abril 2025 (Huwebes)\, 4:30 n.h. – 6:30 n.g.\, sa Lagmay Hall Room 304\, UP Diliman. Ito ay libre at bukas sa lahat. Tara na at mamulitika!\n\nMagpatala dito: https://bit.ly/AMAPolitika\n\n***\n\n“I’m just a citizen. What does politics have to do with me?” If we think about it\, us Filipinos play an important role in how our country is governed. We choose who are elected into positions\, and all policies created by politicians affect us (whether we like it or not). It is then only fair that our sentiments and needs are reflected in every decision made by our government.\n\nThat is why this discussion aims to answer: Who are we to be involved in politics? Why and how do we engage in it? What do we get when we participate or disengage? Can we participate alone or together? Do we have to commit completely\, or is doing just enough okay?\n\nJoin us for the Asuncion Miteria Austria Professorial Chair Lecture of Dr. Francis Simonh M. Bries this 24 April 2025 (Thursday)\, 4:30 – 6:30 pm\, Lagmay Hall Room 304\, UP Diliman. This event is free and open to all. Get involved and get political!\n\nRegister here: https://bit.ly/AMAPolitika\n\nSource: University of the Philippines\, Department of Psychology Facebook
URL:https://alum.up.edu.ph/event/namumulitika-o-kung-paano-pag-aralan-ang-pakikilahok-sa-pulitika/
END:VEVENT
BEGIN:VEVENT
DTSTART;TZID=UTC:20250424T173000
DTEND;TZID=UTC:20250424T193000
DTSTAMP:20260424T053611
CREATED:20250422T183555Z
LAST-MODIFIED:20250422T183555Z
UID:20053-1745515800-1745523000@alum.up.edu.ph
SUMMARY:Writing with Place: More-than-representational Geographies and Creative Writing Practices
DESCRIPTION:What activities connect writers with environments and how do these connections sit alongside environmental and social justice aims?\nFor the 4th Heo/Geo Lecture Series for 2025\, that question will be discussed by Dr Chantelle Bayes who will give a talk entitled “Writing with Place: More-than-representational Geographies and Creative Writing Practices” on Thursday\, 24 April 2025\, at 5:30PM PHT (7:30PM AEST) via Zoom. More-than-representational geographies are the non-tangible aspects of geographies such as affects\, practices\, and processes. Dr Bayes’ talk considers the relationships between practices of research-creation and geographies.\n\nIt’s well known that many writers\, researchers and creatives have moments of inspiration while undertaking some sort of mundane activity from walking and commuting to cleaning. Knowing this\, many writers and researchers have sought to engage with place as an intentional practice whereby they undertake activities such as walking to facilitate their thinking and making. These creative practices also inform our understanding of cultural geographies by diffracting experiences of place including the mundane\, the intangible\, the affective and the embodied.\n\nIn Dr Bayes’ research\, writers most often talked about four activities in place that formed part of their writing process: walking\, swimming\, surfing\, and gardening. Walking was by far the most noted activity with a deep history in connection with storytelling. The two main processes at work during such activities are firstly a close attention to place\, and secondly an inattentive engagement with place through day-dreaming\, creative thinking\, thought making\, and editing. These two processes are not always separate but may occur simultaneously\, or like a camera lens drifting in and out between the two. Being in place and engaging with local geographies impacted the writing process in several ways by bringing attention to the ways that places\, authors and texts are entangled in relationships of care\, damage\, or disruption. Dr Bayes will discuss anecdotes from several writers who use place-based creative practices so we can consider what this does to our shared understanding of geographies.\n\nDr Chantelle Bayes is a creative writer\, researcher and educator living in Queensland\, Australia. Her research areas are the environmental humanities\, arts-based environmental education\, contemporary literature and creative writing practices. Her book ‘Reimagining Urban Nature: Literary Imaginaries for Posthuman Cities’ came out with Liverpool University Press in 2023. She is currently working at Southern Cross University as a postdoctoral research fellow on the ARC funded project ‘Climate Country: Advancing Child and Youth-Led Climate Change Education with Country’.\n\nThe Heo/Geo Lecture Series is a joint project of the University of the Philippines UP Department of Geography and the Philippine Geographical Society (PGS). The Lecture Series is a monthly resource talk / lecture given by academic geographers\, geography-adjacent scholars\, practitioners working in geospatial industries\, and partners working in multiple publics based locally and abroad. The talk ranges from the sharing of research findings\, pedagogical practices\, and field-based experiences. This month’s Heo/Geo Lecture Series is facilitated by two research groups at the UP Department of Geography: Human Geography (HUG) and Media\, Literary Geographies\, and Geohumanities (MELANGE)\, and in line with the UN Sustainable Development Goals #4 (Quality Education)\, and #15 (Life on Land).\n\nTo participate in the lecture\, click this link to join: https://tinyurl.com/2dvuj8du\n\nSource: UP Department of Geography Facebook
URL:https://alum.up.edu.ph/event/writing-with-place-more-than-representational-geographies-and-creative-writing-practices/
END:VEVENT
END:VCALENDAR