BEGIN:VCALENDAR
VERSION:2.0
PRODID:-//UP Alumni Website - ECPv6.15.16//NONSGML v1.0//EN
CALSCALE:GREGORIAN
METHOD:PUBLISH
X-WR-CALNAME:UP Alumni Website
X-ORIGINAL-URL:https://alum.up.edu.ph
X-WR-CALDESC:Events for UP Alumni Website
REFRESH-INTERVAL;VALUE=DURATION:PT1H
X-Robots-Tag:noindex
X-PUBLISHED-TTL:PT1H
BEGIN:VTIMEZONE
TZID:UTC
BEGIN:STANDARD
TZOFFSETFROM:+0000
TZOFFSETTO:+0000
TZNAME:UTC
DTSTART:20240101T000000
END:STANDARD
END:VTIMEZONE
BEGIN:VEVENT
DTSTART;VALUE=DATE:20250201
DTEND;VALUE=DATE:20260101
DTSTAMP:20260423T133430
CREATED:20250213T203449Z
LAST-MODIFIED:20250213T203449Z
UID:19267-1738368000-1767225599@alum.up.edu.ph
SUMMARY:UP Mindanao's 30th Anniversary Year-long Schedule of Activities
DESCRIPTION:LOOK | Year-long Schedule of Activities for UP Mindanao’s 30th Anniversary\n\nJoin us as we celebrate three decades of academic excellence\, research innovation\, and community engagement! UP Mindanao’s 30th Anniversary is packed with exciting activities\, from cultural performances and academic forums to sports events and community outreach programs.\n\nHere’s the full schedule and be part of this milestone celebration! Let’s honor our past\, celebrate our present\, and shape our future together.\n\nSource: University of the Philippines Mindanao Facebook
URL:https://alum.up.edu.ph/event/up-mindanaos-30th-anniversary-year-long-schedule-of-activities/
END:VEVENT
BEGIN:VEVENT
DTSTART;TZID=UTC:20250503T090000
DTEND;TZID=UTC:20250517T170000
DTSTAMP:20260423T133430
CREATED:20250508T165200Z
LAST-MODIFIED:20250508T165200Z
UID:20214-1746262800-1747501200@alum.up.edu.ph
SUMMARY:TAKDOL | Full Moon
DESCRIPTION:TAKDOL | Full Moon\n\nThe University of the Philippines Cebu Museum of Art and Culture\, is pleased to present “TAKDOL\, Full Moon”\, a fundraising exhibition by Bernard “Berber” Restificar\, in collaboration with Celso Pepito\, Jojo Sagayno\, and Roland Mortejo.\n\n“Takdol” is a convergence of photography\, painting\, memory\, and advocacy\, reflecting Bernard Restificar’s lifelong creative journey as a multidisciplinary artist and regenerative farmer. Through mixed-media collaboration with maestros Celso\, Jojo\, and Roland\, the many facets of Bernard’s passions come together to present the artist\, not only as the isolated creative\, but as social catalyst and driver for communities.\n\nOpening this May 3\, 2025\, 4:00 PM\, Saturday\, at the University of the Philippines Cebu Museum of Arts and Culture.\n\nSource: OICA UP Cebu Facebook
URL:https://alum.up.edu.ph/event/takdol-full-moon/
END:VEVENT
BEGIN:VEVENT
DTSTART;TZID=UTC:20250515T114500
DTEND;TZID=UTC:20250515T130000
DTSTAMP:20260423T133430
CREATED:20250506T171314Z
LAST-MODIFIED:20250506T171314Z
UID:20152-1747309500-1747314000@alum.up.edu.ph
SUMMARY:"Artificial Intelligence and Ethics Review"
DESCRIPTION:Curious about AI in Research Ethics Review? Don’t miss out! 😉\n\nYou’re invited to the 5th episode of the 2025 UPD REB Monthly Ethics Seminar Series (MESS) on May 15\, 2025\, from 11:45 AM to 1:00 PM at the NSRI Conference Room\, Miranda Hall and live via Zoom and Facebook.\n\nJoining us from the UP Manila College of Medicine is Dr. Iris Thiele Isip-Tan with an informative discussion about “Artificial Intelligence and Ethics Review”!💡\n\nBring your lunch and see you there! 🍱\n\nRegister now and let us know your inquiries in advance via\n\nhttps://forms.gle/S4hPxCYkufAHrTM1A\n\nTune in for more updates!!! 🔎\n\nMissed an Episode? 🎬\nVisit our Website and Official YouTube Channel!\n\nhttps://sites.google.com/…/updresearche…/ethics-traininghttps://www.youtube.com/@updilimanreb\n\nSource: UP Diliman Research Ethics Board Facebook
URL:https://alum.up.edu.ph/event/artificial-intelligence-and-ethics-review/
END:VEVENT
END:VCALENDAR