BEGIN:VCALENDAR
VERSION:2.0
PRODID:-//UP Alumni Website - ECPv6.15.16//NONSGML v1.0//EN
CALSCALE:GREGORIAN
METHOD:PUBLISH
X-WR-CALNAME:UP Alumni Website
X-ORIGINAL-URL:https://alum.up.edu.ph
X-WR-CALDESC:Events for UP Alumni Website
REFRESH-INTERVAL;VALUE=DURATION:PT1H
X-Robots-Tag:noindex
X-PUBLISHED-TTL:PT1H
BEGIN:VTIMEZONE
TZID:UTC
BEGIN:STANDARD
TZOFFSETFROM:+0000
TZOFFSETTO:+0000
TZNAME:UTC
DTSTART:20240101T000000
END:STANDARD
END:VTIMEZONE
BEGIN:VEVENT
DTSTART;VALUE=DATE:20250201
DTEND;VALUE=DATE:20260101
DTSTAMP:20260423T181841
CREATED:20250213T203449Z
LAST-MODIFIED:20250213T203449Z
UID:19267-1738368000-1767225599@alum.up.edu.ph
SUMMARY:UP Mindanao's 30th Anniversary Year-long Schedule of Activities
DESCRIPTION:LOOK | Year-long Schedule of Activities for UP Mindanao’s 30th Anniversary\n\nJoin us as we celebrate three decades of academic excellence\, research innovation\, and community engagement! UP Mindanao’s 30th Anniversary is packed with exciting activities\, from cultural performances and academic forums to sports events and community outreach programs.\n\nHere’s the full schedule and be part of this milestone celebration! Let’s honor our past\, celebrate our present\, and shape our future together.\n\nSource: University of the Philippines Mindanao Facebook
URL:https://alum.up.edu.ph/event/up-mindanaos-30th-anniversary-year-long-schedule-of-activities/
END:VEVENT
BEGIN:VEVENT
DTSTART;TZID=UTC:20250503T090000
DTEND;TZID=UTC:20250517T170000
DTSTAMP:20260423T181841
CREATED:20250508T165200Z
LAST-MODIFIED:20250508T165200Z
UID:20214-1746262800-1747501200@alum.up.edu.ph
SUMMARY:TAKDOL | Full Moon
DESCRIPTION:TAKDOL | Full Moon\n\nThe University of the Philippines Cebu Museum of Art and Culture\, is pleased to present “TAKDOL\, Full Moon”\, a fundraising exhibition by Bernard “Berber” Restificar\, in collaboration with Celso Pepito\, Jojo Sagayno\, and Roland Mortejo.\n\n“Takdol” is a convergence of photography\, painting\, memory\, and advocacy\, reflecting Bernard Restificar’s lifelong creative journey as a multidisciplinary artist and regenerative farmer. Through mixed-media collaboration with maestros Celso\, Jojo\, and Roland\, the many facets of Bernard’s passions come together to present the artist\, not only as the isolated creative\, but as social catalyst and driver for communities.\n\nOpening this May 3\, 2025\, 4:00 PM\, Saturday\, at the University of the Philippines Cebu Museum of Arts and Culture.\n\nSource: OICA UP Cebu Facebook
URL:https://alum.up.edu.ph/event/takdol-full-moon/
END:VEVENT
BEGIN:VEVENT
DTSTART;TZID=UTC:20250516T080000
DTEND;TZID=UTC:20250516T170000
DTSTAMP:20260423T181841
CREATED:20250515T190305Z
LAST-MODIFIED:20250515T190305Z
UID:20251-1747382400-1747414800@alum.up.edu.ph
SUMMARY:Maalaala Mo Kaya Si Vargas? Public programs for the exhibition\, Jorge B. Vargas: A Collecting Life
DESCRIPTION:The UP Vargas Museum\, together with students of the Art Studies 284 Curatorial Studies class taught by museum curator Tessa Maria Guazon\, presents Maalaala Mo Kaya Si Vargas?\, a series of public programs for our newly redesigned memorabilia exhibition\, Jorge B. Vargas: A Collecting Life (Isang Buhay ng Pagtipon).\n\nMaalaala Mo Kaya Si Vargas? includes an exhibition walkthrough and a children’s workshop (age 5-7 years old) happening on Friday\, 16 May 2025. This event is free and open to the public. Register to join\, bit.ly/UPVMMaalaala.\n\nThe programs developed for the memorabilia exhibition will explore how visitors can connect with interest and depth with the museum holdings\, specifically objects and documents of varying historical significance. Jorge B. Vargas: A Collecting Life (Isang Buhay ng Pagtipon) revolves around the concepts of Fascination (Kawilihan)\, History (Kasaysayan)\, and Discipline (Kasanayan) to frame the assembly of objects in Jorge B. Vargas’s collection. It elaborates on his disposition\, profession\, and participation in the broader context of Philippine social life through documents\, objects\, and paintings.\n\nThe Art Studies 284 class project considers ways new meanings are formed around objects. It also attempts to expand the life of the exhibition through enlivening interactions.\n\nJorge B. Vargas: A Collecting Life (Isang Buhay ng Pagtipon) is on view at the 3/F South Wing Gallery of the UP Vargas Museum. Students for the graduate course Art Studies 284 are JP Diciembre\, Arvi Fetalvero\, Mayumi Habulan\, Marty Santos\, and Melissa Uy.4\n\nSource: UP Vargas Museum Facebook
URL:https://alum.up.edu.ph/event/maalaala-mo-kaya-si-vargas-public-programs-for-the-exhibition-jorge-b-vargas-a-collecting-life/
END:VEVENT
BEGIN:VEVENT
DTSTART;TZID=UTC:20250516T120000
DTEND;TZID=UTC:20250516T130000
DTSTAMP:20260423T181841
CREATED:20250424T160048Z
LAST-MODIFIED:20250515T162633Z
UID:20080-1747396800-1747400400@alum.up.edu.ph
SUMMARY:Health UPdates Webinar #238 What Everyone Should Know About Atherosclerosis: "Hindi Dapat Ito Ikamamatay"
DESCRIPTION:The University of the Philippines\,\nin partnership with the UP Manila – National Institutes of Health\,\nand in cooperation with UP Philippine General Hospital and UP College of Medicine\,\nwould like to invite you to attend this webinar! \n  \nRegistration slots are limited to this HEALTH UPDATES webinar\nSo sign up NOW:\nbit.ly/HealthUpdatesWebinar238 \n  \nWebinar #238\nMay 16\, 2025 (Friday)\, 12:00 noon\nWhat Everyone Needs to Know About Atherosclerosis\nHindi Dapat Ito Ikamamatay\n\nPresenter:\nDR. BEAVER R. TAMESIS\nPresident and CEO\, Asian Hospital and Medical Center\n\nReactor:\nDR. JOHN D. AÑONUEVO\nChair and Cardiologist\, Department of Medicine\nUP – Philippine General Hospital\n\n———————————————————–\n\nWebinar #238\nMay 16\, 2025 (Friday)\, 12:00 noon\nWhat Everyone Needs to Know About Atherosclerosis\nHindi Dapat Ito Ikamamatay\n\nThe escalating prevalence of atherosclerosis and its formidable cardiovascular sequelae represent a significant public health challenge in the Philippines. Frontline healthcare professionals are invariably at the forefront of managing and mitigating the impact of this insidious disease.\n\nIn this week’s episode\, our esteemed panel of experts will elucidate the intricate pathophysiology of atherosclerosis\, tracing its origins from endothelial dysfunction and lipid deposition to the eventual formation of obstructive plaques. We will also discuss the interplay of genetic predispositions\, dietary habits\, lifestyle factors\, and prevalent comorbidities such as hypertension\, diabetes mellitus\, and dyslipidemia that contribute to the heightened susceptibility of Filipinos to this condition.\n\nIn addition\, we will provide a practical and clinically relevant exploration of contemporary diagnostic modalities\, ranging from non-invasive assessments like lipid profiling and ankle-brachial index to advanced imaging techniques such as coronary computed tomography angiography. We will also discuss pharmacological interventions\, including the appropriate use of statins\, antiplatelet agents\, and emerging lipid-lowering therapies\, tailored to the specific needs and challenges faced by Filipino patients.\n\nLifestyle modifications\, encompassing dietary guidance rooted in local culinary traditions and culturally sensitive exercise recommendations\, will also be thoroughly discussed as integral components of both primary and secondary prevention. Focus on early risk stratification\, timely referral\, and the initiation of appropriate management strategies will also be included.\n\nOur main speaker this week is the multi-awarded President and CEO of Asian Hospital and Medical Center\, Dr. Beaver R. Tamesis. Our reactor is a practicing cardiologist and the Chair of the Department of Medicine at the Philippine General Hospital\, Dr. John D. Añonuevo.\n\nJoin us in working towards improving cardiovascular health outcomes for the Filipino people. Together\, we can stop preventable deaths.
URL:https://alum.up.edu.ph/event/health-updates-webinar-238/
END:VEVENT
BEGIN:VEVENT
DTSTART;TZID=UTC:20250516T130000
DTEND;TZID=UTC:20250516T140000
DTSTAMP:20260423T181841
CREATED:20250515T185508Z
LAST-MODIFIED:20250515T185508Z
UID:20243-1747400400-1747404000@alum.up.edu.ph
SUMMARY:PAN Episode Book Launch: What Light It Can Hold The Philippine Short Story in the Twenty-First Century
DESCRIPTION:Milflores Publishing and The UP Institute of Creative Writing (UP ICW) launch What Light It Can Hold: The Philippine Short Story in the Twenty-First Century\, a collection of contemporary Filipino fiction that reflects the evolving landscape of Philippine society.\nEdited by Gerald Burns and Jose Dalisay\, this anthology features stories that capture the struggles\, aspirations\, and cultural shifts of Filipinos in the 21st century.\n\nThe book launch along with a book talk by the editors will stream on May 16\, 2025 | 1PM via the LIKHAAN: UP Institute of Creative Writing Facebook Page.\n\nThe Panayam sa Panitikan sa Panahon ng Pandemya (PAN Series) is a series of online lectures and discussions that aims to help writers with the production of literature considering the immense pressure brought by the pandemic. These conversations are made to foster a digital community where they can safely exchange ideas and enrich their own craft. Like the physical iteration of Panayam (Feb 2020)\, viewers are allowed to pitch in their questions and comments. This is done through the comments section of the Facebook post. The episodes also allotted time for panelists and moderators to answer questions in the live or recorded talkback portion of the program.\n\nMeet the editors:\nGerald Burns holds a PhD in American Studies from Yale University and is Emeritus Professor of English at Franklin Pierce University. The recipient of three Fulbright fellowships for teaching and lecturing on American literature in the Philippines\, he has cultivated a longstanding interest in Philippine literature. He is the author of Presenting America\, Encountering the Philippines (1993) and has written on such topics as the repatriate theme in Philippine fiction\, the evolution of Martial Law genre\, the American Dream and the Filipino-American writer\, and contemporary Philippine short fiction.\n\nJose Dalisay is Professor Emeritus of English at the University of the Philippines\, where he also chaired the English department and serve as Director of the UP Institute of Creative Writing and Vice President for Public Affairs. He has BA (English\, cum laude) from University of the Philippines\, an MFA (Creative Writing) from University of Michigan\, and a PhD (English) from University of Wisconsin-Milwaukee. Aside from publishing 40 books of fiction and nonfiction\, he also edited The Essential Manuel Arguilla Reader and Likhaan: The Journal of Contemporary Philippine Literature.\n\nSource: Likhaan: University of the Philippines Institute of Creative Writing Facebook
URL:https://alum.up.edu.ph/event/pan-episode-book-launch-what-light-it-can-hold-the-philippine-short-story-in-the-twenty-first-century/
END:VEVENT
BEGIN:VEVENT
DTSTART;TZID=UTC:20250516T130000
DTEND;TZID=UTC:20250516T170000
DTSTAMP:20260423T181841
CREATED:20250515T181136Z
LAST-MODIFIED:20250515T181136Z
UID:20242-1747400400-1747414800@alum.up.edu.ph
SUMMARY:Better Governance Forum 9: “What Hafen\, Vella?” — A Post-Mortem Forum on the 2025 Midterm Elections!
DESCRIPTION:Lineup complete!\n\nJoin the Better Governance Forum 9: “What Hafen\, Vella?” — A Post-Mortem Forum on the 2025 Midterm Elections!\nWe’re bringing together leading minds in electoral politics\, governance\, and public opinion to unpack the outcomes and implications of the 2025 midterm elections.\n\nGuest Panelists:\n🔹 Dr. Tony La Vina\, Lawyer-Scholar & Professorial Lecturer\, UP NCPAG\n🔹 Malou Tiquia\, Founder/CEO\, PUBLiCUS Asia & DPA Candidate\, UP NCPAG\n🔹 Dr. Robin Michael Garcia\, Founder and Chairman of the Board\, WR Numero Research & MPA Alumnus\, UP NCPAG\n\nThe discussion will be moderated by NCPAG’s CLRG Director Dr. Reginald Ugaddan and broadcast journalist Rikki Mathay.\n\nDean Kristoffer Berse and College Secretary Dr. Erwin Alampay will provide the Provocation and Synthesis\, respectively.\nNew Venue: Training Rooms 1 & 2\, UP SURP Building\nDate: May 16 (Friday)\nTime: 1:00 PM – 5:00 PM\n\nMore space\, deeper conversations. Don’t miss this timely and thought-provoking policy dialogue. See you there!\n\nSource: UP-NCPAG Facebook
URL:https://alum.up.edu.ph/event/better-governance-forum-9-what-hafen-vella-a-post-mortem-forum-on-the-2025-midterm-elections/
END:VEVENT
BEGIN:VEVENT
DTSTART;TZID=UTC:20250516T133000
DTEND;TZID=UTC:20250516T170000
DTSTAMP:20260423T181841
CREATED:20250508T164835Z
LAST-MODIFIED:20250508T164835Z
UID:20211-1747402200-1747414800@alum.up.edu.ph
SUMMARY:“Ghosts of Elections Past: A Few Historical Notes on the 2025 Midterm Elections”
DESCRIPTION:Join us in this forum on “Ghosts of Elections Past: A Few Historical Notes on the 2025 Midterm Elections” this May 16\, 2026 from 1:30 – 5:00 PM at the Performing Arts Hall (PAH)\, UP Cebu.\n\n➡️ Abstract\n\nThe political overdrive normal in electioneering in the Philippines shifted to hyperspace mode after the arrest of former president Rodrigo Duterte to face trial by the ICC in The Hague last March. Instead of attempting to keep pace with the light speed of the news cycle\, this talk looks back\, offering some historical perspective. Given Philippine midterms have often been judged in terms of national senate election results\, the results of these 2025 national elections will be examined as to whether they foreshadow “opposition” strength in the subsequent presidential election.\n\nPolitical splits between the country’s political number One and Two predate even the (procedurally quirky) separate election of the president and vice president back to the colonial era battle for supremacy between Manuel Quezon and Sergio Osmeña\, Sr. The Marcos-Duterte feud (which can be traced back to the 1967 midterms) may prove another occasion in which the underdog becomes a longer-term victor\, as Sara Duterte’s future presidential hopes remain very much alive despite the hyperpresidentialist advantage of the ruling Marcos dynasty.\n\nThe talk concludes with some thoughts about Cebu’s seemingly curious political evolution from a historically “yellow” anti-Marcos bastion to (briefly) a pro-Marcos constituency back to an anti-Marcos (but Duterte-sympathetic) stronghold.\n\nThe keynote speaker is Prof. Dr. Mark Thompson\, the Chair Professor in the Department of Public and International Affairs and former Director of the Southeast Asia Research Centre at the City University of Hong Kong – a globally renowned and respected scholar of political science and public administration.\n\nHe will be joined by Prof. Dr. Cleo Anne Calimbahin\, an esteemed Professor of political science specializing in elections\, corruption\, and democracy studies at De La Salle University- Manila\, noted for her contributions on understanding patronage politics and democracy\, as well as the nature and direction of the political parties in the Philippines.\n\n➡️ The forum is open to the public. Pre-register by filling out this link: https://bit.ly/electionspast-25\n\nSee you this May 16!\n\nSource: University of the Philippines Cebu Facebook
URL:https://alum.up.edu.ph/event/ghosts-of-elections-past-a-few-historical-notes-on-the-2025-midterm-elections/
END:VEVENT
BEGIN:VEVENT
DTSTART;TZID=UTC:20250516T160000
DTEND;TZID=UTC:20250516T180000
DTSTAMP:20260423T181841
CREATED:20250515T185811Z
LAST-MODIFIED:20250515T185811Z
UID:20250-1747411200-1747418400@alum.up.edu.ph
SUMMARY:Climate Change and Its Implications for Construction Workers: Perspectives from the Philippines
DESCRIPTION:🌍💼 Public Lecture Alert! 💼🌍\n\nJoin us for an insightful discussion on the impact of climate change on workers’ lives in the construction industry. 🌱\n\nTopic: Climate Change and Its Implications for Construction Workers: Perspectives from the Philippines\n🎤 Speaker: Dr. Verna Dinah Q. Viajar\, Assistant Professor and College Secretary at the University of the Philippines School of Labour and Industrial Relations.\n🗓️ Date & Time: Friday\, 16 May 2025 | 10:00 AM – 11:00 AM (SAST)\n📍 Platform: Zoom\n\n🔗 Register here: https://ukzn.zoom.us/…/reg…/WN_JN0pr7WHR4ynsZiiDmOh9g…\n\nDon’t miss this opportunity to learn from an expert in labor and migration studies! See you there! 👷‍♀️👷‍♂️\n\nSource: UP School of Labor and Industrial Relations Facebook
URL:https://alum.up.edu.ph/event/climate-change-and-its-implications-for-construction-workers-perspectives-from-the-philippines/
END:VEVENT
END:VCALENDAR