BEGIN:VCALENDAR
VERSION:2.0
PRODID:-//UP Alumni Website - ECPv6.15.16//NONSGML v1.0//EN
CALSCALE:GREGORIAN
METHOD:PUBLISH
X-WR-CALNAME:UP Alumni Website
X-ORIGINAL-URL:https://alum.up.edu.ph
X-WR-CALDESC:Events for UP Alumni Website
REFRESH-INTERVAL;VALUE=DURATION:PT1H
X-Robots-Tag:noindex
X-PUBLISHED-TTL:PT1H
BEGIN:VTIMEZONE
TZID:UTC
BEGIN:STANDARD
TZOFFSETFROM:+0000
TZOFFSETTO:+0000
TZNAME:UTC
DTSTART:20240101T000000
END:STANDARD
END:VTIMEZONE
BEGIN:VEVENT
DTSTART;VALUE=DATE:20250201
DTEND;VALUE=DATE:20260101
DTSTAMP:20260422T134215
CREATED:20250213T203449Z
LAST-MODIFIED:20250213T203449Z
UID:19267-1738368000-1767225599@alum.up.edu.ph
SUMMARY:UP Mindanao's 30th Anniversary Year-long Schedule of Activities
DESCRIPTION:LOOK | Year-long Schedule of Activities for UP Mindanao’s 30th Anniversary\n\nJoin us as we celebrate three decades of academic excellence\, research innovation\, and community engagement! UP Mindanao’s 30th Anniversary is packed with exciting activities\, from cultural performances and academic forums to sports events and community outreach programs.\n\nHere’s the full schedule and be part of this milestone celebration! Let’s honor our past\, celebrate our present\, and shape our future together.\n\nSource: University of the Philippines Mindanao Facebook
URL:https://alum.up.edu.ph/event/up-mindanaos-30th-anniversary-year-long-schedule-of-activities/
END:VEVENT
BEGIN:VEVENT
DTSTART;TZID=UTC:20250602T090000
DTEND;TZID=UTC:20250613T160000
DTSTAMP:20260422T134215
CREATED:20250319T174358Z
LAST-MODIFIED:20250319T174358Z
UID:19690-1748854800-1749830400@alum.up.edu.ph
SUMMARY:“Speak UP Workshop Series 2025”
DESCRIPTION:DSCTA’s Speak UP Workshop Series\n\nReady to build confidence\, refine your communication skills\, and effectively express yourself in school and in work? Our Speak UP Workshop Series is designed to help kids\, tweens\, teens\, and professionals develop strong speaking abilities in a fun and engaging environment.\n\n✨ Choose the workshop that fits you best:\n\n🎭 Storytelling and Performance for Kids (Ages 6 to 8) \nDevelop self-confidence through guided reading and storytelling activities\nJune 02 to 13 (MTWThF) | 9 to 11:30 AM\nRegular rate: Php 7\,000\n\n🗣️ Basic Public Speaking for Tweens (Ages 9 to 12)\nImprove your verbal and nonverbal communication skills for various public speaking events!\nJune 02 to 13 (MTWThF) | 9 to 11:30 AM\nRegular rate: Php 7\,000\n\n💡 Advanced Public Speaking and Argumentation for Teens (Ages 13 to 17)\nLearn advanced speech development techniques ideal for competition training!\nJune 02 to 13 (MTWThF) | 9 to 11:30 AM\nRegular rate: Php 8\,000\n\n👥 Effective Communication for Professionals (Ages 18+)\nAdvance your career by developing presentation skills in the workplace!\nJune 14 and 21 (Sat) | 9AM to 4PM\nRegular rate: Php 8\,000\n\n✨ Early Bird Discount: Get Php 1\,000 off when you register on or before 15 April 2025! ✨\n\n➡️ https://forms.gle/Zht37Fyw5f4vodEc6\n\n✔️ Workshop facilitators are faculty members in the UP Department of Speech Communication and Theatre Arts.\n✔️ Workshop fee includes a kit and a certificate of completion.\n✔️ All sessions will be held face-to-face in fully air conditioned classrooms.\n✔️ A maximum number of 15 students will be accommodated per section for optimal learning experience.\n\nHURRY! LIMITED SLOTS AVAILABLE\n\nMessage us at dscta-rcwe.upd@up.edu.ph for inquiries.\n\nSource: Workshops by the UP Department of Speech Communication and Theatre Arts Facebook
URL:https://alum.up.edu.ph/event/speak-up-workshop-series-2025/
END:VEVENT
BEGIN:VEVENT
DTSTART;TZID=UTC:20250611T100000
DTEND;TZID=UTC:20250611T113000
DTSTAMP:20260422T134215
CREATED:20250528T171050Z
LAST-MODIFIED:20250528T171050Z
UID:20405-1749636000-1749641400@alum.up.edu.ph
SUMMARY:Unmasking the Appeal: Exposing Industry Tactics on Tobacco and Nicotine Products
DESCRIPTION:Unmasking the Appeal: Exposing Industry Tactics on Tobacco and Nicotine Products\n\nThe tobacco and nicotine industry continues to find new ways to appeal to the public\, especially the youth. But behind the glossy marketing are strategies that put health at risk.\n\nJoin us on June 11\, 2025\, from 10:00 to 11:30 AM for an online panel discussion as we take a closer look at how these products are being promoted\, and what we can do to push back.\n\nThis event is done in commemoration of World No Tobacco Day and National No Smoking Month\, and will be done live via Zoom and streamed in our social media platforms.\n\nRegister now through the QR code in the poster below or through:\nbit.ly/HPP-UTA2025\n\nNOTE: Limited slots. The registration link will automatically close once the maximum number of registrants has been reached.
URL:https://alum.up.edu.ph/event/unmasking-the-appeal-exposing-industry-tactics-on-tobacco-and-nicotine-products/
END:VEVENT
END:VCALENDAR