BEGIN:VCALENDAR
VERSION:2.0
PRODID:-//UP Alumni Website - ECPv6.15.16//NONSGML v1.0//EN
CALSCALE:GREGORIAN
METHOD:PUBLISH
X-WR-CALNAME:UP Alumni Website
X-ORIGINAL-URL:https://alum.up.edu.ph
X-WR-CALDESC:Events for UP Alumni Website
REFRESH-INTERVAL;VALUE=DURATION:PT1H
X-Robots-Tag:noindex
X-PUBLISHED-TTL:PT1H
BEGIN:VTIMEZONE
TZID:UTC
BEGIN:STANDARD
TZOFFSETFROM:+0000
TZOFFSETTO:+0000
TZNAME:UTC
DTSTART:20240101T000000
END:STANDARD
END:VTIMEZONE
BEGIN:VEVENT
DTSTART;VALUE=DATE:20250201
DTEND;VALUE=DATE:20260101
DTSTAMP:20260422T185453
CREATED:20250213T203449Z
LAST-MODIFIED:20250213T203449Z
UID:19267-1738368000-1767225599@alum.up.edu.ph
SUMMARY:UP Mindanao's 30th Anniversary Year-long Schedule of Activities
DESCRIPTION:LOOK | Year-long Schedule of Activities for UP Mindanao’s 30th Anniversary\n\nJoin us as we celebrate three decades of academic excellence\, research innovation\, and community engagement! UP Mindanao’s 30th Anniversary is packed with exciting activities\, from cultural performances and academic forums to sports events and community outreach programs.\n\nHere’s the full schedule and be part of this milestone celebration! Let’s honor our past\, celebrate our present\, and shape our future together.\n\nSource: University of the Philippines Mindanao Facebook
URL:https://alum.up.edu.ph/event/up-mindanaos-30th-anniversary-year-long-schedule-of-activities/
END:VEVENT
BEGIN:VEVENT
DTSTART;TZID=UTC:20250614T080000
DTEND;TZID=UTC:20250614T170000
DTSTAMP:20260422T185453
CREATED:20250612T181753Z
LAST-MODIFIED:20250612T181753Z
UID:20480-1749888000-1749920400@alum.up.edu.ph
SUMMARY:Post Eid'l Adha Medical\, Surgical\, and Legal Mission
DESCRIPTION:Assalamu ‘alaykum wa rahmatullahi wa barakatuh\n(Peace\, mercy\, and blessings of Allah be upon you!)\n\nSurah Al-Ma’idah Ayat 2 (5:2 Qur’an)\n“And cooperate in righteousness and piety\, but do not cooperate in sin and aggression.”\n\nIn the humble spirit of Eid al-Adha\, the UP Mindanao Association of Muslim Students\, in partnership with the UP Alumni Association – Davao and Al-Arahin Organization\, warmly invites you to join us for the Post Eid’l Adha Medical\, Surgical\, and Legal Mission.\n\nThis is our way of sharing blessings and caring for one another as we live the true meaning of Eid al Adha.\n\n📅 Date: June 14\, 2025 (Saturday)\n📍 Venue: Kalimudan Food Center\, UP Mindanao\n👥 Everyone is welcome.\n\nWe look forward to seeing you there\, In shaa Allah.\n\nSource: UP Mindanao Association of Muslim Students Facebook
URL:https://alum.up.edu.ph/event/post-eidl-adha-medical-surgical-and-legal-mission/
END:VEVENT
BEGIN:VEVENT
DTSTART;TZID=UTC:20250614T093000
DTEND;TZID=UTC:20250614T120000
DTSTAMP:20260422T185453
CREATED:20250612T175451Z
LAST-MODIFIED:20250612T175451Z
UID:20464-1749893400-1749902400@alum.up.edu.ph
SUMMARY:UP Vargas Museum Family Day
DESCRIPTION:Family Day at the UP Vargas Museum\n14 June 2025\, Saturday\n9:30 AM to 12:00 NN\n\nRegister to join\, bit.ly/UPVMFamilyDay.\n\nThe UP Vargas Museum invites families with children ages 6 to 10 years old to join us for a Family Day event on Saturday\, 14 June 2025\, from 9:30 AM to 12 NN. Family Day at the Vargas Museum will bring children closer to nature with activities including gardening and zine-making. Teacher and illustrator Patti Ramos will join us during the art activity sessions.\n\nWe encourage everyone to wear comfortable clothing and to bring their tumblers or water bottles.\n\nThe UP Vargas Museum Family Day is the culminating activity for our “Art as Pedagogy: Neighborhoods and shared resources” project. “Art as Pedagogy: Neighborhoods and shared resources” is part of the UP Diliman Arts and Culture Festival 2025. Aligned with this year’s theme\, “Kalahok sa Nagbabagong Kalikasan\,” the project aims to develop expanded pedagogical materials that weave art practices\, sustainability\, and the museum’s social practice project that is our ongoing Gardens and Homesteads initiative. It positions art institutions like the museum as a site for gathering and sharing. It also foregrounds education as the core thrust of the Vargas Museum alongside curation and research.\n\n“Art as Pedagogy: Neighborhoods and shared resources” is part of the Arts and Culture Festival  organized by the UP Diliman Office for Initiatives in Culture and the Arts (UP Diliman OICA) It is an umbrella project for the second phase of the Southeast Asia Neighborhoods Network (SEANNET) for its Manila case study.\n\nSource: UP Vargas Museum Facebook
URL:https://alum.up.edu.ph/event/up-vargas-museum-family-day/
END:VEVENT
END:VCALENDAR