BEGIN:VCALENDAR
VERSION:2.0
PRODID:-//UP Alumni Website - ECPv6.15.16//NONSGML v1.0//EN
CALSCALE:GREGORIAN
METHOD:PUBLISH
X-WR-CALNAME:UP Alumni Website
X-ORIGINAL-URL:https://alum.up.edu.ph
X-WR-CALDESC:Events for UP Alumni Website
REFRESH-INTERVAL;VALUE=DURATION:PT1H
X-Robots-Tag:noindex
X-PUBLISHED-TTL:PT1H
BEGIN:VTIMEZONE
TZID:UTC
BEGIN:STANDARD
TZOFFSETFROM:+0000
TZOFFSETTO:+0000
TZNAME:UTC
DTSTART:20240101T000000
END:STANDARD
END:VTIMEZONE
BEGIN:VEVENT
DTSTART;VALUE=DATE:20250201
DTEND;VALUE=DATE:20260101
DTSTAMP:20260422T223720
CREATED:20250213T203449Z
LAST-MODIFIED:20250213T203449Z
UID:19267-1738368000-1767225599@alum.up.edu.ph
SUMMARY:UP Mindanao's 30th Anniversary Year-long Schedule of Activities
DESCRIPTION:LOOK | Year-long Schedule of Activities for UP Mindanao’s 30th Anniversary\n\nJoin us as we celebrate three decades of academic excellence\, research innovation\, and community engagement! UP Mindanao’s 30th Anniversary is packed with exciting activities\, from cultural performances and academic forums to sports events and community outreach programs.\n\nHere’s the full schedule and be part of this milestone celebration! Let’s honor our past\, celebrate our present\, and shape our future together.\n\nSource: University of the Philippines Mindanao Facebook
URL:https://alum.up.edu.ph/event/up-mindanaos-30th-anniversary-year-long-schedule-of-activities/
END:VEVENT
BEGIN:VEVENT
DTSTART;TZID=UTC:20250616T080000
DTEND;TZID=UTC:20250620T170000
DTSTAMP:20260422T223720
CREATED:20250610T215534Z
LAST-MODIFIED:20250610T215534Z
UID:20454-1750060800-1750438800@alum.up.edu.ph
SUMMARY:Linggo ng Unibersidad
DESCRIPTION:
URL:https://alum.up.edu.ph/event/linggo-ng-unibersidad/
END:VEVENT
BEGIN:VEVENT
DTSTART;TZID=UTC:20250620T120000
DTEND;TZID=UTC:20250620T130000
DTSTAMP:20260422T223720
CREATED:20250616T163352Z
LAST-MODIFIED:20250619T152951Z
UID:20491-1750420800-1750424400@alum.up.edu.ph
SUMMARY:Health UPdates Webinar #243 "Iba Ito!" Alternative Treatments to Chronic Coronary Artery Disease
DESCRIPTION:The University of the Philippines\,\nin partnership with the UP Manila – National Institutes of Health\,\nand in cooperation with UP Philippine General Hospital and UP College of Medicine\,\nwould like to invite you to attend this webinar! \n  \nRegistration slots are limited to this HEALTH UPDATES webinar\nSo sign up NOW:\nbit.ly/HealthUpdatesWebinar243 \nWebinar #243\nJune 20\, 2025 (Friday)\, 12:00 noon\nIba Ito!\nAlternative Treatments to Chronic Coronary Artery Disease\n\nPresenter:\nDR. JOHN D. AÑONUEVO\nChair and Cardiology Consultant\, Department of Medicine\nUP – Philippine General Hospital\n\nPresenter:\nDR. ERIC OLIVER D. SISON\nChief\, Cardiac Catheterization Unit\nDepartment of Medicine\nUP – Philippine General Hospital\n\n———————————————————–\n\nWebinar #243\nJune 20\, 2025 (Friday)\, 12:00 noon\nIba Ito!\nAlternative Treatments to Chronic Coronary Artery Disease\n\nIn an era characterized by an escalating global burden of cardiovascular disease\, chronic coronary artery disease (CAD) continues to pose a significant public health challenge\, which demands a continuous re-evaluation of therapeutic paradigms. While established pharmacological interventions and revascularization procedures remain cornerstones of management\, the dynamic landscape of cardiac care necessitates a profound understanding of emerging and less conventional yet evidence-supported alternative treatment modalities.\n\nIn this week’s episode\, we aim to bridge existing knowledge gaps and foster a comprehensive discourse on innovative strategies in the long-term management of chronic CAD. Our episode promises an immersive exploration into diverse therapeutic avenues beyond conventional approaches\, encompassing novel pharmacological agents\, advanced lifestyle interventions\, and integrative therapies\, all supported by contemporary scientific literature.\n\nWith us this week are Dr. John D. Añonuevo\, who is a cardiology expert and the Chair of the UP-PGH Department of Medicine\, and Dr. Eric Oliver D. Sison\, who is the Chief of the Cardiac Catheterization Unit at the UP-PGH Department of Medicine. Their presentations will dive into the physiological underpinnings\, clinical indications\, efficacy\, safety profiles\, and patient selection criteria pertinent to these modalities\, which help ensure a balanced and pragmatic perspective.\n\nJoin us in learning how to optimize patient care pathways and provide lay individuals with the crucial information needed for informed health decisions. Together\, we can stop preventable deaths!
URL:https://alum.up.edu.ph/event/health-updates-webinar-243/
END:VEVENT
BEGIN:VEVENT
DTSTART;TZID=UTC:20250620T120000
DTEND;TZID=UTC:20250620T133000
DTSTAMP:20260422T223720
CREATED:20250612T180537Z
LAST-MODIFIED:20250612T180537Z
UID:20470-1750420800-1750426200@alum.up.edu.ph
SUMMARY:Unbottling the Truth: Addressing Methanol and Alcohol Posioning
DESCRIPTION:Our speaker for the Unbottling the Truth: Addressing Methanol and Alcohol Posioning \, Dr. Joanna Khris L. Biag is a practicing Pediatrician and Clinical Toxicologist currently serving as Medical Specialist II and Assistant Pediatric Training Officer at the National Children’s Hospital. She is also an affiliate doctor at the University of the Philippines-Philippine General Hospital National Poison Management and Control Center\, where she continues her advocacy in clinical toxicology.\n\nJoin her on June 20\, 2025\, 12:00 NN as she discusses alcohol poisoning\, its clinical management\, and the importance of policy and community action in preventing alcohol poisoning – in celebration of National Poison Prevention Week.\n\nTwo (2) CPD Units for Medical Doctors\nPending CPD units from the PRC CPD Council of Nursing.\n\nNOTE: Limited slots available.\n\nIn support of Sustainable Development Goal 3: Good Health and Well-Being.\nRegister here: https://bit.ly/3FyoU7B\n\nThis webinar is brought you by:\nUniversity of the Philippines Manila – National Institutes of Health – Health Promotion Program\nPhilippine Society of Public Health Physicians\nBawas Bisyo (Sin Tax Coalition)\n\nSource: Health Promotion Program Facebook
URL:https://alum.up.edu.ph/event/unbottling-the-truth-addressing-methanol-and-alcohol-posioning/
END:VEVENT
BEGIN:VEVENT
DTSTART;TZID=UTC:20250620T140000
DTEND;TZID=UTC:20250620T160000
DTSTAMP:20260422T223720
CREATED:20250617T174633Z
LAST-MODIFIED:20250617T174633Z
UID:20533-1750428000-1750435200@alum.up.edu.ph
SUMMARY:“Rampa at Raket: The Drag Queen Hustle in the Philippine Creative Scene”
DESCRIPTION:In celebration of #PrideMonth2025\, the UP Institute for Small-Scale Industries Gender and Development Committee\, through the Communities of Practice for Entrepreneurship (COPE) Program\, invites everyone to a hybrid learning session titled “Rampa at Raket: The Drag Queen Hustle in the Philippine Creative Scene” on June 20\, 2025.\n\nJoin us via Zoom or onsite at Room 300\, UP ISSI Building\, UP Diliman from 2:00 to 4:00 PM.\n\n✨ Registration is FREE! Sign up now at https://bit.ly/upissiCOPE2025 or by scanning the QR code.\n\nLet’s explore together how the drag scene shapes and contributes to the Philippine creative economy. See you there!\n\nSource: UP Institute for Small-Scale Industries Facebook
URL:https://alum.up.edu.ph/event/rampa-at-raket-the-drag-queen-hustle-in-the-philippine-creative-scene/
END:VEVENT
BEGIN:VEVENT
DTSTART;TZID=UTC:20250620T140000
DTEND;TZID=UTC:20250620T160000
DTSTAMP:20260422T223720
CREATED:20250618T164450Z
LAST-MODIFIED:20250618T164514Z
UID:20536-1750428000-1750435200@alum.up.edu.ph
SUMMARY:"Central Asian Regionalism: Connecting\, Balancing\, and Buffering"
DESCRIPTION:Join us for a compelling public lecture\, “Central Asian Regionalism: Connecting\, Balancing\, and Buffering.” Learn more about how Central Asia connects\, balances\, and buffers global powers like China and Russia. The lecture is free and open to the public! 🎟️\n\n📅 20 June 2025 (Friday) | 2:00 PM (Manila Time)\n📍 Seminar Room\, Asian Center\, UP Diliman\n🔗 Register now – limited seats! bit.ly/centralasia25\n\nGain fresh insights into the region’s strategic role in today’s shifting world order.\n\nDive into the heart of Eurasian geopolitics!\n\nSource: Asian Center\, UP Diliman Facebook
URL:https://alum.up.edu.ph/event/central-asian-regionalism-connecting-balancing-and-buffering/
END:VEVENT
BEGIN:VEVENT
DTSTART;TZID=UTC:20250620T173000
DTEND;TZID=UTC:20250620T190000
DTSTAMP:20260422T223720
CREATED:20250619T171739Z
LAST-MODIFIED:20250619T171739Z
UID:20558-1750440600-1750446000@alum.up.edu.ph
SUMMARY:'Rain and River: How Fiction Imagines Disaster and Disappearance'
DESCRIPTION:How does fiction imagine a disaster? How does the imagined disaster disturb/redefine the Filipino concept of family?\n\nFor the sixth Heo/Geo Lecture for 2025\, Joycel Vincent Dabalos’ talk titled ‘Rain and River: How Fiction Imagines Disaster and Disappearance’\, shares how he creatively wrote his two young adult stories populated with Filipino characters dealing with the wrath of disaster while carrying their distinct (yet playful) Filipino family identities. The lecture which is co-presented by the UP Department of Geography and the Philippine Geographical Society (PGS) will include his writing politics—how he perceives tangible world and how his stories offer an alternative world. The talk will take place via Zoom on Friday\, 20 June 2025 at 5:30PM.\n\nJoycel Vincent V. Dabalos is a creative writer and literature educator. He penned “Kulimlim: Mga Imahen ng Paglaho” (2024) and “Heterotopic Dissidences” (2025). He is currently completing his PhD in Philippine Studies (Presidential Scholarship Grant) at the University of the Philippines-Diliman. He obtained his MA in Language and Literature from De La Salle University Manila. He is a fellow for maikling kuwento of the 12th Palihang Rogelio Sicat held at UP Los Baños. His poems have been featured in the Heights Ateneo\, Kawing Journal\, and panitikan.ph. His latest poem “The Long History of Virus” will be published in ANI 42\, the literary journal of the Cultural Center of the Philippines. His research interests span heterotopic spaces\, queer disaster\, narrative theory\, literary ecology\, and creative writing.\n\nJointly presented by the Geographies of Disasters and Hazards (G-DASH) and Media\, Literary Geographies and Geohumanities (MELANGE) research clusters of the UP Department of Geography\, the talk satisfies the Social Development Goals of United Nations Sustainable Development especially #4 (Quality Education) and #15 (Life on Land).\n\nThe Heo/Geo Lecture Series started out as the Brown Bag Lecture Series/Geography Webbynar but later rebranded as Heo/Geo to accommodate the multiple ways Geography/Geografia is perceived and understood. The lecture series in its present iteration serves and provides a space where practical\, discursive and embodied discussions and performativities from academic geographers\, geography-adjacent scholars\, practitioners and civil society can come together and share ideas to popularise the discipline of geography.\n\nTo register for the lecture\, please click this link to participate: https://tinyurl.com/y936fm7r\n\nSource: UP Department of Geography Facebook
URL:https://alum.up.edu.ph/event/rain-and-river-how-fiction-imagines-disaster-and-disappearance/
END:VEVENT
END:VCALENDAR