BEGIN:VCALENDAR
VERSION:2.0
PRODID:-//UP Alumni Website - ECPv6.15.16//NONSGML v1.0//EN
CALSCALE:GREGORIAN
METHOD:PUBLISH
X-WR-CALNAME:UP Alumni Website
X-ORIGINAL-URL:https://alum.up.edu.ph
X-WR-CALDESC:Events for UP Alumni Website
REFRESH-INTERVAL;VALUE=DURATION:PT1H
X-Robots-Tag:noindex
X-PUBLISHED-TTL:PT1H
BEGIN:VTIMEZONE
TZID:UTC
BEGIN:STANDARD
TZOFFSETFROM:+0000
TZOFFSETTO:+0000
TZNAME:UTC
DTSTART:20240101T000000
END:STANDARD
END:VTIMEZONE
BEGIN:VEVENT
DTSTART;VALUE=DATE:20250201
DTEND;VALUE=DATE:20260101
DTSTAMP:20260424T022337
CREATED:20250213T203449Z
LAST-MODIFIED:20250213T203449Z
UID:19267-1738368000-1767225599@alum.up.edu.ph
SUMMARY:UP Mindanao's 30th Anniversary Year-long Schedule of Activities
DESCRIPTION:LOOK | Year-long Schedule of Activities for UP Mindanao’s 30th Anniversary\n\nJoin us as we celebrate three decades of academic excellence\, research innovation\, and community engagement! UP Mindanao’s 30th Anniversary is packed with exciting activities\, from cultural performances and academic forums to sports events and community outreach programs.\n\nHere’s the full schedule and be part of this milestone celebration! Let’s honor our past\, celebrate our present\, and shape our future together.\n\nSource: University of the Philippines Mindanao Facebook
URL:https://alum.up.edu.ph/event/up-mindanaos-30th-anniversary-year-long-schedule-of-activities/
END:VEVENT
BEGIN:VEVENT
DTSTART;TZID=UTC:20250621T073000
DTEND;TZID=UTC:20250621T171500
DTSTAMP:20260424T022337
CREATED:20250616T181124Z
LAST-MODIFIED:20250616T181124Z
UID:20494-1750491000-1750526100@alum.up.edu.ph
SUMMARY:Thinking and Doing it Right! GMRC-VE Lectures and Workshops
DESCRIPTION:Thinking and Doing it Right\nGood Manners and Right Conduct (GMRC) and Values Education (VE): Lectures and Workshops Online\n\nJOIN US in different Lectures and Workshops about the GMRC-VE curriculum and some of its innovative pedagogical approaches. Listen from the lectures and participate in the mini-workshops of our Resource Speakers who are trained and certified in their respective expertise that advance the teaching of GMRC-VE.\n\nInstructions and Payment Details can be found in the Registration Link Here: bit.ly/GMRC-VE-06-2025\n\ne-Certificate of Participation will be issued for each session.\n\nSource: UP Philosophy of Education & Values Education Programs Facebook
URL:https://alum.up.edu.ph/event/thinking-and-doing-it-right-gmrc-ve-lectures-and-workshops/
END:VEVENT
BEGIN:VEVENT
DTSTART;TZID=UTC:20250621T150000
DTEND;TZID=UTC:20250621T170000
DTSTAMP:20260424T022337
CREATED:20250616T185328Z
LAST-MODIFIED:20250616T185328Z
UID:20515-1750518000-1750525200@alum.up.edu.ph
SUMMARY:Pride in Practice: SOGIESC\, Health\, and Policy in Focus
DESCRIPTION:“Pride in Practice: SOGIESC\, Health\, and Policy in Focus”\nJune 21\, 2025 (3:00 pm)\nVia Zoom\n\nIn celebration of Pride Month and in support of our commitment to diversity and inclusion\, the College of Arts and Sciences\, spearheaded by the Graduate Program in Health Policy Studies (Health Social Science) and the Department of Behavioral Sciences\, in cooperation Metro Manila Pride (MMPride) will host “Pride in Practice: SOGIESC\, Health\, and Policy in Focus” on June 21\, 2025\, via Zoom.\n\nThe online forum will serve as a space for open and critical dialogue on Sexual Orientation\, Gender Identity\, and Expression Sexual Characteristics (SOGIESC)\, with particular focus on its intersections with health\, policy\, and social justice.This initiative reflects our commitment to promoting inclusivity through gender mainstreaming strategies\, such as public forums\, as aligned with the University of the Philippines Gender Guidelines.\n\nTo join the zoom event\, REGISTER here: https://bit.ly/CASpride\n(Zoom link will be sent to your email a day before the webinar.)\n\nProgram:\nI. Welcome Remarks\nMa. Teresa G. De Guzman\nDean\, College of Arts and Sciences\nUniversity of the Philippines Manila\n\nII. Introduction to the Online Seminar\nCalvin S. de los Reyes\nOrganizer and Coordinator\, Graduate Program in Health Policy Studies (Health Social Science)\nAssociate Professor\, College of Arts and Sciences\nUniversity of the Philippines Manila\n\nIII. “Pride in Practice: SOGIESC\, Health\, and Policy in Focus”\na. SOGIESC and Policy Updates\nJonh Philip Cabico\nLead\, Human Rights Education and Research Committee\nMetro Manila Pride (MMPride)\n\nb. Hidden Rainbows: Health Needs\, Policy Challenges\, and Socio-Ecological Factors Affecting the LGBTQIA+ Community in Primary Care in Manila\, Philippines\nAdriel R. Pizarra\nMedical Officer IV\, Health Policy Development and Planning Bureau\nDepartment of Health\n\nIV. Discussion\nAndrei Narciso\nGraduate Student\, Master of Arts in Health Policy Studies (Health Social Science)\nCollege of Arts and Sciences\nUniversity of the Philippines Manila\n\nSource: University of the Philippines Manila Facebook
URL:https://alum.up.edu.ph/event/pride-in-practice-sogiesc-health-and-policy-in-focus/
END:VEVENT
END:VCALENDAR