BEGIN:VCALENDAR
VERSION:2.0
PRODID:-//UP Alumni Website - ECPv6.15.16//NONSGML v1.0//EN
CALSCALE:GREGORIAN
METHOD:PUBLISH
X-WR-CALNAME:UP Alumni Website
X-ORIGINAL-URL:https://alum.up.edu.ph
X-WR-CALDESC:Events for UP Alumni Website
REFRESH-INTERVAL;VALUE=DURATION:PT1H
X-Robots-Tag:noindex
X-PUBLISHED-TTL:PT1H
BEGIN:VTIMEZONE
TZID:UTC
BEGIN:STANDARD
TZOFFSETFROM:+0000
TZOFFSETTO:+0000
TZNAME:UTC
DTSTART:20240101T000000
END:STANDARD
END:VTIMEZONE
BEGIN:VEVENT
DTSTART;VALUE=DATE:20250201
DTEND;VALUE=DATE:20260101
DTSTAMP:20260422T130847
CREATED:20250213T203449Z
LAST-MODIFIED:20250213T203449Z
UID:19267-1738368000-1767225599@alum.up.edu.ph
SUMMARY:UP Mindanao's 30th Anniversary Year-long Schedule of Activities
DESCRIPTION:LOOK | Year-long Schedule of Activities for UP Mindanao’s 30th Anniversary\n\nJoin us as we celebrate three decades of academic excellence\, research innovation\, and community engagement! UP Mindanao’s 30th Anniversary is packed with exciting activities\, from cultural performances and academic forums to sports events and community outreach programs.\n\nHere’s the full schedule and be part of this milestone celebration! Let’s honor our past\, celebrate our present\, and shape our future together.\n\nSource: University of the Philippines Mindanao Facebook
URL:https://alum.up.edu.ph/event/up-mindanaos-30th-anniversary-year-long-schedule-of-activities/
END:VEVENT
BEGIN:VEVENT
DTSTART;TZID=UTC:20250625T070000
DTEND;TZID=UTC:20250704T170000
DTSTAMP:20260422T130847
CREATED:20250624T182515Z
LAST-MODIFIED:20250624T182515Z
UID:20570-1750834800-1751648400@alum.up.edu.ph
SUMMARY:Bagsakan sa Palma
DESCRIPTION:Soafer Bagsakan! 🥬🍆🌽🍌Araw-araw ninyong puntahan!\n\nMula ika-25 ng Hunyo hanggang ika-4 ng Hulyo ay mabibili ang mga produkto ng mga magsasaka ng Bulacan sa AS Lobby. Arat na! 😃\n\nSource: CSSP Office of Service Learning\, Outreach\, and Pahinungod Facebook
URL:https://alum.up.edu.ph/event/bagsakan-sa-palma/
END:VEVENT
BEGIN:VEVENT
DTSTART;TZID=UTC:20250628T080000
DTEND;TZID=UTC:20250720T170000
DTSTAMP:20260422T130847
CREATED:20250713T180057Z
LAST-MODIFIED:20250713T180057Z
UID:20833-1751097600-1753030800@alum.up.edu.ph
SUMMARY:2025 UP Visayas Pre-Homecoming Events
DESCRIPTION:Source: UPV Office of Alumni Relations
URL:https://alum.up.edu.ph/event/2025-up-visayas-pre-homecoming-events/
END:VEVENT
BEGIN:VEVENT
DTSTART;TZID=UTC:20250701T080000
DTEND;TZID=UTC:20250704T170000
DTSTAMP:20260422T130847
CREATED:20250327T182907Z
LAST-MODIFIED:20250327T182907Z
UID:19882-1751356800-1751648400@alum.up.edu.ph
SUMMARY:29th Course on Food Safety
DESCRIPTION:It is that time of year~\n\nBe ready to plot your calendars 🗓️\n\nThe 29th Course on Food Safety will be held on July 1-4\, 2025.\n\nThe course is a 4-day program that follows the WHO-ICD-SEAMEO training module. It aims to equip its participants with technical competency in food safety principles and concepts needed to address issues and challenges in their respective fields.\n\n🔍 Read more on the training course here:\nhttps://bit.ly/UPCPHDON-CFSBrochure\n\n🔍 Find answers to frequently asked questions including course information\, payment details\, and platforms to be used: https://bit.ly/DONShortCoursesFAQs\n\n🤩 Secure your slots now! You may pre-register here: https://bit.ly/DONPre-reg2025\n\n💡Your slots will only be confirmed upon receipt of payment. The course fee is Php 10\,000.00 for local applicants and US $350.00 for foreign applicants. Upload your proof of payment here: https://bit.ly/UPCPHDON-PaymentShortCourse\n\nWe hope to see you there!\n\nSource: Department of Nutrition – College of Public Health\, UP Manila Facebook
URL:https://alum.up.edu.ph/event/29th-course-on-food-safety/
END:VEVENT
BEGIN:VEVENT
DTSTART;TZID=UTC:20250701T080000
DTEND;TZID=UTC:20250704T170000
DTSTAMP:20260422T130847
CREATED:20250429T222102Z
LAST-MODIFIED:20250429T222102Z
UID:20135-1751356800-1751648400@alum.up.edu.ph
SUMMARY:44th Postgraduate Course in Diagnostic Mycology
DESCRIPTION:The Department of Medical Microbiology\, UP College of Public Health invites everyone to the 44th Postgraduate Course in Diagnostic Mycology to be held from July 1 to 4\, 2025.\n\nThis course will be offered in two modes:\n– Fully online\n– Blended learning\, which includes hands-on laboratory sessions (limited to 30 slots)\n\nParticipants may register via the QR code on the poster or through the following link: https://tinyurl.com/UPCPHMyco44\n\nContinuing Professional Development (CPD) units in medicine and medical technology will be applied for.\n\nFor more details\, kindly refer to the poster. You may also contact us at dmmcph.upmanila@gmail.com.\n\nSource: University of the Philippines Manila Facebook
URL:https://alum.up.edu.ph/event/44th-postgraduate-course-in-diagnostic-mycology/
END:VEVENT
BEGIN:VEVENT
DTSTART;TZID=UTC:20250701T080000
DTEND;TZID=UTC:20250704T170000
DTSTAMP:20260422T130847
CREATED:20250612T180216Z
LAST-MODIFIED:20250612T180216Z
UID:20469-1751356800-1751648400@alum.up.edu.ph
SUMMARY:UP Manila CPH 29th Course on Food Safety
DESCRIPTION:It is that time of year~\nBe ready to plot your calendars 🗓️\n\nThe 29th Course on Food Safety will be held on July 1-4\, 2025.\n\nThe course is a 4-day program that follows the WHO-ICD-SEAMEO training module. It aims to equip its participants with technical competency in food safety principles and concepts needed to address issues and challenges in their respective fields.\n\n🔍 Read more on the training course here:\nhttps://bit.ly/UPCPHDON-CFSBrochure\n\n🔍 Find answers to frequently asked questions including course information\, payment details\, and platforms to be used: https://bit.ly/DONShortCoursesFAQs\n\n🤩 Secure your slots now! You may pre-register here: https://bit.ly/DONPre-reg2025\n💡Your slots will only be confirmed upon receipt of payment.\n\nThe course fee is Php 10\,000.00 for local applicants and US $350.00 for foreign applicants. Upload your proof of payment here: https://forms.gle/Y1QP1WnYpRbArHCw8\n\nWe hope to see you there!\n\nSource: Department of Nutrition – College of Public Health\, UP Manila Facebook
URL:https://alum.up.edu.ph/event/up-manila-cph-29th-course-on-food-safety/
END:VEVENT
BEGIN:VEVENT
DTSTART;TZID=UTC:20250703T080000
DTEND;TZID=UTC:20250704T170000
DTSTAMP:20260422T130847
CREATED:20250603T171953Z
LAST-MODIFIED:20250603T171953Z
UID:20421-1751529600-1751648400@alum.up.edu.ph
SUMMARY:Evidence Synthesis Workshop 2025: Systematic Review\, Pairwise and Network Meta-Analysis\, Bibliometric Analysis\, and Basic Statistical Analysis
DESCRIPTION:Enhance your research skills and join our two-day workshop on systematic reviews\, meta-analysis\, and bibliometrics.\n\n📅 Date: July 3-4\, 2025\n🕗 Time: 8:00 AM – 5:00 PM\n📍 Venue: Physiology Lecture Hall\, University of the Philippines College of Medicine\n\nThis event is free of charge for all current students\, faculty\, and REPS of the UP System. It is also open to non-UP participants\, with a registration fee of PHP 1\,500 for students and PHP 3\,000 for graduates.\n\n🔗 Register now at: bit.ly/SRMA2025 (http://bit.ly/SRMA2025)\n\nSource: University of the Philippines Manila Facebook
URL:https://alum.up.edu.ph/event/evidence-synthesis-workshop-2025-systematic-review-pairwise-and-network-meta-analysis-bibliometric-analysis-and-basic-statistical-analysis/
END:VEVENT
BEGIN:VEVENT
DTSTART;TZID=UTC:20250703T100000
DTEND;TZID=UTC:20250703T113000
DTSTAMP:20260422T130847
CREATED:20250626T213012Z
LAST-MODIFIED:20250626T213012Z
UID:20665-1751536800-1751542200@alum.up.edu.ph
SUMMARY:Generalized Weyl Algebras and their Representations
DESCRIPTION:The Groups\, Geometry\, and Representations Research Group invites everyone to attend the webinar series Generalized Weyl Algebras and their Representations.\n\nThis will be held on June 30\, July 1\, 3\, 8\, & 10\, 2025 via Zoom. For more information\, visit: https://sites.google.com/view/course1-mathintroseries/home\n\nSource: UP Diliman Institute of Mathematics Facebook
URL:https://alum.up.edu.ph/event/generalized-weyl-algebras-and-their-representations-3/
END:VEVENT
END:VCALENDAR