BEGIN:VCALENDAR
VERSION:2.0
PRODID:-//UP Alumni Website - ECPv6.15.16//NONSGML v1.0//EN
CALSCALE:GREGORIAN
METHOD:PUBLISH
X-WR-CALNAME:UP Alumni Website
X-ORIGINAL-URL:https://alum.up.edu.ph
X-WR-CALDESC:Events for UP Alumni Website
REFRESH-INTERVAL;VALUE=DURATION:PT1H
X-Robots-Tag:noindex
X-PUBLISHED-TTL:PT1H
BEGIN:VTIMEZONE
TZID:UTC
BEGIN:STANDARD
TZOFFSETFROM:+0000
TZOFFSETTO:+0000
TZNAME:UTC
DTSTART:20240101T000000
END:STANDARD
END:VTIMEZONE
BEGIN:VEVENT
DTSTART;VALUE=DATE:20250201
DTEND;VALUE=DATE:20260101
DTSTAMP:20260424T014121
CREATED:20250213T203449Z
LAST-MODIFIED:20250213T203449Z
UID:19267-1738368000-1767225599@alum.up.edu.ph
SUMMARY:UP Mindanao's 30th Anniversary Year-long Schedule of Activities
DESCRIPTION:LOOK | Year-long Schedule of Activities for UP Mindanao’s 30th Anniversary\n\nJoin us as we celebrate three decades of academic excellence\, research innovation\, and community engagement! UP Mindanao’s 30th Anniversary is packed with exciting activities\, from cultural performances and academic forums to sports events and community outreach programs.\n\nHere’s the full schedule and be part of this milestone celebration! Let’s honor our past\, celebrate our present\, and shape our future together.\n\nSource: University of the Philippines Mindanao Facebook
URL:https://alum.up.edu.ph/event/up-mindanaos-30th-anniversary-year-long-schedule-of-activities/
END:VEVENT
BEGIN:VEVENT
DTSTART;TZID=UTC:20250628T080000
DTEND;TZID=UTC:20250720T170000
DTSTAMP:20260424T014121
CREATED:20250713T180057Z
LAST-MODIFIED:20250713T180057Z
UID:20833-1751097600-1753030800@alum.up.edu.ph
SUMMARY:2025 UP Visayas Pre-Homecoming Events
DESCRIPTION:Source: UPV Office of Alumni Relations
URL:https://alum.up.edu.ph/event/2025-up-visayas-pre-homecoming-events/
END:VEVENT
BEGIN:VEVENT
DTSTART;TZID=UTC:20250709T090000
DTEND;TZID=UTC:20250709T110000
DTSTAMP:20260424T014121
CREATED:20250702T212848Z
LAST-MODIFIED:20250702T212848Z
UID:20738-1752051600-1752058800@alum.up.edu.ph
SUMMARY:Justice for All: Rationalizing the Philippine Criminal Justice and Correctional Systems
DESCRIPTION:Justice for All: Rationalizing the Philippine Criminal Justice and Correctional Systems\n\nJoin us for a thought-provoking lecture featuring Dr. Raymond E. Narag\, Associate Professor at Southern Illinois University and expert in Southeast Asian criminal justice reform. Dr. Narag will share insights on the complexities and current developments in our justice and correctional systems\, including strategies for meaningful and systemic reform.\n\nTo enrich the conversation\, we are honored to have PGen. Nicolas D. Torre III\, Chief of the Philippine National Police\, as Reactor\, offering practical perspectives from the frontline of law enforcement.\n\nSave the date and be part of the dialogue that seeks to uphold rights\, dignity\, and public safety.\n\n📅 July 9\, 2025 (Wednesday)\n⏰ 9:00 to 11:00 a.m.\n📍NCPAG Case Room\n\nSign up through the QR code or through this link: https://tinyurl.com/jfa-ncpag\n\nSource: UP-NCPAG Facebook
URL:https://alum.up.edu.ph/event/justice-for-all-rationalizing-the-philippine-criminal-justice-and-correctional-systems/
END:VEVENT
BEGIN:VEVENT
DTSTART;TZID=UTC:20250709T120000
DTEND;TZID=UTC:20250709T130000
DTSTAMP:20260424T014121
CREATED:20250708T161923Z
LAST-MODIFIED:20250708T161923Z
UID:20778-1752062400-1752066000@alum.up.edu.ph
SUMMARY:"The Archaeology in Search for Ma-yi: Recent Investigations in Lumban\, Laguna"
DESCRIPTION:Ma-yi is the first mention of a Philippine place according to Chinese historical records. Its location has been long debated to be either in Laguna or Mindoro. How are these current investigations going?\n\nJoin us as Taj Vitales discusses this in detail with “The Archaeology in Search for Ma-yi: Recent Investigations in Lumban\, Laguna” this Wednesday (9 July 2025) from 12nn to 1pm at Seminar Rm. 2\, Albert Hall\, UP Diliman. or via Zoom: https://bit.ly/Binalot_9July25\n\nWant to invite a friend who is not on FB? Send them this link instead: https://archaeology.upd.edu.ph/calendar\n\nSource: Binalot Talks Facebook Group page
URL:https://alum.up.edu.ph/event/the-archaeology-in-search-for-ma-yi-recent-investigations-in-lumban-laguna/
END:VEVENT
BEGIN:VEVENT
DTSTART;TZID=UTC:20250709T130000
DTEND;TZID=UTC:20250709T143000
DTSTAMP:20260424T014121
CREATED:20250701T161555Z
LAST-MODIFIED:20250701T161555Z
UID:20704-1752066000-1752071400@alum.up.edu.ph
SUMMARY:Making the Invisible Visible: Democratizing Air Quality Monitoring Through Low-Cost Sensor Technology
DESCRIPTION:Poor air quality is a global challenge\, but what if we could democratize its monitoring?\n\nThe UPCIDS Political Economy Program (PEP) invites you to their Round Table Discussion\, “Making the Invisible Visible: Democratizing Air Quality Monitoring Through Low-Cost Sensor Technology.”\n\nExplore cutting-edge methods using low-cost sensor technology and advanced engineering simulation to gain actionable insights into air pollution. This RTD will highlight how this integrated approach can lead to better air quality management and effective mitigation strategies.\n\nSave the date:\n🗓️ July 9\, 2025 | 1:00 PM – 4:00 PM\n📍 AVR\, National Engineering Center\, College of Engineering\, UP Diliman\n\nLet’s discuss how to breathe easier\, together!\nFor inquiries about this RTD\, email at pep.cids@up.edu.ph\n\nFor more information: https://cids.up.edu.ph/making-invisible-visible…/\n\nUPDATE: Please register in advance through this link https://tinyurl.com/MakingInvisibleVisible\n\nWalk-ins are also welcome\, but please note that priority for food will be given to those who have pre-registered.\n\nSource: UP Center for Integrative and Development Studies Facebook
URL:https://alum.up.edu.ph/event/making-the-invisible-visible-democratizing-air-quality-monitoring-through-low-cost-sensor-technology/
END:VEVENT
END:VCALENDAR