BEGIN:VCALENDAR
VERSION:2.0
PRODID:-//UP Alumni Website - ECPv6.15.16//NONSGML v1.0//EN
CALSCALE:GREGORIAN
METHOD:PUBLISH
X-WR-CALNAME:UP Alumni Website
X-ORIGINAL-URL:https://alum.up.edu.ph
X-WR-CALDESC:Events for UP Alumni Website
REFRESH-INTERVAL;VALUE=DURATION:PT1H
X-Robots-Tag:noindex
X-PUBLISHED-TTL:PT1H
BEGIN:VTIMEZONE
TZID:UTC
BEGIN:STANDARD
TZOFFSETFROM:+0000
TZOFFSETTO:+0000
TZNAME:UTC
DTSTART:20240101T000000
END:STANDARD
END:VTIMEZONE
BEGIN:VEVENT
DTSTART;VALUE=DATE:20250201
DTEND;VALUE=DATE:20260101
DTSTAMP:20260420T195054
CREATED:20250213T203449Z
LAST-MODIFIED:20250213T203449Z
UID:19267-1738368000-1767225599@alum.up.edu.ph
SUMMARY:UP Mindanao's 30th Anniversary Year-long Schedule of Activities
DESCRIPTION:LOOK | Year-long Schedule of Activities for UP Mindanao’s 30th Anniversary\n\nJoin us as we celebrate three decades of academic excellence\, research innovation\, and community engagement! UP Mindanao’s 30th Anniversary is packed with exciting activities\, from cultural performances and academic forums to sports events and community outreach programs.\n\nHere’s the full schedule and be part of this milestone celebration! Let’s honor our past\, celebrate our present\, and shape our future together.\n\nSource: University of the Philippines Mindanao Facebook
URL:https://alum.up.edu.ph/event/up-mindanaos-30th-anniversary-year-long-schedule-of-activities/
END:VEVENT
BEGIN:VEVENT
DTSTART;TZID=UTC:20250711T090000
DTEND;TZID=UTC:20250807T160000
DTSTAMP:20260420T195054
CREATED:20250708T162628Z
LAST-MODIFIED:20250708T162628Z
UID:20785-1752224400-1754582400@alum.up.edu.ph
SUMMARY:Petals & Playgrounds Exhibition
DESCRIPTION:🌸🎠 Petals & Playgrounds is opening its glittery gates! ✨\n\nHello mga bata and kids at heart! Halina’t maglaro\, maglikha\, at mag-reimagine ng ating queer childhoods sa isang makulay na exhibit! 🧸🖼️\n🎉 Opening Reception:\n\n📅 July 11\, 2025\n🕒 3-5 PM\n📍 Gallery One\, UP Fine Arts Gallery (Parola)\, UP Diliman\n🌷 Exhibit runs from July 11 to August 7!\n\nAng goal ng mga artworks\, photos\, at films mula sa mga queer artists ng Pinas ay makapagbigay isang safe space para sa atin\, para sa kabataan\, at para sa makulay na alaala ng pagiging tayo.\n\n✨ Mag-register na mga accla rito: https://tinyurl.com/PetalsAndPlaygrounds\n\nSource: UP Fine Arts Gallery Facebook
URL:https://alum.up.edu.ph/event/petals-playgrounds-exhibition/
END:VEVENT
BEGIN:VEVENT
DTSTART;TZID=UTC:20250714T080000
DTEND;TZID=UTC:20251114T170000
DTSTAMP:20260420T195054
CREATED:20250624T215306Z
LAST-MODIFIED:20250624T215306Z
UID:20601-1752480000-1763139600@alum.up.edu.ph
SUMMARY:2025 Basic Bootcamp: Introduction to Data Analytics and its Application to AI and Policy Analytics
DESCRIPTION:The UP Center for Integrative and Development Studies Program on Data Science for Public Policy (UP CIDS-DSPPP) will conduct an integrated three-level (Basic\, Intermediate\, Advanced) capacity building bootcamp on the trending issue of AI\, entitled: Explainable Artificial Intelligence (XAI) for Public Policy: AI Informed Human Directed Public Policy Making.\n\nThis is a 5-day hands-on workshop that usually cater to UP Faculty and Research Personnel\, which we are now offering for other stakeholders\, such as government agencies and other non-UP institutions who are interested to engage into the complexities of Artificial Intelligence and how we can come up with policies to address its proper utilization.\n\nLimited slots only\, so hurry!\n \nREGISTER HERE
URL:https://alum.up.edu.ph/event/2025-basic-bootcamp-introduction-to-data-analytics-and-its-application-to-ai-and-policy-analytics/
END:VEVENT
BEGIN:VEVENT
DTSTART;TZID=UTC:20250719T080000
DTEND;TZID=UTC:20250802T170000
DTSTAMP:20260420T195054
CREATED:20250603T164116Z
LAST-MODIFIED:20250603T164116Z
UID:20413-1752912000-1754154000@alum.up.edu.ph
SUMMARY:UP ISSI's 7th Data Analytics Course
DESCRIPTION:Unlock the Power of Data Analytics for Your Business with UP ISSI!\n\nStruggling to understand your customers or make data-driven decisions?\nJoin UP ISSI’s 7th Data Analytics Course\, a hands-on program designed specifically for small businesses!\n\nLearn how to:\n-Analyze customer data to make smarter marketing & sales decisions.\n-Use data visualization to tell impactful stories with your data.\n-Optimize operations and identify new growth opportunities.\n\nDuration: July 19 and 26; August 2\, 2025 (3 Saturdays)\nVenue: Face-to-face (UP ISSI)\nFee: Php 7\,500.00\n\nUP employees & currently enrolled UP students get 50% off!\nEarly bird discount also available!\n\nLimited slots available! Register now: http://bit.ly/UPISSI_TrainingRegistration2025\n\nSource: UP Institute for Small-Scale Industries Facebook
URL:https://alum.up.edu.ph/event/up-issis-7th-data-analytics-course/
END:VEVENT
BEGIN:VEVENT
DTSTART;TZID=UTC:20250723T090000
DTEND;TZID=UTC:20250807T160000
DTSTAMP:20260420T195054
CREATED:20250713T174753Z
LAST-MODIFIED:20250713T174753Z
UID:20816-1753261200-1754582400@alum.up.edu.ph
SUMMARY:UP Visayas OAR Homecoming Exhibit
DESCRIPTION:This Homecoming\, we bring you the UPV OAR Homecoming Exhibit.\n\nFeaturing portraits of our UPV Chancellors\, alongside stories tracing the evolution of UPV\, from its roots as UPIC to the UPV we know today\, we step back in time to witness the legacy that shaped our beloved university.\n\nFrom vision to action\, each Chancellor left a mark\, with each chapter becoming a part of our shared story.\n\nVisit the exhibit and rediscover how UPV came to be.\n\nOpening reception is on July 23\, 2025\, Wednesday\, at 4:00PM\, at the Performing Arts Hall\, UPV MACH\, UPV Main Building\, UPV\, Iloilo City.\n\nThis Homecoming event is presented by UPV OAR in partnership with UPV OICA for UPV Homecoming 2025.\n\nSource: UPV Office of Alumni Relations Facebook
URL:https://alum.up.edu.ph/event/up-visayas-oar-homecoming-exhibit/
END:VEVENT
BEGIN:VEVENT
DTSTART;TZID=UTC:20250730T100000
DTEND;TZID=UTC:20250730T120000
DTSTAMP:20260420T195054
CREATED:20250708T162306Z
LAST-MODIFIED:20250708T162306Z
UID:20779-1753869600-1753876800@alum.up.edu.ph
SUMMARY:Higher Education Research and Policy Reform Program:  A Brown Bag Series
DESCRIPTION:The UP Center for Integrative and Development Studies (UP CIDS) Higher Education Research and Policy Reform Program is thrilled to announce its two-part Brown Bag Series via Zoom!\n\nGet ready for a comprehensive look into the evolving landscape of Philippine higher education\, featuring cutting-edge research from our esteemed scholars:\n\n🔬 Session 1: Research Progress and Updates\n📅 July 30\, 2025 (Wednesday) | ⏰ 10:00 AM – 12:00 NN (Philippine Time)\n\n📊 Session 2: Data Collection Results\n📅 September 10\, 2025 (Wednesday) | ⏰ 10:00 AM – 12:00 NN (Philippine Time)\n\nBest part? It’s FREE and open for all!\n\nRegister now to secure your spot:\n👉 https://forms.gle/EjmgmjjJaBAHqfFw6\n\nDon’t miss out on these insightful sessions! Share this with anyone passionate about the future of Philippine education!\n\nFor more details\, visit: https://cids.up.edu.ph/higher-education-research-a-two…/\n\nSource: UP Center for Integrative and Development Studies Facebook
URL:https://alum.up.edu.ph/event/higher-education-research-and-policy-reform-program-a-brown-bag-series/
END:VEVENT
END:VCALENDAR