BEGIN:VCALENDAR
VERSION:2.0
PRODID:-//UP Alumni Website - ECPv6.15.16//NONSGML v1.0//EN
CALSCALE:GREGORIAN
METHOD:PUBLISH
X-WR-CALNAME:UP Alumni Website
X-ORIGINAL-URL:https://alum.up.edu.ph
X-WR-CALDESC:Events for UP Alumni Website
REFRESH-INTERVAL;VALUE=DURATION:PT1H
X-Robots-Tag:noindex
X-PUBLISHED-TTL:PT1H
BEGIN:VTIMEZONE
TZID:UTC
BEGIN:STANDARD
TZOFFSETFROM:+0000
TZOFFSETTO:+0000
TZNAME:UTC
DTSTART:20240101T000000
END:STANDARD
END:VTIMEZONE
BEGIN:VEVENT
DTSTART;VALUE=DATE:20250201
DTEND;VALUE=DATE:20260101
DTSTAMP:20260420T110729
CREATED:20250213T203449Z
LAST-MODIFIED:20250213T203449Z
UID:19267-1738368000-1767225599@alum.up.edu.ph
SUMMARY:UP Mindanao's 30th Anniversary Year-long Schedule of Activities
DESCRIPTION:LOOK | Year-long Schedule of Activities for UP Mindanao’s 30th Anniversary\n\nJoin us as we celebrate three decades of academic excellence\, research innovation\, and community engagement! UP Mindanao’s 30th Anniversary is packed with exciting activities\, from cultural performances and academic forums to sports events and community outreach programs.\n\nHere’s the full schedule and be part of this milestone celebration! Let’s honor our past\, celebrate our present\, and shape our future together.\n\nSource: University of the Philippines Mindanao Facebook
URL:https://alum.up.edu.ph/event/up-mindanaos-30th-anniversary-year-long-schedule-of-activities/
END:VEVENT
BEGIN:VEVENT
DTSTART;TZID=UTC:20250714T080000
DTEND;TZID=UTC:20251114T170000
DTSTAMP:20260420T110729
CREATED:20250624T215306Z
LAST-MODIFIED:20250624T215306Z
UID:20601-1752480000-1763139600@alum.up.edu.ph
SUMMARY:2025 Basic Bootcamp: Introduction to Data Analytics and its Application to AI and Policy Analytics
DESCRIPTION:The UP Center for Integrative and Development Studies Program on Data Science for Public Policy (UP CIDS-DSPPP) will conduct an integrated three-level (Basic\, Intermediate\, Advanced) capacity building bootcamp on the trending issue of AI\, entitled: Explainable Artificial Intelligence (XAI) for Public Policy: AI Informed Human Directed Public Policy Making.\n\nThis is a 5-day hands-on workshop that usually cater to UP Faculty and Research Personnel\, which we are now offering for other stakeholders\, such as government agencies and other non-UP institutions who are interested to engage into the complexities of Artificial Intelligence and how we can come up with policies to address its proper utilization.\n\nLimited slots only\, so hurry!\n \nREGISTER HERE
URL:https://alum.up.edu.ph/event/2025-basic-bootcamp-introduction-to-data-analytics-and-its-application-to-ai-and-policy-analytics/
END:VEVENT
BEGIN:VEVENT
DTSTART;VALUE=DATE:20250801
DTEND;VALUE=DATE:20250901
DTSTAMP:20260420T110729
CREATED:20250810T191813Z
LAST-MODIFIED:20250810T191813Z
UID:21296-1754006400-1756684799@alum.up.edu.ph
SUMMARY:Sentro ng Wikang Filipino BUWAN NG WIKA 2025
DESCRIPTION:Kalendaryo ng mga Aktibidad ng mga Sentro ng Wikang Filipino sa iba’t ibang CU at iba pang mga katuwang na institusyon para sa pagdiriwang ng BUWAN NG WIKA 2025 na may temang Sulong: Wikang Filipino at mga Wika ng Pilipinas para sa Dangal\, Husay\, at Paglilingkod.\n\nAbangan din ang iba pang madaragdag na mga programa at proyekto sa susunod na paskil ng Kalendaryo. Para sa mga karagdagang impormasyon\, mangyaring bisitahin ang opisyal na website at facebook page ng mga opisina.\n\nSource: Sentro ng Wikang Filipino – UP Diliman Facebook
URL:https://alum.up.edu.ph/event/sentro-ng-wikang-filipino-buwan-ng-wika-2025/
END:VEVENT
BEGIN:VEVENT
DTSTART;TZID=UTC:20250801T080000
DTEND;TZID=UTC:20250831T170000
DTSTAMP:20260420T110729
CREATED:20250810T212445Z
LAST-MODIFIED:20250810T212445Z
UID:21304-1754035200-1756659600@alum.up.edu.ph
SUMMARY:UP Manila Buwan ng Wika 2025 "Sulong: Wikang Filipino at mga Wika ng Pilipinas para sa Dangal\, Husay\, at Paglilingkod"
DESCRIPTION:Sa temang\, “Sulong: Wikang Filipino at mga Wika ng Pilipinas para sa Dangal\, Husay\, at Paglilingkod\,” nakikiisa ang Unibersidad ng Pilipinas Manila sa pagdiriwang ng Buwan ng Wika.\n\nNarito and Kalendaryo ng mga Aktibidad na inihanda ng Sentro ng Wikang Filipino – UP Manila para sa pagdiriwang ngayong taon.\n\nSource: University of the Philippines Manila Facebook
URL:https://alum.up.edu.ph/event/up-manila-buwan-ng-wika-2025/
END:VEVENT
BEGIN:VEVENT
DTSTART;TZID=UTC:20250809T093000
DTEND;TZID=UTC:20251025T120000
DTSTAMP:20260420T110729
CREATED:20250806T154125Z
LAST-MODIFIED:20250806T154125Z
UID:21110-1754731800-1761393600@alum.up.edu.ph
SUMMARY:UP Vargas Museum Family Day
DESCRIPTION:Family Day at the UP Vargas Museum happens this Saturday!\n\nRegister to join\, bit.ly/UPVMFamilyDay.\n\nThe UP Vargas Museum invites families with children aged 6 to 10 years old to join us for a Family Day event on Saturday\, 9 August 2025\, from 9:30 AM to 12 NN. Family Day at the Vargas Museum will bring children closer to nature with activities including gardening and zine-making. Teacher and illustrator Patti Ramos will join us during the art activity sessions.\n\nWe encourage everyone to wear comfortable clothing and to bring their tumblers or water bottles.\n\nThe UP Vargas Museum Family Day is the culminating activity for our “Art as Pedagogy: Neighborhoods and shared resources” project. “Art as Pedagogy: Neighborhoods and shared resources” is part of the UP Diliman Arts and Culture Festival 2025. Aligned with this year’s theme\, “Kalahok sa Nagbabagong Kalikasan\,” the project aims to develop expanded pedagogical materials that weave art practices\, sustainability\, and the museum’s social practice project\, which is our ongoing Gardens and Homesteads initiative. It positions art institutions like the museum as a site for gathering and sharing. It also foregrounds education as the core thrust of the Vargas Museum alongside curation and research.\n\n“Art as Pedagogy: Neighborhoods and shared resources” is part of the Arts and Culture Festival organized by the UP Diliman Office for Initiatives in Culture and the Arts (UP Diliman OICA). It is an umbrella project for the second phase of the Southeast Asia Neighborhoods Network (SEANNET) for its Manila case study.\n\nSource: UP Vargas Museum Facebook
URL:https://alum.up.edu.ph/event/up-vargas-museum-family-day-2/
END:VEVENT
BEGIN:VEVENT
DTSTART;TZID=UTC:20250818T130000
DTEND;TZID=UTC:20250818T160000
DTSTAMP:20260420T110729
CREATED:20250813T160830Z
LAST-MODIFIED:20250813T160830Z
UID:21355-1755522000-1755532800@alum.up.edu.ph
SUMMARY:Growing Up with Ghibli: Transnational Legacies of Hayao Miyazaki
DESCRIPTION:Join us onsite for an illuminating panel discussion\, 🎥 Growing Up with Ghibli: Transnational Legacies of Hayao Miyazaki\, exploring how Hayao Miyazaki’s timeless films have shaped our childhoods and enriched cultural imagination.\n\n🗓 18 August 2025\, 1:00 PM–4:00 PM (GMT+8)\n📍 Onsite at the UP Asian Center\, UP Diliman\n🔗 View details | Register now: bit.ly/acghibli\n\nTogether with the Ramon Magsaysay Transformative Leadership Institute\, the UP Asian Center presents a space for scholars and artists to explore Miyazaki’s influence as a force of cultural diplomacy\, bridging nations through storytelling\, shared values\, and identity formation.\n\nThe event is open to the public—register now! bit.ly/acghibli\n\nSource: Asian Center\, UP Diliman Facebook
URL:https://alum.up.edu.ph/event/growing-up-with-ghibli-transnational-legacies-of-hayao-miyazaki/
END:VEVENT
BEGIN:VEVENT
DTSTART;TZID=UTC:20250818T150000
DTEND;TZID=UTC:20250818T170000
DTSTAMP:20260420T110729
CREATED:20250806T155935Z
LAST-MODIFIED:20250806T155935Z
UID:21111-1755529200-1755536400@alum.up.edu.ph
SUMMARY:“The Next Generation of Builders: Empowering Youth to Create Bias-Aware AI”
DESCRIPTION:Join UP ISC for a webinar on “The Next Generation of Builders: Empowering Youth to Create Bias-Aware AI” with Dr. Charibeth K. Cheng\, Associate Dean of the College of Computer Studies and Senior Researcher at the Center for Language Technologies of De La Salle University.\n\nWith the rise in popularity of Large Language Models (LLMs)\, boundless opportunities for innovation are within the grasps of many individuals; however\, this power comes with a challenge – the biases within these models. This talk will illustrate how systems trained on unrepresentative datasets can struggle with cultural and linguistic nuance.\n\nBeyond identifying the issue at hand\, solutions for this problem will also be discussed. This talk will show a practical path to mitigating bias and creating more reliable and trustworthy systems by demonstrating how AI agents can be designed to “act” with a “cultural compass” using custom tools and intelligent planning.\n\n🗓 Date: 18 August 2025 (Monday)\n🕒 Time: 3:00 PM PHT\n💻 Via Zoom\n\nThis is a free event. Attendees will receive a certificate of participation after the completion of the evaluation form post event.\n\nRegistration Link: https://tinyurl.com/UPISCWebinarQ3-05\n\nSource: University of the Philippines Intelligent Systems Center Facebook
URL:https://alum.up.edu.ph/event/the-next-generation-of-builders-empowering-youth-to-create-bias-aware-ai/
END:VEVENT
END:VCALENDAR