BEGIN:VCALENDAR
VERSION:2.0
PRODID:-//UP Alumni Website - ECPv6.15.16//NONSGML v1.0//EN
CALSCALE:GREGORIAN
METHOD:PUBLISH
X-WR-CALNAME:UP Alumni Website
X-ORIGINAL-URL:https://alum.up.edu.ph
X-WR-CALDESC:Events for UP Alumni Website
REFRESH-INTERVAL;VALUE=DURATION:PT1H
X-Robots-Tag:noindex
X-PUBLISHED-TTL:PT1H
BEGIN:VTIMEZONE
TZID:UTC
BEGIN:STANDARD
TZOFFSETFROM:+0000
TZOFFSETTO:+0000
TZNAME:UTC
DTSTART:20240101T000000
END:STANDARD
END:VTIMEZONE
BEGIN:VEVENT
DTSTART;VALUE=DATE:20250201
DTEND;VALUE=DATE:20260101
DTSTAMP:20260424T042111
CREATED:20250213T203449Z
LAST-MODIFIED:20250213T203449Z
UID:19267-1738368000-1767225599@alum.up.edu.ph
SUMMARY:UP Mindanao's 30th Anniversary Year-long Schedule of Activities
DESCRIPTION:LOOK | Year-long Schedule of Activities for UP Mindanao’s 30th Anniversary\n\nJoin us as we celebrate three decades of academic excellence\, research innovation\, and community engagement! UP Mindanao’s 30th Anniversary is packed with exciting activities\, from cultural performances and academic forums to sports events and community outreach programs.\n\nHere’s the full schedule and be part of this milestone celebration! Let’s honor our past\, celebrate our present\, and shape our future together.\n\nSource: University of the Philippines Mindanao Facebook
URL:https://alum.up.edu.ph/event/up-mindanaos-30th-anniversary-year-long-schedule-of-activities/
END:VEVENT
BEGIN:VEVENT
DTSTART;TZID=UTC:20250714T080000
DTEND;TZID=UTC:20251114T170000
DTSTAMP:20260424T042111
CREATED:20250624T215306Z
LAST-MODIFIED:20250624T215306Z
UID:20601-1752480000-1763139600@alum.up.edu.ph
SUMMARY:2025 Basic Bootcamp: Introduction to Data Analytics and its Application to AI and Policy Analytics
DESCRIPTION:The UP Center for Integrative and Development Studies Program on Data Science for Public Policy (UP CIDS-DSPPP) will conduct an integrated three-level (Basic\, Intermediate\, Advanced) capacity building bootcamp on the trending issue of AI\, entitled: Explainable Artificial Intelligence (XAI) for Public Policy: AI Informed Human Directed Public Policy Making.\n\nThis is a 5-day hands-on workshop that usually cater to UP Faculty and Research Personnel\, which we are now offering for other stakeholders\, such as government agencies and other non-UP institutions who are interested to engage into the complexities of Artificial Intelligence and how we can come up with policies to address its proper utilization.\n\nLimited slots only\, so hurry!\n \nREGISTER HERE
URL:https://alum.up.edu.ph/event/2025-basic-bootcamp-introduction-to-data-analytics-and-its-application-to-ai-and-policy-analytics/
END:VEVENT
BEGIN:VEVENT
DTSTART;TZID=UTC:20250809T093000
DTEND;TZID=UTC:20251025T120000
DTSTAMP:20260424T042111
CREATED:20250806T154125Z
LAST-MODIFIED:20250806T154125Z
UID:21110-1754731800-1761393600@alum.up.edu.ph
SUMMARY:UP Vargas Museum Family Day
DESCRIPTION:Family Day at the UP Vargas Museum happens this Saturday!\n\nRegister to join\, bit.ly/UPVMFamilyDay.\n\nThe UP Vargas Museum invites families with children aged 6 to 10 years old to join us for a Family Day event on Saturday\, 9 August 2025\, from 9:30 AM to 12 NN. Family Day at the Vargas Museum will bring children closer to nature with activities including gardening and zine-making. Teacher and illustrator Patti Ramos will join us during the art activity sessions.\n\nWe encourage everyone to wear comfortable clothing and to bring their tumblers or water bottles.\n\nThe UP Vargas Museum Family Day is the culminating activity for our “Art as Pedagogy: Neighborhoods and shared resources” project. “Art as Pedagogy: Neighborhoods and shared resources” is part of the UP Diliman Arts and Culture Festival 2025. Aligned with this year’s theme\, “Kalahok sa Nagbabagong Kalikasan\,” the project aims to develop expanded pedagogical materials that weave art practices\, sustainability\, and the museum’s social practice project\, which is our ongoing Gardens and Homesteads initiative. It positions art institutions like the museum as a site for gathering and sharing. It also foregrounds education as the core thrust of the Vargas Museum alongside curation and research.\n\n“Art as Pedagogy: Neighborhoods and shared resources” is part of the Arts and Culture Festival organized by the UP Diliman Office for Initiatives in Culture and the Arts (UP Diliman OICA). It is an umbrella project for the second phase of the Southeast Asia Neighborhoods Network (SEANNET) for its Manila case study.\n\nSource: UP Vargas Museum Facebook
URL:https://alum.up.edu.ph/event/up-vargas-museum-family-day-2/
END:VEVENT
BEGIN:VEVENT
DTSTART;TZID=UTC:20250830T080000
DTEND;TZID=UTC:20251122T170000
DTSTAMP:20260424T042111
CREATED:20250624T190146Z
LAST-MODIFIED:20250624T190146Z
UID:20579-1756540800-1763830800@alum.up.edu.ph
SUMMARY:3rd Certificate Course in Industrial Relations and Human Resource Management (IRHR 23)
DESCRIPTION:Empower Your HR & IR Journey! Join the 23rd Certificate Course in Industrial Relations and Human Resource Management (IRHR 23) — a comprehensive training program by UP SOLAIR in collaboration with CIPC.\n\nAugust 30 to November 22\, 2025\nOnline via Zoom teleconference\nLed by UP professors & industry experts\n\nIncludes 20 sessions\, capstone project\, handouts & certification\nInvestment Fee: PhP33\,000\n\nPre-register now to receive the schedule and enrollment details: https://bit.ly/IRHR23REG\nEmail us: cipc.upd@up.edu.ph\n\nRead more: https://solair.upd.edu.ph/empower-your-hr-journey-the…/
URL:https://alum.up.edu.ph/event/3rd-certificate-course-in-industrial-relations-and-human-resource-management-irhr-23/
END:VEVENT
BEGIN:VEVENT
DTSTART;TZID=UTC:20250915T080000
DTEND;TZID=UTC:20250925T170000
DTSTAMP:20260424T042111
CREATED:20250915T170313Z
LAST-MODIFIED:20250915T170313Z
UID:21642-1757923200-1758819600@alum.up.edu.ph
SUMMARY:UP Asian Institute of Tourism Day of Remembrance
DESCRIPTION:Bilang pag-alala sa ika-53 anibersaryo ng pagpapatupad ng Martial Law\, ang Linangan ng Turismo sa Asya ay iniimbitahan ang lahat sa mga serye ng aktibidad na magpapalalim ng ating pag-unawa sa kasaysayan at magtataguyod ng diwa ng demokrasya.\n\nMagrehistro sa pamamagitan ng QR code na nakalakip sa mga poster upang makalahok sa walking tour at lecture.\n\nSource: UP Asian Institute of Tourism Facebook
URL:https://alum.up.edu.ph/event/up-asian-institute-of-tourism-day-of-remembrance/
END:VEVENT
BEGIN:VEVENT
DTSTART;TZID=UTC:20250920T080000
DTEND;TZID=UTC:20251004T170000
DTSTAMP:20260424T042111
CREATED:20250915T180231Z
LAST-MODIFIED:20250915T180231Z
UID:21651-1758355200-1759597200@alum.up.edu.ph
SUMMARY:"Old Iskul\, Old is Cool" Art Exhibition
DESCRIPTION:Parola presents Old Iskul\, Old is Cool\, a group exhibition featuring UP College of Fine Arts alumni of the 1970s to the 1990s\, opening on Saturday\, September 20 at the Atrium of Parola.\n\n“Old Iskul\, Old is Cool” traces the trajectories of artists whose practices have shaped and been shaped by decades of shifting cultural landscapes. The exhibition opens a dialogue between past and present\, where early student works\, evolving visions\, and recent pieces reveal how memory\, discipline\, and experimentation continue to transform. More than a reunion\, it is a mapping of artistic legacies: a constellation of images\, gestures\, and forms that remain vital to understanding the place of art in both personal and collective histories.\n\nThe exhibition will also feature upcoming events such as artist walk-throughs and artist talks. Dates and details will be announced soon. Watch out for updates!\n\nJoin us as we revisit the vibrant spirit of the UP CFA from the 70s to the 90s\, and celebrate the creative journeys that continue to inspire today.\n\nOpening Reception (September 20):\n5:00 PM | Opening Ceremony\n5:30 PM | Welcome Remarks & Introductions\n6:00 PM | Viewing of Exhibition\n7:00 PM | Live Performances\n\nOLD ISKUL\, OLD IS COOL\nSeptember 20 – October 4\, 2025\nAtrium\, UP Fine Arts Gallery (Parola)\, Arts and Design West Hall\, UP College of Fine Arts\nOpening Reception: September 20\, 2025\, 5:00 PM\n\nFREE AND OPEN TO THE PUBLIC\n\nThe UP Fine Arts Gallery is open from Tuesday to Saturday\, 9 AM to 4 PM at the Arts and Design West Hall\, College of Fine Arts\, Diliman\, Quezon City. For inquiries\, you may message us at cfagallery.upd@up.edu.ph or call us at +63-2-8981-8500 local 3988.\n\nSource: UP Fine Arts Gallery Facebook
URL:https://alum.up.edu.ph/event/old-iskul-old-is-cool-art-exhibition/
END:VEVENT
BEGIN:VEVENT
DTSTART;TZID=UTC:20250923T080000
DTEND;TZID=UTC:20250923T170000
DTSTAMP:20260424T042111
CREATED:20250909T214631Z
LAST-MODIFIED:20250909T214631Z
UID:21574-1758614400-1758646800@alum.up.edu.ph
SUMMARY:Innovate Davao 2025: Pitch. Protect. Partner.
DESCRIPTION:💡Innovate Davao 2025: Pitch. Protect. Partner.\n\nInviting you all on September 23\, 2025\, Innovate Davao 2025 is a one-day program and a featured community event of Davao Startup Week 2025 that brings MSMEs\, HEI startups\, government\, and industry together to strengthen Mindanao’s innovation ecosystem. Participants will learn to protect their innovations through an Intellectual Property seminar\, dare to pitch solutions in a forum that connects ideas with real-world challenges\, and move to partner with the opportunity to build collaborations with MSMEs\, startups\, HEIs\, government\, and industry\n\nThis event is organized by UP Mindanao TTBDO\, AGILab Innovation Hub – DOST Supported\, and Mindanao Development Authority (MinDA). Don’t miss the opportunity to connect\, collaborate\, and turn ideas into impact.\n\nRegistration link: will be posted soon together with the location its just stay tune for further news.\n\nPlease do also follow Davao Startup Week for more updates.\n\nSource: UPMin Technology Transfer and Business Development Office Facebook
URL:https://alum.up.edu.ph/event/innovate-davao-2025-pitch-protect-partner/
END:VEVENT
BEGIN:VEVENT
DTSTART;TZID=UTC:20250923T100000
DTEND;TZID=UTC:20250923T120000
DTSTAMP:20260424T042111
CREATED:20250915T180717Z
LAST-MODIFIED:20250915T180717Z
UID:21652-1758621600-1758628800@alum.up.edu.ph
SUMMARY:“Home Is Where the Loot Is: Mythmaking and Memorializing in Two Marcos Mansions”
DESCRIPTION:The UP Third World Studies Center (TWSC) invites the public to a free lecture titled “Home Is Where the Loot Is: Mythmaking and Memorializing in Two Marcos Mansions.” Researchers Arrianne Fajardo and Aidrielle Raymundo (UP TWSC)\, Asst. Prof. Larah del Mundo (UP Department of History)\, and Prof. Joseph Palis (UP Department of Geography) will speak at the event. This project was funded by the UP Diliman OICA.\n\nDATE: September 23\, 2025\nTIME: 10:00am to 12:00nn\nVENUE: Pilar Herrera Hall\, Palma Hall\, University of the Philippines Diliman\n\nA revolt notwithstanding\, the Marcoses have never left us—and may never will. This forum explores an answer to why this is so. An answer that is more rooted in catching a glimpse of displays and signages than in the brute intramurals of elite politics; an answer found in naming and placemaking\, in how power alters memory to erase vestiges of its corrupt history.\n\nHave We Honored the Marcoses Enough? An Inventory of Memorials to the Marcoses and the Places Named After Them is a project of the Marcos Regime Research of the UP Third World Studies Center. It catalogs Marcos sites—those that mention\, in celebratory or “neutral” terms\, the supposed excellence and benevolence of the Marcoses—and by extension\, the Romualdezes—during their conjugal regime. Through this inventory\, we hope to render in bold relief the network of sites where life for almost the past half-century must every day reckon with what the Marcoses have left behind.\n\nSo far\, we have identified over 250 Marcos sites. Across Luzon and the provinces of Leyte and Samar\, we have visited nearly 150 of these: museums\, parks\, government buildings\, houses of worship\, barangays\, schools\, historical markers\, and even a stadium and an airport.\nTo ground the lecture on the publicized “private spaces” of the Marcoses and how these contribute to their image-making\, we revisit two mansions that the conjugal dictators built at the height of their power: the Malacanang of the North in Paoay\, Ilocos Norte\, and the Santo Nino Shrine and Heritage Museum in Tacloban\, Leyte.\n\nAn ArcGIS StoryMaps webpage detailing the sites will be launched to the public on the day of the forum.\n\nSource: UP Twsc Facebook
URL:https://alum.up.edu.ph/event/home-is-where-the-loot-is-mythmaking-and-memorializing-in-two-marcos-mansions/
END:VEVENT
END:VCALENDAR