BEGIN:VCALENDAR
VERSION:2.0
PRODID:-//UP Alumni Website - ECPv6.15.16//NONSGML v1.0//EN
CALSCALE:GREGORIAN
METHOD:PUBLISH
X-WR-CALNAME:UP Alumni Website
X-ORIGINAL-URL:https://alum.up.edu.ph
X-WR-CALDESC:Events for UP Alumni Website
REFRESH-INTERVAL;VALUE=DURATION:PT1H
X-Robots-Tag:noindex
X-PUBLISHED-TTL:PT1H
BEGIN:VTIMEZONE
TZID:UTC
BEGIN:STANDARD
TZOFFSETFROM:+0000
TZOFFSETTO:+0000
TZNAME:UTC
DTSTART:20240101T000000
END:STANDARD
END:VTIMEZONE
BEGIN:VEVENT
DTSTART;VALUE=DATE:20250201
DTEND;VALUE=DATE:20260101
DTSTAMP:20260422T105748
CREATED:20250213T203449Z
LAST-MODIFIED:20250213T203449Z
UID:19267-1738368000-1767225599@alum.up.edu.ph
SUMMARY:UP Mindanao's 30th Anniversary Year-long Schedule of Activities
DESCRIPTION:LOOK | Year-long Schedule of Activities for UP Mindanao’s 30th Anniversary\n\nJoin us as we celebrate three decades of academic excellence\, research innovation\, and community engagement! UP Mindanao’s 30th Anniversary is packed with exciting activities\, from cultural performances and academic forums to sports events and community outreach programs.\n\nHere’s the full schedule and be part of this milestone celebration! Let’s honor our past\, celebrate our present\, and shape our future together.\n\nSource: University of the Philippines Mindanao Facebook
URL:https://alum.up.edu.ph/event/up-mindanaos-30th-anniversary-year-long-schedule-of-activities/
END:VEVENT
BEGIN:VEVENT
DTSTART;TZID=UTC:20250714T080000
DTEND;TZID=UTC:20251114T170000
DTSTAMP:20260422T105748
CREATED:20250624T215306Z
LAST-MODIFIED:20250624T215306Z
UID:20601-1752480000-1763139600@alum.up.edu.ph
SUMMARY:2025 Basic Bootcamp: Introduction to Data Analytics and its Application to AI and Policy Analytics
DESCRIPTION:The UP Center for Integrative and Development Studies Program on Data Science for Public Policy (UP CIDS-DSPPP) will conduct an integrated three-level (Basic\, Intermediate\, Advanced) capacity building bootcamp on the trending issue of AI\, entitled: Explainable Artificial Intelligence (XAI) for Public Policy: AI Informed Human Directed Public Policy Making.\n\nThis is a 5-day hands-on workshop that usually cater to UP Faculty and Research Personnel\, which we are now offering for other stakeholders\, such as government agencies and other non-UP institutions who are interested to engage into the complexities of Artificial Intelligence and how we can come up with policies to address its proper utilization.\n\nLimited slots only\, so hurry!\n \nREGISTER HERE
URL:https://alum.up.edu.ph/event/2025-basic-bootcamp-introduction-to-data-analytics-and-its-application-to-ai-and-policy-analytics/
END:VEVENT
BEGIN:VEVENT
DTSTART;TZID=UTC:20250809T093000
DTEND;TZID=UTC:20251025T120000
DTSTAMP:20260422T105748
CREATED:20250806T154125Z
LAST-MODIFIED:20250806T154125Z
UID:21110-1754731800-1761393600@alum.up.edu.ph
SUMMARY:UP Vargas Museum Family Day
DESCRIPTION:Family Day at the UP Vargas Museum happens this Saturday!\n\nRegister to join\, bit.ly/UPVMFamilyDay.\n\nThe UP Vargas Museum invites families with children aged 6 to 10 years old to join us for a Family Day event on Saturday\, 9 August 2025\, from 9:30 AM to 12 NN. Family Day at the Vargas Museum will bring children closer to nature with activities including gardening and zine-making. Teacher and illustrator Patti Ramos will join us during the art activity sessions.\n\nWe encourage everyone to wear comfortable clothing and to bring their tumblers or water bottles.\n\nThe UP Vargas Museum Family Day is the culminating activity for our “Art as Pedagogy: Neighborhoods and shared resources” project. “Art as Pedagogy: Neighborhoods and shared resources” is part of the UP Diliman Arts and Culture Festival 2025. Aligned with this year’s theme\, “Kalahok sa Nagbabagong Kalikasan\,” the project aims to develop expanded pedagogical materials that weave art practices\, sustainability\, and the museum’s social practice project\, which is our ongoing Gardens and Homesteads initiative. It positions art institutions like the museum as a site for gathering and sharing. It also foregrounds education as the core thrust of the Vargas Museum alongside curation and research.\n\n“Art as Pedagogy: Neighborhoods and shared resources” is part of the Arts and Culture Festival organized by the UP Diliman Office for Initiatives in Culture and the Arts (UP Diliman OICA). It is an umbrella project for the second phase of the Southeast Asia Neighborhoods Network (SEANNET) for its Manila case study.\n\nSource: UP Vargas Museum Facebook
URL:https://alum.up.edu.ph/event/up-vargas-museum-family-day-2/
END:VEVENT
BEGIN:VEVENT
DTSTART;TZID=UTC:20250830T080000
DTEND;TZID=UTC:20251122T170000
DTSTAMP:20260422T105748
CREATED:20250624T190146Z
LAST-MODIFIED:20250624T190146Z
UID:20579-1756540800-1763830800@alum.up.edu.ph
SUMMARY:3rd Certificate Course in Industrial Relations and Human Resource Management (IRHR 23)
DESCRIPTION:Empower Your HR & IR Journey! Join the 23rd Certificate Course in Industrial Relations and Human Resource Management (IRHR 23) — a comprehensive training program by UP SOLAIR in collaboration with CIPC.\n\nAugust 30 to November 22\, 2025\nOnline via Zoom teleconference\nLed by UP professors & industry experts\n\nIncludes 20 sessions\, capstone project\, handouts & certification\nInvestment Fee: PhP33\,000\n\nPre-register now to receive the schedule and enrollment details: https://bit.ly/IRHR23REG\nEmail us: cipc.upd@up.edu.ph\n\nRead more: https://solair.upd.edu.ph/empower-your-hr-journey-the…/
URL:https://alum.up.edu.ph/event/3rd-certificate-course-in-industrial-relations-and-human-resource-management-irhr-23/
END:VEVENT
BEGIN:VEVENT
DTSTART;VALUE=DATE:20251001
DTEND;VALUE=DATE:20251101
DTSTAMP:20260422T105748
CREATED:20251005T212650Z
LAST-MODIFIED:20251005T212659Z
UID:21784-1759276800-1761955199@alum.up.edu.ph
SUMMARY:UP Baguio Museums and Galleries Month 2025 Schedule of Activities
DESCRIPTION:Check out our schedule of activities for the Museums and Galleries Month 2025! 🗓️\n\nJoin us in conversations\, training\, and workshops that highlight museums as partners in community resilience.\n\nMark your calendars and be there! 📣\n\nSource: Museo Kordilyera – UP Baguio Ethnographic Museum Facebook
URL:https://alum.up.edu.ph/event/up-baguio-museums-and-galleries-month-2025-schedule-of-activities/
END:VEVENT
BEGIN:VEVENT
DTSTART;TZID=UTC:20251015T090000
DTEND;TZID=UTC:20251015T120000
DTSTAMP:20260422T105748
CREATED:20251012T181618Z
LAST-MODIFIED:20251012T181618Z
UID:21868-1760518800-1760529600@alum.up.edu.ph
SUMMARY:Artificial Intelligence (AI) Policy Consultation Town Hall
DESCRIPTION:The UP Diliman Office of the Vice Chancellor for Academic Affairs (OVCAA) and the Office of the Vice Chancellor for Student Affairs (OVCSA) invite UPD students to attend the Artificial Intelligence (AI) Policy Consultation Town Hall.\n\nThis consultation aims to serve as a venue for students to discuss the responsible use of AI in the university while upholding integrity.\n\n🗓️ New date and time: 15 October 2025 (Wednesday)\, 9 AM – 12 NN\n📍 Venue: Room 419\, Student Union Building\n🔗 Register here: bit.ly/AITownHall or scan the QR code on the poster.\n\nRegistration is open until 14 October (12 NN) or until seats are filled.\n\nNote: Those who previously registered are requested to fill out the form again to confirm attendance for the new schedule.\n\nSource: UP Diliman Office of the Vice Chancellor for Student Affairs Facebook
URL:https://alum.up.edu.ph/event/artificial-intelligence-ai-policy-consultation-town-hall-2/
END:VEVENT
BEGIN:VEVENT
DTSTART;TZID=UTC:20251015T090000
DTEND;TZID=UTC:20251017T160000
DTSTAMP:20260422T105748
CREATED:20251005T175816Z
LAST-MODIFIED:20251005T175816Z
UID:21764-1760518800-1760716800@alum.up.edu.ph
SUMMARY:GUNITA Book Fair: Celebrating 60 Years of CMC
DESCRIPTION:Join Us for the GUNITA Book Fair: Celebrating 60 Years of CMC! ✨\n\nMark your calendars for the GUNITA Book Fair\, a three-day event dedicated to stories\, scholarship\, and the spirit of CMC. This celebration will take place from October 15 to 17 at Plaridel Hall\, UP College of Media and Communication\n\nThis year\, we’re highlighting 60 years of excellence with 12 outstanding exhibitors\, including academic presses and independent publishers. Discover a diverse collection of books that encourage exploration and inspiration. Engage in dynamic discussions through a series of informative talks and lectures.\n\nWhether you’re an avid reader\, a media professional\, or just curious to learn more\, this event offers something for everyone.\n\nEvent Details\nVenue: Plaridel Hall\, CMC\nDate: October 15–17\, 2025\nTime: 9 AM – 4 PM\n\nSource: UPD College of Media and Communication Library Facebook
URL:https://alum.up.edu.ph/event/gunita-book-fair-celebrating-60-years-of-cmc/
END:VEVENT
BEGIN:VEVENT
DTSTART;TZID=UTC:20251015T130000
DTEND;TZID=UTC:20251015T143000
DTSTAMP:20260422T105748
CREATED:20251005T181053Z
LAST-MODIFIED:20251005T181053Z
UID:21772-1760533200-1760538600@alum.up.edu.ph
SUMMARY:“ATIPAN: A Community-Based Digital Health Strategy for Universal Healthcare in the Philippines”
DESCRIPTION:Register now!\n\nScan the QR code or click the link below: https://tinyurl.com/mtrrecsf\n\n(Accepting registrations only until October 15\, 2025\, 10:00 AM)\n\nSource: UP Diliman College of Science Innovation Program Facebook
URL:https://alum.up.edu.ph/event/atipan-a-community-based-digital-health-strategy-for-universal-healthcare-in-the-philippines/
END:VEVENT
BEGIN:VEVENT
DTSTART;TZID=UTC:20251015T130000
DTEND;TZID=UTC:20251015T160000
DTSTAMP:20260422T105748
CREATED:20251007T211304Z
LAST-MODIFIED:20251007T211304Z
UID:21827-1760533200-1760544000@alum.up.edu.ph
SUMMARY:Forum on Handling Psychiatric Emergencies
DESCRIPTION:Psychiatric crises can happen anytime—and being prepared makes all the difference. Join us for the Forum on Handling Psychiatric Emergencies and learn practical approaches to support individuals in urgent need.\n\n📅 Date: 15 October 2025\n🕒 Time: 1:00 PM – 4:00 PM\n📍 Venue: CFOS AV Hall\, UPV\, Miag-ao\, Iloilo\n\nSince our venue can only accommodate a limited number of participants\, we encourage you to confirm your attendance by completing the\npre-registration form through the QR code on the poster on or beforeOctober 10\, 2025.\n\n✨ Together\, let’s help build a more caring and responsive community.\n\nThis event is organized by the Guidance and Counseling Services Unit – Office of Student Affairs\, and the Health Services Unit\, as part of\nthe UPV Mental Health Month Celebration and the 78th UP Presence in Iloilo.\n\nSource: University of the Philippines Visayas Facebook
URL:https://alum.up.edu.ph/event/forum-on-handling-psychiatric-emergencies/
END:VEVENT
BEGIN:VEVENT
DTSTART;TZID=UTC:20251015T140000
DTEND;TZID=UTC:20251015T153000
DTSTAMP:20260422T105748
CREATED:20251014T164830Z
LAST-MODIFIED:20251014T164830Z
UID:22027-1760536800-1760542200@alum.up.edu.ph
SUMMARY:"Reimagining Asian Studies: Perspectives from Central Asia"
DESCRIPTION:Join us for the online roundtable\, “Reimagining Asian Studies: Perspectives from Central Asia\,” as scholars explore new ways of understanding “Asia” through Central Asia’s histories\, cultures\, and ideas\n\n🗓️ 22 October 2025 | 2 PM (PHT)\n💻 Online via Zoom\n🔗 View details and register: bit.ly/accentralasia\n\nThis event brings together scholars who will offer fresh insights into Asian Studies from Central Asian perspectives—challenging dominant narratives and opening new pathways for dialogue and research.\n\nSource: Asian Center\, UP Diliman Facebook
URL:https://alum.up.edu.ph/event/reimagining-asian-studies-perspectives-from-central-asia/
END:VEVENT
BEGIN:VEVENT
DTSTART;TZID=UTC:20251015T143000
DTEND;TZID=UTC:20251015T160000
DTSTAMP:20260422T105748
CREATED:20251007T180430Z
LAST-MODIFIED:20251007T180430Z
UID:21806-1760538600-1760544000@alum.up.edu.ph
SUMMARY:"Spatiotemporalities of Bioinnovation: Making\, Shaping\, and Disseminating COVID-19 Science during COVID-19"
DESCRIPTION:We invite you to join the upcoming online talk by Dr. John Noel M. Viana\, “Spatiotemporalities of Bioinnovation: Making\, Shaping\, and Disseminating COVID-19 Science during COVID-19.” Hurry and don’t miss the chance to be part of the discussion!\n\nIn-Person: UPD College of Science Auditorium\nZoom link: https://up-edu.zoom.us/j/96772137748…\nMeeting ID: 967 7213 7748\nPasscode: 75702941\n\nSource: UP Science and Society Program Facebook
URL:https://alum.up.edu.ph/event/spatiotemporalities-of-bioinnovation-making-shaping-and-disseminating-covid-19-science-during-covid-19/
END:VEVENT
END:VCALENDAR