BEGIN:VCALENDAR
VERSION:2.0
PRODID:-//UP Alumni Website - ECPv6.15.16//NONSGML v1.0//EN
CALSCALE:GREGORIAN
METHOD:PUBLISH
X-WR-CALNAME:UP Alumni Website
X-ORIGINAL-URL:https://alum.up.edu.ph
X-WR-CALDESC:Events for UP Alumni Website
REFRESH-INTERVAL;VALUE=DURATION:PT1H
X-Robots-Tag:noindex
X-PUBLISHED-TTL:PT1H
BEGIN:VTIMEZONE
TZID:UTC
BEGIN:STANDARD
TZOFFSETFROM:+0000
TZOFFSETTO:+0000
TZNAME:UTC
DTSTART:20240101T000000
END:STANDARD
END:VTIMEZONE
BEGIN:VEVENT
DTSTART;VALUE=DATE:20250201
DTEND;VALUE=DATE:20260101
DTSTAMP:20260422T214441
CREATED:20250213T203449Z
LAST-MODIFIED:20250213T203449Z
UID:19267-1738368000-1767225599@alum.up.edu.ph
SUMMARY:UP Mindanao's 30th Anniversary Year-long Schedule of Activities
DESCRIPTION:LOOK | Year-long Schedule of Activities for UP Mindanao’s 30th Anniversary\n\nJoin us as we celebrate three decades of academic excellence\, research innovation\, and community engagement! UP Mindanao’s 30th Anniversary is packed with exciting activities\, from cultural performances and academic forums to sports events and community outreach programs.\n\nHere’s the full schedule and be part of this milestone celebration! Let’s honor our past\, celebrate our present\, and shape our future together.\n\nSource: University of the Philippines Mindanao Facebook
URL:https://alum.up.edu.ph/event/up-mindanaos-30th-anniversary-year-long-schedule-of-activities/
END:VEVENT
BEGIN:VEVENT
DTSTART;TZID=UTC:20250714T080000
DTEND;TZID=UTC:20251114T170000
DTSTAMP:20260422T214441
CREATED:20250624T215306Z
LAST-MODIFIED:20250624T215306Z
UID:20601-1752480000-1763139600@alum.up.edu.ph
SUMMARY:2025 Basic Bootcamp: Introduction to Data Analytics and its Application to AI and Policy Analytics
DESCRIPTION:The UP Center for Integrative and Development Studies Program on Data Science for Public Policy (UP CIDS-DSPPP) will conduct an integrated three-level (Basic\, Intermediate\, Advanced) capacity building bootcamp on the trending issue of AI\, entitled: Explainable Artificial Intelligence (XAI) for Public Policy: AI Informed Human Directed Public Policy Making.\n\nThis is a 5-day hands-on workshop that usually cater to UP Faculty and Research Personnel\, which we are now offering for other stakeholders\, such as government agencies and other non-UP institutions who are interested to engage into the complexities of Artificial Intelligence and how we can come up with policies to address its proper utilization.\n\nLimited slots only\, so hurry!\n \nREGISTER HERE
URL:https://alum.up.edu.ph/event/2025-basic-bootcamp-introduction-to-data-analytics-and-its-application-to-ai-and-policy-analytics/
END:VEVENT
BEGIN:VEVENT
DTSTART;TZID=UTC:20250809T093000
DTEND;TZID=UTC:20251025T120000
DTSTAMP:20260422T214441
CREATED:20250806T154125Z
LAST-MODIFIED:20250806T154125Z
UID:21110-1754731800-1761393600@alum.up.edu.ph
SUMMARY:UP Vargas Museum Family Day
DESCRIPTION:Family Day at the UP Vargas Museum happens this Saturday!\n\nRegister to join\, bit.ly/UPVMFamilyDay.\n\nThe UP Vargas Museum invites families with children aged 6 to 10 years old to join us for a Family Day event on Saturday\, 9 August 2025\, from 9:30 AM to 12 NN. Family Day at the Vargas Museum will bring children closer to nature with activities including gardening and zine-making. Teacher and illustrator Patti Ramos will join us during the art activity sessions.\n\nWe encourage everyone to wear comfortable clothing and to bring their tumblers or water bottles.\n\nThe UP Vargas Museum Family Day is the culminating activity for our “Art as Pedagogy: Neighborhoods and shared resources” project. “Art as Pedagogy: Neighborhoods and shared resources” is part of the UP Diliman Arts and Culture Festival 2025. Aligned with this year’s theme\, “Kalahok sa Nagbabagong Kalikasan\,” the project aims to develop expanded pedagogical materials that weave art practices\, sustainability\, and the museum’s social practice project\, which is our ongoing Gardens and Homesteads initiative. It positions art institutions like the museum as a site for gathering and sharing. It also foregrounds education as the core thrust of the Vargas Museum alongside curation and research.\n\n“Art as Pedagogy: Neighborhoods and shared resources” is part of the Arts and Culture Festival organized by the UP Diliman Office for Initiatives in Culture and the Arts (UP Diliman OICA). It is an umbrella project for the second phase of the Southeast Asia Neighborhoods Network (SEANNET) for its Manila case study.\n\nSource: UP Vargas Museum Facebook
URL:https://alum.up.edu.ph/event/up-vargas-museum-family-day-2/
END:VEVENT
BEGIN:VEVENT
DTSTART;TZID=UTC:20250830T080000
DTEND;TZID=UTC:20251122T170000
DTSTAMP:20260422T214441
CREATED:20250624T190146Z
LAST-MODIFIED:20250624T190146Z
UID:20579-1756540800-1763830800@alum.up.edu.ph
SUMMARY:3rd Certificate Course in Industrial Relations and Human Resource Management (IRHR 23)
DESCRIPTION:Empower Your HR & IR Journey! Join the 23rd Certificate Course in Industrial Relations and Human Resource Management (IRHR 23) — a comprehensive training program by UP SOLAIR in collaboration with CIPC.\n\nAugust 30 to November 22\, 2025\nOnline via Zoom teleconference\nLed by UP professors & industry experts\n\nIncludes 20 sessions\, capstone project\, handouts & certification\nInvestment Fee: PhP33\,000\n\nPre-register now to receive the schedule and enrollment details: https://bit.ly/IRHR23REG\nEmail us: cipc.upd@up.edu.ph\n\nRead more: https://solair.upd.edu.ph/empower-your-hr-journey-the…/
URL:https://alum.up.edu.ph/event/3rd-certificate-course-in-industrial-relations-and-human-resource-management-irhr-23/
END:VEVENT
BEGIN:VEVENT
DTSTART;VALUE=DATE:20251001
DTEND;VALUE=DATE:20251101
DTSTAMP:20260422T214441
CREATED:20251005T212650Z
LAST-MODIFIED:20251005T212659Z
UID:21784-1759276800-1761955199@alum.up.edu.ph
SUMMARY:UP Baguio Museums and Galleries Month 2025 Schedule of Activities
DESCRIPTION:Check out our schedule of activities for the Museums and Galleries Month 2025! 🗓️\n\nJoin us in conversations\, training\, and workshops that highlight museums as partners in community resilience.\n\nMark your calendars and be there! 📣\n\nSource: Museo Kordilyera – UP Baguio Ethnographic Museum Facebook
URL:https://alum.up.edu.ph/event/up-baguio-museums-and-galleries-month-2025-schedule-of-activities/
END:VEVENT
BEGIN:VEVENT
DTSTART;TZID=UTC:20251020T080000
DTEND;TZID=UTC:20251020T170000
DTSTAMP:20260422T214441
CREATED:20251019T214017Z
LAST-MODIFIED:20251019T214017Z
UID:22396-1760947200-1760979600@alum.up.edu.ph
SUMMARY:UPSSA BALANSENG BUHAY: Work-Life Balance and Leadership Brownbag Sessions
DESCRIPTION:🏐🏀⚽ PLAY THE LEADERSHIP GAME SMARTER!\n\n☘️🌿🌱 REGISTRATION TO UPPSA’S 6TH AND LAST BALANSENG BUHAY FOR 2025 IS NOW OPEN!\n\nGreat leaders aren’t just born. They’re built through experience\, teamwork\, and strategy. Just like in sports\, leadership requires discipline\, trust\, communication\, and the ability to rally others toward a shared goal.\n\nJoin us in this exciting UPSSA Brownbag Session as we explore how lessons from the playing field can sharpen our leadership skills in the workplace. Whether you’re into basketball\, volleyball\, football\, or any team sport\, you’ll discover insights on leading with confidence\, motivating others\, and winning as one team.\n\n🟢 BB06: Game On: Building Leadership Through Team Sports\n👩‍💼 Coach Julio P. Silvestre\nCoach\nHeroes Volleyball Program\n\n📅 24 October 2025\, Friday\, 10:00–11:30 AM\, via Zoom (Link will be provided to successful registrants)\n📢 Register here: https://tinyurl.com/UPSSABalansengBuhay\n\nIMPORTANT REMINDERS\n🟢 Open to all members of the UP community\n🟢 To be conducted online via Zoom\n🟢 Limited slots available\n🟢 E-certificates will be issued\n\nBALANSENG BUHAY CONCEPT NOTE\n\nSupervisors are the backbone of organizational efficiency\, shaping a productive and supportive work environment. But balancing leadership responsibilities with personal well-being can be challenging. To help supervisors cultivate holistic well-being\, the UP System Supervisors Association (UPSSA) proudly presents its 2nd Learning & Development (L&D) Project for 2025\, the BALANSENG BUHAY: Work-Life Balance & Leadership Brownbag Sessions.\n\nThis L&D project provides a platform for supervisors to gain insights on achieving work-life balance through expert knowledge and peer learning; explore different aspects of well-being\, including physical\, mental\, social\, and spiritual health; learn practical strategies for managing professional responsibilities while prioritizing personal well-being; and foster a culture of continuous learning\, self-care\, and leadership development within the UP community.\n\nDon’t miss this opportunity to learn\, grow\, and achieve a more balanced and fulfilling leadership journey!\n\nSource: UPSSA Facebook
URL:https://alum.up.edu.ph/event/upssa-balanseng-buhay-work-life-balance-and-leadership-brownbag-sessions/
END:VEVENT
BEGIN:VEVENT
DTSTART;TZID=UTC:20251020T100000
DTEND;TZID=UTC:20251020T113000
DTSTAMP:20260422T214441
CREATED:20251008T153338Z
LAST-MODIFIED:20251008T153338Z
UID:21844-1760954400-1760959800@alum.up.edu.ph
SUMMARY:Between Hands & Time Lecture Series
DESCRIPTION:THIS OCTOBER AT PAROLA: BETWEEN HANDS & TIME 🤲🏼 🕑\n​\nThe UP CFA Department of Theory\, in partnership with the UP Diliman Office of International Linkages\, presents Between Hands & Time\, a World Expert Lecture Series with artist Louisa Taylor.\n​\nRenowned ceramic artist\, educator\, and author Louisa Taylor explores the creative world of ceramics in a series of lectures entitled Between Hands & Time: Ceramic Arts in Practice. Drawing from her acclaimed book\, Ceramics Masterclass: Creative Techniques of 100 Great Artists\, Ms. Taylor will guide audiences through a rich tapestry of ceramic traditions\, techniques\, and artistic voices from around the world.\n​\nLouisa offers an intimate artist talk\, sharing insights from her own ceramic practice and her transformative residency at the Victoria & Albert Museum. Through images\, stories\, and reflections from her personal as well as the collective practice of great artists\, Ms. Taylor discusses and celebrates the enduring power of ceramic art.\n​\n📍 October 20\, 2025\nTracing the Artist’s Path\n10:00 AM to 11:30 AM\nMultipurpose Hall\, Arts and Design West Hall\n​\nCeramics Masterclass: Global Practices and Historical Inquiry I\n2:30 PM to 4:00 PM\nMultipurpose Hall\, Arts and Design West Hall\n​\n📍 October 21\, 2025\nCeramics Masterclass: Global Practices and Historical Inquiry II\n2:30 PM to 4:00 PM\nMultipurpose Hall\, Arts and Design West Hall\n​\n📍 October 24\, 2025\nFrom Concept to Clay: Louisa Taylor’s Victoria & Albert Museum Residency\n2:30 PM to 4:00 PM\nMultipurpose Hall\, Arts and Design West Hall\n​\nFREE AND OPEN TO THE PUBLIC\n​\n👇🏼 Register here 👇🏼\nhttps://bit.ly/BetweenHandsAndTime\n​\nThe UP Fine Arts Gallery is open from Tuesday to Saturday\, 9 AM to 4 PM at the Arts and Design West Hall\, College of Fine Arts\, Diliman\, Quezon City. For inquiries\, you may message us at cfagallery.upd@up.edu.ph or call us at +63-2-8981-8500 local 3988.\n​​\nSee you!\n​\nSource: UP Fine Arts Gallery Facebook
URL:https://alum.up.edu.ph/event/between-hands-time-lecture-series/
END:VEVENT
BEGIN:VEVENT
DTSTART;TZID=UTC:20251020T130000
DTEND;TZID=UTC:20251020T170000
DTSTAMP:20260422T214441
CREATED:20251014T211832Z
LAST-MODIFIED:20251014T211930Z
UID:22058-1760965200-1760979600@alum.up.edu.ph
SUMMARY:UP Baguio's Indigenous Peoples Month Lectures
DESCRIPTION:In celebration of the Indigenous Peoples Month and 28th IPRA Commemoration\, the Cordillera Studies Center of the University of the Philippines enjoins the public to attend the following lectures:\n\nOctober 20\, 2025 – 1:00 PM onwards\, CSS-AVR\, UP Baguio and online through Zoom\nTitle: Revisiting Some Ethnohistorical Events and Issues in Benguet Cordillera History\nPresenter: Prof. Emeritus June Prill-Brett\nTitle: Since Time Immemorial: Interrogating the Provenance of Native Title Rights in the Philippine Legal System\nPresenter: Dr. Karminn Daytec Yañgot\n\nOctober 23\, 2025 – 10:30AM\, CSS-AVR\, UP Baguio\nTitle: Ayayam ed Eyaka: Uncovering the Rules\, Objectives\, and Cultural Significance of the E-Sabangan’s Traditional Indigenous Game\nPresenter: Asst. Prof. Jessica C. Talangchey\n\nSource: Cordillera Studies Center UP Baguio Facebook
URL:https://alum.up.edu.ph/event/up-baguios-indigenous-peoples-month-lectures/
END:VEVENT
BEGIN:VEVENT
DTSTART;TZID=UTC:20251020T140000
DTEND;TZID=UTC:20251020T160000
DTSTAMP:20260422T214441
CREATED:20251012T182923Z
LAST-MODIFIED:20251012T182923Z
UID:21874-1760968800-1760976000@alum.up.edu.ph
SUMMARY:TalaSalitaan: Talakayan sa Wikang Filipino\, Akademya\, at Bayan
DESCRIPTION:Na para bang…Agham Mo Na ‘To!?\n\nOo\, alamin natin ang ugnayan ng wikang Filipino sa pag-unawa at pagkatuto sa Agham ngayong Oktubre!\n\nInihahandog ang isang maAgham na talakayan ng Sentro ng Wikang Filipino – UP Diliman at ng mga ekspertong guro\, administrador mula sa larangan ng agham ang ikasiyam na episode ng TalaSalitaan: Talakayan sa Wikang Filipino\, Akademya\, at Bayan.\n\nTuklasin ang papel ng wika at agham sa akademya\, pananaliksik\, at lipunan. Malalaman natin kung ano at paano nga itinuturo at inuunawa ang konsepto ng agham gamit ang wikang Filipino at mga wika ng Pilipinas.\n\nMga Tagapagsalita:\n>Dr. Giovanni Tapang\, Professor\, dating Dekano\, Kolehiyo ng Agham\n>Kat. Prop. Zeny Bojo\, Science teacher\, UPIS\n>Dr. Chuckie Calsado\, Special Science Teacher\, Philippine Science High school\n>Andrei Clyde C. Arellano\, Mag-aaral\, BS Math\n\nTagapagpadaloy:\nDr. Ian Kendrich Fontanilla\, Kolehiyo ng Agham\nMx. Nalla Avena\, Sentro ng Wikang Filipino-UP Diliman\n\nGaganapin sa 20 Oktubre\, 2:00 nh – 4:00 nh sa Bulwagan ng Kolehiyo ng Agham.\nI-scan ang QR code na nasa pubmat para sa mga nais ninyong itanong sa ating mga tagapagsalita.\n\nHalina’t makilahok sa maagham na talakayan tungkol sa wikang Filipino\, akademya\, at bayan!\n\nMapapanood rin ito nang live sa SWF-UPD platforms\n[https://www.facebook.com/swfupdiliman][https://www.youtube.com/@swfupd]\n\nSource: Sentro ng Wikang Filipino – UP Diliman Facebook
URL:https://alum.up.edu.ph/event/talasalitaan-talakayan-sa-wikang-filipino-akademya-at-bayan/
END:VEVENT
BEGIN:VEVENT
DTSTART;TZID=UTC:20251020T140000
DTEND;TZID=UTC:20251020T170000
DTSTAMP:20260422T214441
CREATED:20251015T221037Z
LAST-MODIFIED:20251015T221037Z
UID:22337-1760968800-1760979600@alum.up.edu.ph
SUMMARY:"DayagKnows: Mga Kuwento ng Lakas at Pakikibaka tungo sa isang Ingklusibong Lipunan"
DESCRIPTION:Kasama\, ano ang kuwento mo ng katatagan? 🤗❤️‍🔥\n\nBilang paggunita sa UP Diliman Mental Health Advocacy Month 2025\, inihahandog ng Office of the Vice Chancellor for Student Affairs (UPD OVCSA) ang “DayagKnows: Mga Kuwento ng Lakas at Pakikibaka tungo sa isang Ingklusibong Lipunan\,” isang inclusivity advocacy-led discussion forum na gaganapin sa:\n\n📅 Petsa: Oktubre 20\, 2025 (Lunes)\n⏰ Oras: 2:00 n.h. – 5:00 n.h.\n📍 Lugar: Alcantara Hall (3F)\, Student Union Building\, UP Diliman\n\nLayunin nito ang mga sumusunod:\n1️⃣Lumikha ng ligtas at nakakapagpalakas na plataporma para sa mga mag-aaral na may kapansanan at karagdagang pangangailangan (SWANS) na ibahagi ang kanilang mga personal na karanasan\, kabilang ang pagkilala sa kanilang mga tagumpay at hamon na kinaharap.\n\n2️⃣ Linangin ang mas malalim na pag-unawa at kamalayan hinggil sa lusog-isip at kapansanan sa pamamagitan ng pagbaka sa mga stereotypes\, misconceptions\, at pagsasawalang-bahala.\n\n3️⃣ Pasimulan ang mga talakayan na magiging daan upang himukin ang unibersidad na maging tagapagtaguyod ng ingklusyon sa pamantasan.\nHalina’t kilalanin natin ang karakas ng ingklusyon at tunghayan ang iba’t ibang paraan ng pakikibaka tungo sa mas mapagkalingang komunidad!✊♿🫂\n\nMagrehistro rito:\n🔗 bit.ly/registration-dayagknows \n\nPoster by Lei Angelli Ortega\nText by Trizha Mae Pangilinan\n\nSource: UP Diliman Office of the Vice Chancellor for Student Affairs Facebook
URL:https://alum.up.edu.ph/event/dayagknows-mga-kuwento-ng-lakas-at-pakikibaka-tungo-sa-isang-ingklusibong-lipunan/
END:VEVENT
BEGIN:VEVENT
DTSTART;TZID=UTC:20251020T143000
DTEND;TZID=UTC:20251020T160000
DTSTAMP:20260422T214441
CREATED:20251008T153446Z
LAST-MODIFIED:20251008T153515Z
UID:21845-1760970600-1760976000@alum.up.edu.ph
SUMMARY:Between Hands & Time Lecture Series (Ceramics Masterclass: Global Practices and Historical Inquiry I)
DESCRIPTION:THIS OCTOBER AT PAROLA: BETWEEN HANDS & TIME 🤲🏼 🕑\n​\nThe UP CFA Department of Theory\, in partnership with the UP Diliman Office of International Linkages\, presents Between Hands & Time\, a World Expert Lecture Series with artist Louisa Taylor.\n​\nRenowned ceramic artist\, educator\, and author Louisa Taylor explores the creative world of ceramics in a series of lectures entitled Between Hands & Time: Ceramic Arts in Practice. Drawing from her acclaimed book\, Ceramics Masterclass: Creative Techniques of 100 Great Artists\, Ms. Taylor will guide audiences through a rich tapestry of ceramic traditions\, techniques\, and artistic voices from around the world.\n​\nLouisa offers an intimate artist talk\, sharing insights from her own ceramic practice and her transformative residency at the Victoria & Albert Museum. Through images\, stories\, and reflections from her personal as well as the collective practice of great artists\, Ms. Taylor discusses and celebrates the enduring power of ceramic art.\n​\n📍 October 20\, 2025\nTracing the Artist’s Path\n10:00 AM to 11:30 AM\nMultipurpose Hall\, Arts and Design West Hall\n​\nCeramics Masterclass: Global Practices and Historical Inquiry I\n2:30 PM to 4:00 PM\nMultipurpose Hall\, Arts and Design West Hall\n​\n📍 October 21\, 2025\nCeramics Masterclass: Global Practices and Historical Inquiry II\n2:30 PM to 4:00 PM\nMultipurpose Hall\, Arts and Design West Hall\n​\n📍 October 24\, 2025\nFrom Concept to Clay: Louisa Taylor’s Victoria & Albert Museum Residency\n2:30 PM to 4:00 PM\nMultipurpose Hall\, Arts and Design West Hall\n​\nFREE AND OPEN TO THE PUBLIC\n​\n👇🏼 Register here 👇🏼\nhttps://bit.ly/BetweenHandsAndTime\n​\nThe UP Fine Arts Gallery is open from Tuesday to Saturday\, 9 AM to 4 PM at the Arts and Design West Hall\, College of Fine Arts\, Diliman\, Quezon City. For inquiries\, you may message us at cfagallery.upd@up.edu.ph or call us at +63-2-8981-8500 local 3988.\n​​\nSee you!\n​\nSource: UP Fine Arts Gallery Facebook
URL:https://alum.up.edu.ph/event/ceramics-masterclass-global-practices-and-historical-inquiry-i/
END:VEVENT
END:VCALENDAR