BEGIN:VCALENDAR
VERSION:2.0
PRODID:-//UP Alumni Website - ECPv6.15.16//NONSGML v1.0//EN
CALSCALE:GREGORIAN
METHOD:PUBLISH
X-WR-CALNAME:UP Alumni Website
X-ORIGINAL-URL:https://alum.up.edu.ph
X-WR-CALDESC:Events for UP Alumni Website
REFRESH-INTERVAL;VALUE=DURATION:PT1H
X-Robots-Tag:noindex
X-PUBLISHED-TTL:PT1H
BEGIN:VTIMEZONE
TZID:UTC
BEGIN:STANDARD
TZOFFSETFROM:+0000
TZOFFSETTO:+0000
TZNAME:UTC
DTSTART:20240101T000000
END:STANDARD
END:VTIMEZONE
BEGIN:VEVENT
DTSTART;VALUE=DATE:20250201
DTEND;VALUE=DATE:20260101
DTSTAMP:20260423T204706
CREATED:20250213T203449Z
LAST-MODIFIED:20250213T203449Z
UID:19267-1738368000-1767225599@alum.up.edu.ph
SUMMARY:UP Mindanao's 30th Anniversary Year-long Schedule of Activities
DESCRIPTION:LOOK | Year-long Schedule of Activities for UP Mindanao’s 30th Anniversary\n\nJoin us as we celebrate three decades of academic excellence\, research innovation\, and community engagement! UP Mindanao’s 30th Anniversary is packed with exciting activities\, from cultural performances and academic forums to sports events and community outreach programs.\n\nHere’s the full schedule and be part of this milestone celebration! Let’s honor our past\, celebrate our present\, and shape our future together.\n\nSource: University of the Philippines Mindanao Facebook
URL:https://alum.up.edu.ph/event/up-mindanaos-30th-anniversary-year-long-schedule-of-activities/
END:VEVENT
BEGIN:VEVENT
DTSTART;TZID=UTC:20250830T080000
DTEND;TZID=UTC:20251122T170000
DTSTAMP:20260423T204706
CREATED:20250624T190146Z
LAST-MODIFIED:20250624T190146Z
UID:20579-1756540800-1763830800@alum.up.edu.ph
SUMMARY:3rd Certificate Course in Industrial Relations and Human Resource Management (IRHR 23)
DESCRIPTION:Empower Your HR & IR Journey! Join the 23rd Certificate Course in Industrial Relations and Human Resource Management (IRHR 23) — a comprehensive training program by UP SOLAIR in collaboration with CIPC.\n\nAugust 30 to November 22\, 2025\nOnline via Zoom teleconference\nLed by UP professors & industry experts\n\nIncludes 20 sessions\, capstone project\, handouts & certification\nInvestment Fee: PhP33\,000\n\nPre-register now to receive the schedule and enrollment details: https://bit.ly/IRHR23REG\nEmail us: cipc.upd@up.edu.ph\n\nRead more: https://solair.upd.edu.ph/empower-your-hr-journey-the…/
URL:https://alum.up.edu.ph/event/3rd-certificate-course-in-industrial-relations-and-human-resource-management-irhr-23/
END:VEVENT
BEGIN:VEVENT
DTSTART;TZID=UTC:20251105T090000
DTEND;TZID=UTC:20251222T160000
DTSTAMP:20260423T204706
CREATED:20251029T161831Z
LAST-MODIFIED:20251029T161831Z
UID:22575-1762333200-1766419200@alum.up.edu.ph
SUMMARY:Dokumenterte: Documenting Duterte in images\, 2016-2022
DESCRIPTION:OPENING NEXT WEEK: Dokumenterte: Documenting Duterte in images\, 2016-2022\n​\nA solo exhibit of cartoons by Renan Ortiz opens on November 5 (Wednesday)\, 5 p.m. at the UP Fine Arts Gallery (Parola).\n​\nA visual artist\, art educator\, and activist\, Ortiz offers a landmark survey of political cartoons made during the regime of former President Rodrigo Duterte. A response to the ongoing developments at the International Criminal Court (ICC)\, the exhibit gathers six years of cartoons\, caricatures\, and comics drawn and posted in the Facebook platform Cartoons and Philippine Politics and published in the alternative paper Pinoy Weekly. Curated by Lisa Ito\, these images captured the temper of the times as visual practices of expression\, dissent\, fact-checking\, and evidence. The exhibit is organized in cooperation with the Ecumenical Institute for Labor Education and Research (EILER) and Pinoy Weekly.\n​\nFREE AND OPEN TO THE PUBLIC\n​\nDokumenterte: Documenting Duterte in images\, 2016-2022 will be on view at Gallery Two from November 5 to 22\, 2025.\n​\nThe UP Fine Arts Gallery is open from Tuesday to Saturday\, 9 AM to 4 PM at the Arts and Design West Hall\, College of Fine Arts\, Diliman\, Quezon City. For inquiries\, you may message us at cfagallery.upd@up.edu.ph or call us at +63-2-8981-8500 local 3988.\n\nSource: UP Fine Arts Gallery Facebook
URL:https://alum.up.edu.ph/event/dokumenterte-documenting-duterte-in-images-2016-2022/
END:VEVENT
BEGIN:VEVENT
DTSTART;TZID=UTC:20251113T080000
DTEND;TZID=UTC:20251122T170000
DTSTAMP:20260423T204706
CREATED:20251112T182141Z
LAST-MODIFIED:20251112T182141Z
UID:22646-1763020800-1763830800@alum.up.edu.ph
SUMMARY:HALONG: Weaving the Journey of Patadyong and Panubok in Iloilo
DESCRIPTION:ANNOUNCEMENT 📣 📣 📣\n\nRECEPTION MOVED TO NOVEMBER 13 (THURSDAY):\nHALONG: Weaving the Journey of Patadyong and Panubok in Iloilo\n\nIn light of the effects of Typhoon Uwan\, the artist reception has been rescheduled to November 13 (Thursday)\, 5:00 PM\, at the UP Fine Arts Gallery (Parola)\, Arts & Design West Hall\, College of Fine Arts\, University of the Philippines Diliman.\n\nArtist Reception: November 13 (Thursday)\, 5:00 PM\n\nWe warmly invite everyone to the opening of Halong: Weaving the Journey of Patadyong and Panubok in Iloilo\, an exhibition and workshop for the UP Diliman Culture Bearers-in-Residence Program\, happening on Thursday\, November 13\, 5:00 PM\, at Parola.\n\nIn collaboration with traditional weavers Constancia F. Atijon and Criselda Fagarita\, and panubok artisans Rowena Caballero Rafil and Rita Caballero\, Halong is an exhibition\, residency\, and educational project highlighting Iloilo’s patadyong (Miag-ao) and panubok embroidery (Calinog) as traditional textile practices.\n\nThe event aims to promote knowledge of traditional designs to the younger generation through a suite of new works alongside traditional weaves. It presents Filipiniana works by PJ Aranador\, Kitty Caragay\, Twinkle Ferraren\, Joy Ilagan\, Skeeter Labastilla-Turgut\, Joji Lloren\, Basil Malicsi\, Lito Perez\, Pidge Reyes\, Riza Romero\, Ditta Sandico\, and a contribution by Adora de Vera; alongside works by student-artists of the Design 150 (Intermediate Industrial Design) class of Assoc. Prof. Ninel Constantino\, through UPCFA’s Industrial Design Program.\n\nThe exhibition showcases their creations and new textiles through demonstration and sharing sessions:\n\nHalong: Pagtitipon at Pagdiriwang\nNovember 13 (Thursday)\, 5:00 – 7:00 PM\, Ground Floor Lobby\n\nHabi at Hibla: Pagkakaloob ng Sining\nNovember 12 (Wednesday)\, 1:00 – 4:00 PM\, Multipurpose Hall: A Patadyong Weaving and Panubok Embroidery Demonstration\nNovember 14 (Friday)\, 10:00 – 11:30 AM\, Multipurpose Hall: Talk on the Patadyong of Iloilo by Prof. Mitzi Aguilar-Reyes and the panubok by Mayela Bautista\n\nHalong: Pasasalamat at Pagpapatuloy\nNovember 17 (Monday)\, Multipurpose Hall\n\nThis is a gathering of the artists\, students\, and designers participating in the project to share their impressions\, learnings\, and gratitude as a whole group.\n\nThe UPD Culture Bearers-in-Residence Program is an initiative by the University of the Philippines Diliman that provides a platform for traditional and indigenous artists to share their knowledge and skills with the academic community and the public.\n\nThe exhibition Halong: Weaving the Journey of Patadyong and Panubok in Iloilo will run up to November 22\, 2025 at the Multipurpose Hall of Parola.\n\nFREE AND OPEN TO THE PUBLIC\n\nThe UP Fine Arts Gallery is open from Tuesday to Saturday\, 9 AM to 4 PM at the Arts and Design West Hall\, College of Fine Arts\, Diliman\, Quezon City. For inquiries\, you may message us at cfagallery.upd@up.edu.ph or call us at +63-2-8981-8500 local 3988.\n\nSource: UP Fine Arts Gallery Facebook
URL:https://alum.up.edu.ph/event/halong-weaving-the-journey-of-patadyong-and-panubok-in-iloilo/
END:VEVENT
BEGIN:VEVENT
DTSTART;TZID=UTC:20251118T080000
DTEND;TZID=UTC:20251120T170000
DTSTAMP:20260423T204706
CREATED:20250819T155505Z
LAST-MODIFIED:20250819T155505Z
UID:21423-1763452800-1763658000@alum.up.edu.ph
SUMMARY:Impact Evaluation of Social Development Projects
DESCRIPTION:‼️NEW TRAINING ALERT‼️\n\nYou are all invited to join the IMPACT EVALUATION TRAINING\, which will be held on 18-20 November 2025.\n\nThe training course broadly aims to help social development practitioners gain knowledge and develop skills in conducting impact evaluation. It will focus on how to construct and design an impact evaluation framework\, and apply the most appropriate methods and strategies for your chosen projects.\n\nThe registration fee per participant is PhP 12\,000. The three-day training is inclusive of materials\, meals (lunch and snacks)\, and certificate. Please note that this training will be conducted ON-SITE.\n\nTo register\, scan the QR Code or click the link below:\nhttps://bit.ly/Impact-Eval-TNA\n\nFor inquiries\, kindly send an email to redo_cswcd.updiliman@up.edu.ph or call 8981 8500 local 4107.\n\nKitakits! ❤\n\nSource: College of Social Work and Community Development Facebook
URL:https://alum.up.edu.ph/event/impact-evaluation-of-social-development-projects/
END:VEVENT
BEGIN:VEVENT
DTSTART;VALUE=DATE:20251119
DTEND;VALUE=DATE:20251130
DTSTAMP:20260423T204706
CREATED:20251112T171721Z
LAST-MODIFIED:20251112T171721Z
UID:22621-1763510400-1764460799@alum.up.edu.ph
SUMMARY:Kinaadman Mindanao
DESCRIPTION:Inihahandog ng UP Departamento ng Kasaysayan ang Kinaadman Mindanao—isang proyekto sa ilalim ng UPD Culture Bearers-in-Residence Program ng UP Diliman Office of the Vice Chancellor for Academic Affairs (UPD-OVCAA).\n\nTalaan ng mga Gawain:\n\nWelcome Reception\n19 November 2025\, 12:00 n.t. – 3:00 n.h.\nDepartment of History\, Pavilion 2\, Palma Hall\n\nMindanao Culture and History Exhibit & Public Forum\n21-28 November 2025\, 8:30 n.u. – 10:00 n.u.\nPH 116-118\, Palma Hall\n\nKinaadman Mindanao Lecture Series\n25\, 27 November 2025\, 1:00 n.h. – 5:00 n.h.\nPilar Herrera Lecture Hall\, Palma Hall\n\nLeading with Heart: Knowing Ourselves\, Facing Conflict\, and growing Strong\, A Community Engagement\n29 November 2025\, 9:00 n.u. – 12:00 n.t.\nSilid Balatik\, Pavilion 2\, Palma Hall\n\nLaunch of Rudy Buhay Rodil Reader\nTaong 2026\n\nPara sa mga karagdagang impormasyon\, antabayanan ang aming Facebook page. Magkita-kita po tayo sa mga gawaing ito!\n\nSource: UP Departamento ng Kasaysayan Facebook
URL:https://alum.up.edu.ph/event/kinaadman-mindanao/
END:VEVENT
BEGIN:VEVENT
DTSTART;TZID=UTC:20251119T130000
DTEND;TZID=UTC:20251119T143000
DTSTAMP:20260423T204706
CREATED:20251113T174649Z
LAST-MODIFIED:20251113T174649Z
UID:22683-1763557200-1763562600@alum.up.edu.ph
SUMMARY:ON ALL FRONTS: Linguistic trauma and the fragility of Philippine languages
DESCRIPTION:Ang Opisina ng Kawaksing Dekano Para sa Usaping Pang-Akademiko ng KAPP at sa pakikipagtulungan ng Departamento ng Linggwistiks ay inaanyayahan ang mga guro at mag-aaral na lumahok sa ikalimang KAPP Serye ng Panayam 2025. Ito ay gaganapin sa ika-19 ng Nobyembre 2025\, Miyerkules\, 1:00 ng hapon sa Pilar Herrera Lecture Hall.\n\nTampok na tagapagsalita si Kaw. Prop. Jesus Federico C. Hernandez. Ang kanyang lektura ay may pamagat na ON ALL FRONTS: Linguistic trauma and the fragility of Philippine languages.\n\nSource: UP College of Social Sciences and Philosophy Facebook
URL:https://alum.up.edu.ph/event/on-all-fronts-linguistic-trauma-and-the-fragility-of-philippine-languages/
END:VEVENT
BEGIN:VEVENT
DTSTART;TZID=UTC:20251119T130000
DTEND;TZID=UTC:20251119T150000
DTSTAMP:20260423T204706
CREATED:20251113T171911Z
LAST-MODIFIED:20251113T171911Z
UID:22676-1763557200-1763564400@alum.up.edu.ph
SUMMARY:“Carbonate budgets induced by coral restoration of a Great Barrier Reef site following cyclone damage”
DESCRIPTION:The UP Marine Science Institute invites everyone to “Carbonate budgets induced by coral restoration of a Great Barrier Reef site following cyclone damage”\, a talk by Dr. Isabel Nuñez Lendo of the University of Technology Sydney and Sistars Productions. The talk will discuss the effectivity of using Mars Assisted Reef Restoration System (MARRS\, or “Reef Stars”) to aid coral rehabilitation of a cyclone-hit site in the Great Barrier Reef.\n\nDr. Nuñez’s talk will be held on November 19\, 2025\, 1:00 PM. As a hybrid webinar\, guests will allowed to attend at the MSI AVR or through Zoom. Register now: https://bit.ly/MSITalk_NunezLendo\n\nDr. Isabel Nuñez Lendo’s talk is organized in collaboration with the Embassy of Spain in Manila\, The Spanish Agency for International Development Cooperation (AECID)\, and Instituto Cervantes.\n\nSource: UP Marine Science Institute Facebook
URL:https://alum.up.edu.ph/event/carbonate-budgets-induced-by-coral-restoration-of-a-great-barrier-reef-site-following-cyclone-damage/
END:VEVENT
BEGIN:VEVENT
DTSTART;TZID=UTC:20251119T130000
DTEND;TZID=UTC:20251119T170000
DTSTAMP:20260423T204706
CREATED:20251113T171350Z
LAST-MODIFIED:20251113T171350Z
UID:22674-1763557200-1763571600@alum.up.edu.ph
SUMMARY:Punla at Binhi: Butoh Workshop Series | An Onsite Workshop-Performance
DESCRIPTION:We invite you to experience the visceral world of Butoh through the workshop-performance “Sisa Reimagined” by Sasa Cabalquinto\, a contemporary reimagining of Sisa from Noli Me Tangere\, merging Butoh\, physical theatre\, and ritual performance.\n\nDate: November 19 (Wednesday)\, 1:00 – 5:00 PM\nVenue: ASEAN Hall\, UP Asian Center\, University of the Philippines Diliman\nPresented in partnership with: UP Asian Center\nRegister at: https://bit.ly/punlaatbinhi\n\nThe workshop is FREE and open to ages 16 and above with no necessary background in Butoh and performing arts.\n\nThis Manila leg focuses on embodied inquiry and creative process: how Butoh becomes a space for memory\, transformation\, and post-colonial reflection. Please note: this workshop is NOT an instructional and codified teaching of a dance “form” or technique\, or a choreography class. It intends to find resonance between Butoh and Filipino embodied experience\, and aims for sharing of a Butoh-informed process and embodied inquiry drawn from years of personal study and immersion in Butoh practice.\n\nLet us move\, listen\, and plant new seeds of connection and creativity in UP Community!\n\nThis project is organized by the UP Asian Center in partnership with the Kapwa Movement in partnership with Goethe-Institut through the Performance Ecologies platform. Follow them on social media!\n\nFacebook: https://facebook.com/kapwamovementproject https://facebook.com/goetheinstitut.philippinen\nInstagram: @kapwamovement @goetheinstitut_philippinen\nPoster and visual design by Charlene Batulan\n\nSource: Asian Center\, UP Diliman Facebook
URL:https://alum.up.edu.ph/event/punla-at-binhi-butoh-workshop-series-an-onsite-workshop-performance/
END:VEVENT
BEGIN:VEVENT
DTSTART;TZID=UTC:20251119T183000
DTEND;TZID=UTC:20251119T203000
DTSTAMP:20260423T204706
CREATED:20251111T213804Z
LAST-MODIFIED:20251111T213804Z
UID:22614-1763577000-1763584200@alum.up.edu.ph
SUMMARY:MGA SULYAP SA CARILLON MULA SA ABELARDO HALL
DESCRIPTION:MGA SULYAP SA CARILLON MULA SA ABELARDO HALL\nMga Likha ni Chino Toledo\n\n🎟️ FREE ADMISSION!\n🗓️ November 19\, 2025 (Wednesday)\, 6:30 PM\n📍 UP Theater\n🔗 http://tinyurl.com/upsotctreg\n\nJoin the UP Symphony Orchestra in an evening of works by Music Director Josefino “Chino” Toledo\, featuring soprano Bianca Lopez-Aguila and pianist Danica Mae Antazo as soloists.\n\nSource: UP Symphony Orchestra Facebook
URL:https://alum.up.edu.ph/event/mga-sulyap-sa-carillon-mula-sa-abelardo-hall/
END:VEVENT
END:VCALENDAR