BEGIN:VCALENDAR
VERSION:2.0
PRODID:-//UP Alumni Website - ECPv6.15.16//NONSGML v1.0//EN
CALSCALE:GREGORIAN
METHOD:PUBLISH
X-WR-CALNAME:UP Alumni Website
X-ORIGINAL-URL:https://alum.up.edu.ph
X-WR-CALDESC:Events for UP Alumni Website
REFRESH-INTERVAL;VALUE=DURATION:PT1H
X-Robots-Tag:noindex
X-PUBLISHED-TTL:PT1H
BEGIN:VTIMEZONE
TZID:UTC
BEGIN:STANDARD
TZOFFSETFROM:+0000
TZOFFSETTO:+0000
TZNAME:UTC
DTSTART:20240101T000000
END:STANDARD
END:VTIMEZONE
BEGIN:VEVENT
DTSTART;VALUE=DATE:20250201
DTEND;VALUE=DATE:20260101
DTSTAMP:20260423T191922
CREATED:20250213T203449Z
LAST-MODIFIED:20250213T203449Z
UID:19267-1738368000-1767225599@alum.up.edu.ph
SUMMARY:UP Mindanao's 30th Anniversary Year-long Schedule of Activities
DESCRIPTION:LOOK | Year-long Schedule of Activities for UP Mindanao’s 30th Anniversary\n\nJoin us as we celebrate three decades of academic excellence\, research innovation\, and community engagement! UP Mindanao’s 30th Anniversary is packed with exciting activities\, from cultural performances and academic forums to sports events and community outreach programs.\n\nHere’s the full schedule and be part of this milestone celebration! Let’s honor our past\, celebrate our present\, and shape our future together.\n\nSource: University of the Philippines Mindanao Facebook
URL:https://alum.up.edu.ph/event/up-mindanaos-30th-anniversary-year-long-schedule-of-activities/
END:VEVENT
BEGIN:VEVENT
DTSTART;TZID=UTC:20251105T090000
DTEND;TZID=UTC:20251222T160000
DTSTAMP:20260423T191922
CREATED:20251029T161831Z
LAST-MODIFIED:20251029T161831Z
UID:22575-1762333200-1766419200@alum.up.edu.ph
SUMMARY:Dokumenterte: Documenting Duterte in images\, 2016-2022
DESCRIPTION:OPENING NEXT WEEK: Dokumenterte: Documenting Duterte in images\, 2016-2022\n​\nA solo exhibit of cartoons by Renan Ortiz opens on November 5 (Wednesday)\, 5 p.m. at the UP Fine Arts Gallery (Parola).\n​\nA visual artist\, art educator\, and activist\, Ortiz offers a landmark survey of political cartoons made during the regime of former President Rodrigo Duterte. A response to the ongoing developments at the International Criminal Court (ICC)\, the exhibit gathers six years of cartoons\, caricatures\, and comics drawn and posted in the Facebook platform Cartoons and Philippine Politics and published in the alternative paper Pinoy Weekly. Curated by Lisa Ito\, these images captured the temper of the times as visual practices of expression\, dissent\, fact-checking\, and evidence. The exhibit is organized in cooperation with the Ecumenical Institute for Labor Education and Research (EILER) and Pinoy Weekly.\n​\nFREE AND OPEN TO THE PUBLIC\n​\nDokumenterte: Documenting Duterte in images\, 2016-2022 will be on view at Gallery Two from November 5 to 22\, 2025.\n​\nThe UP Fine Arts Gallery is open from Tuesday to Saturday\, 9 AM to 4 PM at the Arts and Design West Hall\, College of Fine Arts\, Diliman\, Quezon City. For inquiries\, you may message us at cfagallery.upd@up.edu.ph or call us at +63-2-8981-8500 local 3988.\n\nSource: UP Fine Arts Gallery Facebook
URL:https://alum.up.edu.ph/event/dokumenterte-documenting-duterte-in-images-2016-2022/
END:VEVENT
BEGIN:VEVENT
DTSTART;VALUE=DATE:20251119
DTEND;VALUE=DATE:20251130
DTSTAMP:20260423T191922
CREATED:20251112T171721Z
LAST-MODIFIED:20251112T171721Z
UID:22621-1763510400-1764460799@alum.up.edu.ph
SUMMARY:Kinaadman Mindanao
DESCRIPTION:Inihahandog ng UP Departamento ng Kasaysayan ang Kinaadman Mindanao—isang proyekto sa ilalim ng UPD Culture Bearers-in-Residence Program ng UP Diliman Office of the Vice Chancellor for Academic Affairs (UPD-OVCAA).\n\nTalaan ng mga Gawain:\n\nWelcome Reception\n19 November 2025\, 12:00 n.t. – 3:00 n.h.\nDepartment of History\, Pavilion 2\, Palma Hall\n\nMindanao Culture and History Exhibit & Public Forum\n21-28 November 2025\, 8:30 n.u. – 10:00 n.u.\nPH 116-118\, Palma Hall\n\nKinaadman Mindanao Lecture Series\n25\, 27 November 2025\, 1:00 n.h. – 5:00 n.h.\nPilar Herrera Lecture Hall\, Palma Hall\n\nLeading with Heart: Knowing Ourselves\, Facing Conflict\, and growing Strong\, A Community Engagement\n29 November 2025\, 9:00 n.u. – 12:00 n.t.\nSilid Balatik\, Pavilion 2\, Palma Hall\n\nLaunch of Rudy Buhay Rodil Reader\nTaong 2026\n\nPara sa mga karagdagang impormasyon\, antabayanan ang aming Facebook page. Magkita-kita po tayo sa mga gawaing ito!\n\nSource: UP Departamento ng Kasaysayan Facebook
URL:https://alum.up.edu.ph/event/kinaadman-mindanao/
END:VEVENT
END:VCALENDAR