BEGIN:VCALENDAR
VERSION:2.0
PRODID:-//UP Alumni Website - ECPv6.15.16//NONSGML v1.0//EN
CALSCALE:GREGORIAN
METHOD:PUBLISH
X-WR-CALNAME:UP Alumni Website
X-ORIGINAL-URL:https://alum.up.edu.ph
X-WR-CALDESC:Events for UP Alumni Website
REFRESH-INTERVAL;VALUE=DURATION:PT1H
X-Robots-Tag:noindex
X-PUBLISHED-TTL:PT1H
BEGIN:VTIMEZONE
TZID:UTC
BEGIN:STANDARD
TZOFFSETFROM:+0000
TZOFFSETTO:+0000
TZNAME:UTC
DTSTART:20240101T000000
END:STANDARD
END:VTIMEZONE
BEGIN:VEVENT
DTSTART;VALUE=DATE:20250201
DTEND;VALUE=DATE:20260101
DTSTAMP:20260424T000532
CREATED:20250213T203449Z
LAST-MODIFIED:20250213T203449Z
UID:19267-1738368000-1767225599@alum.up.edu.ph
SUMMARY:UP Mindanao's 30th Anniversary Year-long Schedule of Activities
DESCRIPTION:LOOK | Year-long Schedule of Activities for UP Mindanao’s 30th Anniversary\n\nJoin us as we celebrate three decades of academic excellence\, research innovation\, and community engagement! UP Mindanao’s 30th Anniversary is packed with exciting activities\, from cultural performances and academic forums to sports events and community outreach programs.\n\nHere’s the full schedule and be part of this milestone celebration! Let’s honor our past\, celebrate our present\, and shape our future together.\n\nSource: University of the Philippines Mindanao Facebook
URL:https://alum.up.edu.ph/event/up-mindanaos-30th-anniversary-year-long-schedule-of-activities/
END:VEVENT
BEGIN:VEVENT
DTSTART;TZID=UTC:20251105T090000
DTEND;TZID=UTC:20251222T160000
DTSTAMP:20260424T000532
CREATED:20251029T161831Z
LAST-MODIFIED:20251029T161831Z
UID:22575-1762333200-1766419200@alum.up.edu.ph
SUMMARY:Dokumenterte: Documenting Duterte in images\, 2016-2022
DESCRIPTION:OPENING NEXT WEEK: Dokumenterte: Documenting Duterte in images\, 2016-2022\n​\nA solo exhibit of cartoons by Renan Ortiz opens on November 5 (Wednesday)\, 5 p.m. at the UP Fine Arts Gallery (Parola).\n​\nA visual artist\, art educator\, and activist\, Ortiz offers a landmark survey of political cartoons made during the regime of former President Rodrigo Duterte. A response to the ongoing developments at the International Criminal Court (ICC)\, the exhibit gathers six years of cartoons\, caricatures\, and comics drawn and posted in the Facebook platform Cartoons and Philippine Politics and published in the alternative paper Pinoy Weekly. Curated by Lisa Ito\, these images captured the temper of the times as visual practices of expression\, dissent\, fact-checking\, and evidence. The exhibit is organized in cooperation with the Ecumenical Institute for Labor Education and Research (EILER) and Pinoy Weekly.\n​\nFREE AND OPEN TO THE PUBLIC\n​\nDokumenterte: Documenting Duterte in images\, 2016-2022 will be on view at Gallery Two from November 5 to 22\, 2025.\n​\nThe UP Fine Arts Gallery is open from Tuesday to Saturday\, 9 AM to 4 PM at the Arts and Design West Hall\, College of Fine Arts\, Diliman\, Quezon City. For inquiries\, you may message us at cfagallery.upd@up.edu.ph or call us at +63-2-8981-8500 local 3988.\n\nSource: UP Fine Arts Gallery Facebook
URL:https://alum.up.edu.ph/event/dokumenterte-documenting-duterte-in-images-2016-2022/
END:VEVENT
BEGIN:VEVENT
DTSTART;VALUE=DATE:20251119
DTEND;VALUE=DATE:20251130
DTSTAMP:20260424T000532
CREATED:20251112T171721Z
LAST-MODIFIED:20251112T171721Z
UID:22621-1763510400-1764460799@alum.up.edu.ph
SUMMARY:Kinaadman Mindanao
DESCRIPTION:Inihahandog ng UP Departamento ng Kasaysayan ang Kinaadman Mindanao—isang proyekto sa ilalim ng UPD Culture Bearers-in-Residence Program ng UP Diliman Office of the Vice Chancellor for Academic Affairs (UPD-OVCAA).\n\nTalaan ng mga Gawain:\n\nWelcome Reception\n19 November 2025\, 12:00 n.t. – 3:00 n.h.\nDepartment of History\, Pavilion 2\, Palma Hall\n\nMindanao Culture and History Exhibit & Public Forum\n21-28 November 2025\, 8:30 n.u. – 10:00 n.u.\nPH 116-118\, Palma Hall\n\nKinaadman Mindanao Lecture Series\n25\, 27 November 2025\, 1:00 n.h. – 5:00 n.h.\nPilar Herrera Lecture Hall\, Palma Hall\n\nLeading with Heart: Knowing Ourselves\, Facing Conflict\, and growing Strong\, A Community Engagement\n29 November 2025\, 9:00 n.u. – 12:00 n.t.\nSilid Balatik\, Pavilion 2\, Palma Hall\n\nLaunch of Rudy Buhay Rodil Reader\nTaong 2026\n\nPara sa mga karagdagang impormasyon\, antabayanan ang aming Facebook page. Magkita-kita po tayo sa mga gawaing ito!\n\nSource: UP Departamento ng Kasaysayan Facebook
URL:https://alum.up.edu.ph/event/kinaadman-mindanao/
END:VEVENT
BEGIN:VEVENT
DTSTART;VALUE=DATE:20251124
DTEND;VALUE=DATE:20251225
DTSTAMP:20260424T000532
CREATED:20251124T182936Z
LAST-MODIFIED:20251124T182936Z
UID:22740-1763942400-1766620799@alum.up.edu.ph
SUMMARY:“Pasko sa UP Manila: Patuloy na Nagmamahal\, Lumalaban at Nagwawagi”
DESCRIPTION:IT’S THAT TIME OF THE YEAR 🎄🎁 🌟\n\nWe enjoin everyone to actively participate in this year’s UP Manila Christmas Celebration with the theme\, “Pasko sa UP Manila: Patuloy na Nagmamahal\, Lumalaban at Nagwawagi\,” featuring the following activities:\n\nKick-off Ceremony | November 26\, 2025\n5:00 PM – 6:00 PM: Mass (PGH Chapel)\n6:00 PM – 8:00 PM: Christmas Tree Lighting Ceremony\n\nTiktok Video-Making Contest | November 24 – December 5\, 2025\n\nMerry Midday Madness | December 10\, 2025\n11:00 AM – 1:00 PM (Online Program)\n\nChristmas Tree Decorations\nDecember 11\, 2025\n\nLantern Parade and Cheer Performance | December 12\, 2025\n2:00 PM – 6:00 PM\n\nUPM Salu-Salo | December 15\, 2025\n9:00 AM – 1:00 PM (SSWC)\n\nAdopt-a-Ward | December 15-17\, 2025\n\nMisa de Gallo | December 16-24\, 2025\n5:00 AM – 6:00 AM (PGH Chapel)\n\nThe activities will also be live streamed in the UP Manila official Facebook page (https://www.facebook.com/UPManilaOfficial/).\nDetailed instructions and guidelines for the Tiktok Video-Making Contest\, Merry Midday Madness (online program)\, Christmas Tree Decorations\, Lantern Parade and Cheer\, Adopt-a-Ward\, UPM Salu-salo\, and Misa de Gallo are accessible through this link: https://drive.google.com/…/1X…\n\nPlease email your queries/clarifications to the UP Manila Christmas Celebration Committee at upm-ccc2025@up.edu.ph.\n\nSource: University of the Philippines Manila Facebook
URL:https://alum.up.edu.ph/event/pasko-sa-up-manila-patuloy-na-nagmamahal-lumalaban-at-nagwawagi/
END:VEVENT
BEGIN:VEVENT
DTSTART;TZID=UTC:20251124T080000
DTEND;TZID=UTC:20251128T170000
DTSTAMP:20260424T000532
CREATED:20251001T180938Z
LAST-MODIFIED:20251001T180938Z
UID:21755-1763971200-1764349200@alum.up.edu.ph
SUMMARY:Executive Course on Hospital Administration
DESCRIPTION:The Department of Health Policy and Administration – College of Public Health\, University of the Philippines Manila\, invites you to the Executive Course on Hospital Administration on November 24-28\,2025 at Hotel Kimberly Manila.\n\nThis course is designed to meet the needs of top and middle executives of private and government hospitals in raising their level of performance and capabilities in the context of today’s challenging and changing world.\n\nRegistration Fee: PHP 15\,000.00\n🔍 Scan the QR code to register or through this link: https://bit.ly/ECHANov2025\n\nSource: University of the Philippines Manila Facebook
URL:https://alum.up.edu.ph/event/executive-course-on-hospital-administration-2/
END:VEVENT
BEGIN:VEVENT
DTSTART;TZID=UTC:20251124T090000
DTEND;TZID=UTC:20251124T103000
DTSTAMP:20260424T000532
CREATED:20251112T172325Z
LAST-MODIFIED:20251112T172325Z
UID:22629-1763974800-1763980200@alum.up.edu.ph
SUMMARY:“Trends toward increasingly dewatered tailings for tailings storage and disposal are leveling up to Global Industry Standards”
DESCRIPTION:The University of the Philippines Department of Mining\, Metallurgical\, and Materials Engineering (UP DMMME) proudly announces the third installment of its Monthly Lecture Series on Tailings Storage Facilities.\n\nThe series opened in September with “Management of tailings: Employing best available processing technologies and safe storage in tailings facilities – environmental effects\,” where Prof. Emmanuel U. Pornillos\, DOST Balik Scientist\, emphasized that facility failures often arise from inadequate design\, insufficient monitoring\, and weak understanding of material behavior. He urged the adoption of best available technologies to achieve safety and sustainability in tailings management.\n\nBuilding on these foundations\, the October session\, “From Fundamentals to Strategies: Understanding Tailings Properties for Safe Disposal and Storage\,” explored the physical\, geotechnical\, and chemical characteristics that define tailings behavior from slurry consistency to filtered and dry-stacked tailings. Prof. Pornillos underscored that no two tailings are the same and that effective management depends on understanding each site’s mineralogy\, rheology\, and geochemistry. The lecture also discussed the role of water management\, liner systems\, and post-closure monitoring\, while challenging the audience to pursue a Philippine Tailings Laboratory for research and innovation aligned with the Global Industry Standard on Tailings Management (GISTM).\n\nBuilding on these insights\, the third lecture will shift focus to the industry’s accelerating move toward thickened\, paste\, and filtered tailings – the most dewatered forms now considered best practice and their alignment with Global Industry Standards for safety\, water recovery\, and environmental stewardship. Participants will learn how these technologies improve stability\, reduce footprint\, and advance progressive rehabilitation across diverse climatic and geological settings.\n\n🗂 Lecture Title:\n“Trends toward increasingly dewatered tailings for tailings storage and disposal are leveling up to Global Industry Standards”\n📅 Date: November 24\, 2025 (Monday) ̶N̶o̶v̶e̶m̶b̶e̶r̶ ̶1̶0̶\,̶ ̶2̶0̶2̶5̶\n🕘 Time: 9:00 AM – 12:00 NN\n📍 Venue: FLUOR Lecture Room\, 2/F DMMME Building\, University of the Philippines Diliman\n💻 Hybrid Event: Simultaneously via Zoom\n\nThe session is open to students\, engineers\, industry practitioners\, regulators\, and researchers seeking to deepen their technical\, environmental\, and regulatory understanding for a safer\, globally aligned mining industry.\n\n🔗 Registration Link: https://bit.ly/DMMME-TailingsStorage-Lecture3\n\nUP DMMME invites colleagues from academe\, government\, industry\, and civil society to continue this dialogue and help shape the country’s path toward safer\, science-based tailings management.\n\nSource: UP Department of Mining\, Metallurgical\, and Materials Engineering Facebook
URL:https://alum.up.edu.ph/event/trends-toward-increasingly-dewatered-tailings-for-tailings-storage-and-disposal-are-leveling-up-to-global-industry-standards/
END:VEVENT
BEGIN:VEVENT
DTSTART;TZID=UTC:20251124T140000
DTEND;TZID=UTC:20251124T163000
DTSTAMP:20260424T000532
CREATED:20251112T174930Z
LAST-MODIFIED:20251112T174930Z
UID:22639-1763992800-1764001800@alum.up.edu.ph
SUMMARY:Speak Up: Seminar on Vocal Hygiene & Care
DESCRIPTION:The CSSP – Office of Service Learning\, Outreach\, and Pahinungod\, in collaboration with the Office of the Associate Dean for Academic Affairs\, invites you to attend the Seminar on Vocal Hygiene & Care on 24 November 2025\, Monday\, from 2:00 pm to 4:30 pm at the Pilar Herrera Lecture Hall.\n\nKindly confirm your attendance by registering through this link: https://SURL.LU/BPPCAH on or before November 19\, 2025.\n\nThank you very much.\n\nSource: UP College of Social Sciences and Philosophy Facebook
URL:https://alum.up.edu.ph/event/speak-up-seminar-on-vocal-hygiene-care/
END:VEVENT
END:VCALENDAR