BEGIN:VCALENDAR
VERSION:2.0
PRODID:-//UP Alumni Website - ECPv6.15.16//NONSGML v1.0//EN
CALSCALE:GREGORIAN
METHOD:PUBLISH
X-WR-CALNAME:UP Alumni Website
X-ORIGINAL-URL:https://alum.up.edu.ph
X-WR-CALDESC:Events for UP Alumni Website
REFRESH-INTERVAL;VALUE=DURATION:PT1H
X-Robots-Tag:noindex
X-PUBLISHED-TTL:PT1H
BEGIN:VTIMEZONE
TZID:UTC
BEGIN:STANDARD
TZOFFSETFROM:+0000
TZOFFSETTO:+0000
TZNAME:UTC
DTSTART:20240101T000000
END:STANDARD
END:VTIMEZONE
BEGIN:VEVENT
DTSTART;TZID=UTC:20251216T090000
DTEND;TZID=UTC:20260307T160000
DTSTAMP:20260422T061110
CREATED:20251211T155412Z
LAST-MODIFIED:20251211T155412Z
UID:22891-1765875600-1772899200@alum.up.edu.ph
SUMMARY:Notes for Tomorrow Exhibit
DESCRIPTION:Notes for Tomorrow\nIn collaboration with Independent Curators International (ICI)\n\n16 December 2025 to 07 March 2026\nUP Vargas Museum 1/F Galleries\nExhibition preview on 16 December 2025\, 4:00 PM to 7:00 PM\nat the UP Vargas Museum\, West Wing Gallery\n\n‘Notes for Tomorrow’ features artworks from around the world brought together in 2020 to reflect on a new global reality ushered in by the COVID-19 pandemic. Coming out of a moment where collective crisis had to be managed through collective care\, Independent Curators International (ICI) turned to 30 curators from 25 countries to consider the issues that have come to the fore in the pandemic’s aftermath\, asking each of them to share one artwork that they believe is vital to be seen today.\n\nThe UP Vargas Museum hosts the exhibition’s first iteration in Southeast Asia\, opening on 16 December 2025\, bringing together works across various geographies\, narratives\, and disciplines that stray from the colonial canon. The selected artists present works that question monumentality and seek the wisdom of localities. In this necessary moment of cultural transition\, each work acts as a source of inspiration from the recent past toward new futures. Rather than proposing a single path forward\, the artworks in Notes for Tomorrow present a network of overlapping solutions.\n\n___\n\nArtists of ‘Notes for Tomorrow’: Madiha Aijaz\, Ernesto Bautista\, Maeve Brennan\, Vajiko Chachkhiani\, Luke Luokun Cheng\, A Liberated Library for Education\, Inspiration\, and Action\, Nothando Chiwanga\, Shezad Dawood\, Demian DinéYazhi’\, Cao Guimarães\, Ilana Harris-Babou\, Rei Hayama\, Amrita Hepi\, INVASORIX\, Tamás Kaszás\, Ali Kazma\, David Lozano\, Mona Marzouk\, Joiri Minaya\, Peter Morin\, Omehen\, Daniela Ortiz\, Kristina Kay Robinson\, Luiz Roque\, Mark Salvatus\, Ibrahima Thiam\, u/n multitude\, Wayne Kaumualii Westlake\, and Yan Shi\n\nSource: UP Vargas Museum Facebook
URL:https://alum.up.edu.ph/event/notes-for-tomorrow-exhibit/
END:VEVENT
END:VCALENDAR