BEGIN:VCALENDAR
VERSION:2.0
PRODID:-//UP Alumni Website - ECPv6.15.16//NONSGML v1.0//EN
CALSCALE:GREGORIAN
METHOD:PUBLISH
X-WR-CALNAME:UP Alumni Website
X-ORIGINAL-URL:https://alum.up.edu.ph
X-WR-CALDESC:Events for UP Alumni Website
REFRESH-INTERVAL;VALUE=DURATION:PT1H
X-Robots-Tag:noindex
X-PUBLISHED-TTL:PT1H
BEGIN:VTIMEZONE
TZID:UTC
BEGIN:STANDARD
TZOFFSETFROM:+0000
TZOFFSETTO:+0000
TZNAME:UTC
DTSTART:20240101T000000
END:STANDARD
END:VTIMEZONE
BEGIN:VEVENT
DTSTART;TZID=UTC:20251216T090000
DTEND;TZID=UTC:20260307T160000
DTSTAMP:20260421T134808
CREATED:20251211T155412Z
LAST-MODIFIED:20251211T155412Z
UID:22891-1765875600-1772899200@alum.up.edu.ph
SUMMARY:Notes for Tomorrow Exhibit
DESCRIPTION:Notes for Tomorrow\nIn collaboration with Independent Curators International (ICI)\n\n16 December 2025 to 07 March 2026\nUP Vargas Museum 1/F Galleries\nExhibition preview on 16 December 2025\, 4:00 PM to 7:00 PM\nat the UP Vargas Museum\, West Wing Gallery\n\n‘Notes for Tomorrow’ features artworks from around the world brought together in 2020 to reflect on a new global reality ushered in by the COVID-19 pandemic. Coming out of a moment where collective crisis had to be managed through collective care\, Independent Curators International (ICI) turned to 30 curators from 25 countries to consider the issues that have come to the fore in the pandemic’s aftermath\, asking each of them to share one artwork that they believe is vital to be seen today.\n\nThe UP Vargas Museum hosts the exhibition’s first iteration in Southeast Asia\, opening on 16 December 2025\, bringing together works across various geographies\, narratives\, and disciplines that stray from the colonial canon. The selected artists present works that question monumentality and seek the wisdom of localities. In this necessary moment of cultural transition\, each work acts as a source of inspiration from the recent past toward new futures. Rather than proposing a single path forward\, the artworks in Notes for Tomorrow present a network of overlapping solutions.\n\n___\n\nArtists of ‘Notes for Tomorrow’: Madiha Aijaz\, Ernesto Bautista\, Maeve Brennan\, Vajiko Chachkhiani\, Luke Luokun Cheng\, A Liberated Library for Education\, Inspiration\, and Action\, Nothando Chiwanga\, Shezad Dawood\, Demian DinéYazhi’\, Cao Guimarães\, Ilana Harris-Babou\, Rei Hayama\, Amrita Hepi\, INVASORIX\, Tamás Kaszás\, Ali Kazma\, David Lozano\, Mona Marzouk\, Joiri Minaya\, Peter Morin\, Omehen\, Daniela Ortiz\, Kristina Kay Robinson\, Luiz Roque\, Mark Salvatus\, Ibrahima Thiam\, u/n multitude\, Wayne Kaumualii Westlake\, and Yan Shi\n\nSource: UP Vargas Museum Facebook
URL:https://alum.up.edu.ph/event/notes-for-tomorrow-exhibit/
END:VEVENT
BEGIN:VEVENT
DTSTART;TZID=UTC:20260112T080000
DTEND;TZID=UTC:20260116T170000
DTSTAMP:20260421T134808
CREATED:20251116T211607Z
LAST-MODIFIED:20251116T211607Z
UID:22701-1768204800-1768582800@alum.up.edu.ph
SUMMARY:QUANTITATIVE METHODS IN THE EVALUATION OF HEALTH INTERVENTIONS
DESCRIPTION:📊📊Measure what matters. 📊📊\n\nThe Department of Epidemiology and Biostatistics invites you to a short course on:\n📈 QUANTITATIVE METHODS IN THE EVALUATION OF HEALTH INTERVENTIONS\n\nBy the end of the course\, participants will be able to select and apply appropriate quantitative methods for evaluation\, implement analyses using statistical software\, and interpret findings with the rigor required to inform policy and practice.\n\n📌 January 12-16\, 2026 | 8:00 AM – 5:00 PM\n👀 Computer Laboratory\, 3rd Floor\, Annex II Building | College of Public Health | University of the Philippines Manila\n🖋️ Register via: https://bit.ly/QMIE2025\n\nTraining fee starts at Php 9\,500 (for early bird registrants and UP Manila employees and students).\n\nFor inquiries email: debs.cph.upm@up.edu.ph
URL:https://alum.up.edu.ph/event/quantitative-methods-in-the-evaluation-of-health-interventions/
END:VEVENT
BEGIN:VEVENT
DTSTART;TZID=UTC:20260114T080000
DTEND;TZID=UTC:20260221T170000
DTSTAMP:20260421T134808
CREATED:20260113T161227Z
LAST-MODIFIED:20260113T161227Z
UID:22958-1768377600-1771693200@alum.up.edu.ph
SUMMARY:Redesigning Patient-Centered Care: Innovating Lean Strategies for Safer\, Smarter\, and Sustainable Healthcare Systems
DESCRIPTION:Learn how to improve patient experience by enrolling in our newest training program: Redesigning Patient-Centered Care: Innovating Lean Strategies for Safer\, Smarter\, and Sustainable Healthcare Systems starting on 14 February until 21 March\, 2026.\n\nIn collaboration with the UPD Department of Industrial Engineering and Operations Research\, this 6-week certification program will equip hospital and clinic executives\, administrators\, and healthcare leaders to redesign patient-centered care systems through the integration of Lean Thinking and Innovation.\n\n✍🏻 Pre-register now! – https://bit.ly/2026NECRegistration\n💭 Still have questions? You may send us an email at nec.training@up.edu.ph or contact 8981-8500 loc. 3004\, 3005\, 3048.\n\nThis is UP NEC: Connecting minds that shape the nation! 🚀\n\nSource: UP NEC Training Facebook
URL:https://alum.up.edu.ph/event/redesigning-patient-centered-care-innovating-lean-strategies-for-safer-smarter-and-sustainable-healthcare-systems/
END:VEVENT
BEGIN:VEVENT
DTSTART;TZID=UTC:20260116T120000
DTEND;TZID=UTC:20260116T130000
DTSTAMP:20260421T134808
CREATED:20260107T165226Z
LAST-MODIFIED:20260115T193329Z
UID:22938-1768564800-1768568400@alum.up.edu.ph
SUMMARY:Health Updates Webinar #269 "Mag-Screen Para Ma-Prevent\, Prepare\, at Protect ang Ating Mga Bata"
DESCRIPTION:The University of the Philippines\,\nin partnership with the UP Manila – National Institutes of Health\,\nand in cooperation with UP Philippine General Hospital and UP College of Medicine\,\nwould like to invite you to attend this webinar! \n  \nRegistration slots are limited to this HEALTH UPDATES webinar\nSo sign up NOW:\nbit.ly/HealthUpdatesWebinar269 \n  \nWebinar #269\nJanuary 16\, 2025 (Friday)\, 12:00 noon\nMag-Screen Para Ma-Prevent\, Prepare\, at Protect ang Ating Mga Bata\n\nPresenter:\nDR. CECILIA D. ALINEA\nChief\, Division of General Pediatrics\nVice Chair for Academics\nUP – PGH Department of Pediatrics\n\nReactor:\nDR. BENJAMIN P. SABLAN\, JR.\nChief\, Division of Ambulatory Pediatrics\nUP – PGH Department of Pediatrics\n\n———————————————————–\n\nWebinar #269\nJanuary 16\, 2025 (Friday)\, 12:00 noon\nMag-Screen Para Ma-Prevent\, Prepare\, at Protect ang Ating Mga Bata\n\nThe landscape of pediatric healthcare in the Philippines is currently undergoing a transformative shift by moving away from a traditional reactive model toward a comprehensive\, proactive paradigm centered on longitudinal wellness and early intervention. As we navigate the complexities of 2026\, the operationalization of Universal Health Care and the integration of the First 1\,000 Days Law have necessitated a more rigorous\, evidence-based approach to pediatric clinical surveillance.\n\nAnticipatory guidance is no longer merely a set of cursory recommendations but has evolved into a sophisticated framework of clinical counseling designed to mitigate developmental\, nutritional\, and behavioral morbidities before they manifest clinically. In this week’s episode\, our distinguished panel of speakers will discuss the latest strategies in neurodevelopmental monitoring and nutritional security\, particularly in the context of addressing the national challenge of childhood stunting and the evolving epidemiological profile of vaccine-preventable diseases. We will also try to address the significant technological and administrative advancements in pediatric screening. We will explore the expanded newborn screening (ENBS) ecosystem\, which now encompasses a broader spectrum of metabolic and genetic disorders\, and examine the recently updated Department of Health and Department of Education protocols for school-based health assessments. These updates include the integration of universal mental health and psychosocial screenings\, recognizing that psychological well-being is intrinsically linked to physiological health.\n\nOur main speaker is Dr. Cecilia D. Alinea\, who is the Chief of the Division of General Pediatrics and Vice Chair for Academics at the UP – PGH Department of Pediatrics. Our reactor is Dr. Benjamin P. Sablan\, Jr.\, who is the Chief of the Division of Ambulatory Pediatrics at the UP – PGH Department of Pediatrics.\n\nJoin us as we learn how to contribute to the collective goal of safeguarding the health of the Filipino child. Together\, we can stop preventable deaths!
URL:https://alum.up.edu.ph/event/health-updates-webinar-269/
END:VEVENT
BEGIN:VEVENT
DTSTART;TZID=UTC:20260116T140000
DTEND;TZID=UTC:20260116T160000
DTSTAMP:20260421T134808
CREATED:20260113T160035Z
LAST-MODIFIED:20260113T160035Z
UID:22951-1768572000-1768579200@alum.up.edu.ph
SUMMARY:#YamangKalawakan in Action: Building Climate Resilience through Space-enabled Analytics
DESCRIPTION:Join the UPISC for its first webinar for 2026 entitled “#YamangKalawakan in Action: Building Climate Resilience through Space-enabled Analytics” with Dr. Gay Jane Perez\, Deputy Director General for Space Science and Technology at the Philippine Space Agency (PhilSA).\nSatellite technology and remote sensing are essential tools for disaster monitoring and management\, especially as climate change intensifies the disaster risks in the country. These technologies are increasingly being supported by artificial intelligence (AI) in select geospatial application.\n\nIn this talk\, Dr. Perez will introduce Yamang Kalawakan\, the Philippine space ecosystem\, highlighting how it transforms space-derived data into actionable intelligence to aid disaster risk reduction and management. She will discuss how PhilSA utilizes Earth observation satellites and data-sharing mechanisms to aid hazard monitoring\, early warning\, damage assessment and recovery. Several use cases on how satellite-based information enables timely and data-informed interventions will also be explored. She will also highlight the application of AI-driven geospatial analysis in environmental monitoring to support ecosystem protection and long-term resilience.\n\n🗓 Date: 16 January 2026 (Friday)\n🕒 Time: 2:00 PM PHT\n💻 Via Zoom\n\nThis event is free and open to the public. Attendees will receive a certificate of participation after the completion of the evaluation form at the end of the webinar.\n\nRegistration Link: https://forms.gle/J6NBVqYrMWJG8b2v9\n\nSource: University of the Philippines Intelligent Systems Center Facebook
URL:https://alum.up.edu.ph/event/yamangkalawakan-in-action-building-climate-resilience-through-space-enabled-analytics/
END:VEVENT
END:VCALENDAR