BEGIN:VCALENDAR
VERSION:2.0
PRODID:-//UP Alumni Website - ECPv6.15.16//NONSGML v1.0//EN
CALSCALE:GREGORIAN
METHOD:PUBLISH
X-WR-CALNAME:UP Alumni Website
X-ORIGINAL-URL:https://alum.up.edu.ph
X-WR-CALDESC:Events for UP Alumni Website
REFRESH-INTERVAL;VALUE=DURATION:PT1H
X-Robots-Tag:noindex
X-PUBLISHED-TTL:PT1H
BEGIN:VTIMEZONE
TZID:UTC
BEGIN:STANDARD
TZOFFSETFROM:+0000
TZOFFSETTO:+0000
TZNAME:UTC
DTSTART:20240101T000000
END:STANDARD
END:VTIMEZONE
BEGIN:VEVENT
DTSTART;TZID=UTC:20251216T090000
DTEND;TZID=UTC:20260307T160000
DTSTAMP:20260420T225518
CREATED:20251211T155412Z
LAST-MODIFIED:20251211T155412Z
UID:22891-1765875600-1772899200@alum.up.edu.ph
SUMMARY:Notes for Tomorrow Exhibit
DESCRIPTION:Notes for Tomorrow\nIn collaboration with Independent Curators International (ICI)\n\n16 December 2025 to 07 March 2026\nUP Vargas Museum 1/F Galleries\nExhibition preview on 16 December 2025\, 4:00 PM to 7:00 PM\nat the UP Vargas Museum\, West Wing Gallery\n\n‘Notes for Tomorrow’ features artworks from around the world brought together in 2020 to reflect on a new global reality ushered in by the COVID-19 pandemic. Coming out of a moment where collective crisis had to be managed through collective care\, Independent Curators International (ICI) turned to 30 curators from 25 countries to consider the issues that have come to the fore in the pandemic’s aftermath\, asking each of them to share one artwork that they believe is vital to be seen today.\n\nThe UP Vargas Museum hosts the exhibition’s first iteration in Southeast Asia\, opening on 16 December 2025\, bringing together works across various geographies\, narratives\, and disciplines that stray from the colonial canon. The selected artists present works that question monumentality and seek the wisdom of localities. In this necessary moment of cultural transition\, each work acts as a source of inspiration from the recent past toward new futures. Rather than proposing a single path forward\, the artworks in Notes for Tomorrow present a network of overlapping solutions.\n\n___\n\nArtists of ‘Notes for Tomorrow’: Madiha Aijaz\, Ernesto Bautista\, Maeve Brennan\, Vajiko Chachkhiani\, Luke Luokun Cheng\, A Liberated Library for Education\, Inspiration\, and Action\, Nothando Chiwanga\, Shezad Dawood\, Demian DinéYazhi’\, Cao Guimarães\, Ilana Harris-Babou\, Rei Hayama\, Amrita Hepi\, INVASORIX\, Tamás Kaszás\, Ali Kazma\, David Lozano\, Mona Marzouk\, Joiri Minaya\, Peter Morin\, Omehen\, Daniela Ortiz\, Kristina Kay Robinson\, Luiz Roque\, Mark Salvatus\, Ibrahima Thiam\, u/n multitude\, Wayne Kaumualii Westlake\, and Yan Shi\n\nSource: UP Vargas Museum Facebook
URL:https://alum.up.edu.ph/event/notes-for-tomorrow-exhibit/
END:VEVENT
BEGIN:VEVENT
DTSTART;TZID=UTC:20260114T080000
DTEND;TZID=UTC:20260221T170000
DTSTAMP:20260420T225518
CREATED:20260113T161227Z
LAST-MODIFIED:20260113T161227Z
UID:22958-1768377600-1771693200@alum.up.edu.ph
SUMMARY:Redesigning Patient-Centered Care: Innovating Lean Strategies for Safer\, Smarter\, and Sustainable Healthcare Systems
DESCRIPTION:Learn how to improve patient experience by enrolling in our newest training program: Redesigning Patient-Centered Care: Innovating Lean Strategies for Safer\, Smarter\, and Sustainable Healthcare Systems starting on 14 February until 21 March\, 2026.\n\nIn collaboration with the UPD Department of Industrial Engineering and Operations Research\, this 6-week certification program will equip hospital and clinic executives\, administrators\, and healthcare leaders to redesign patient-centered care systems through the integration of Lean Thinking and Innovation.\n\n✍🏻 Pre-register now! – https://bit.ly/2026NECRegistration\n💭 Still have questions? You may send us an email at nec.training@up.edu.ph or contact 8981-8500 loc. 3004\, 3005\, 3048.\n\nThis is UP NEC: Connecting minds that shape the nation! 🚀\n\nSource: UP NEC Training Facebook
URL:https://alum.up.edu.ph/event/redesigning-patient-centered-care-innovating-lean-strategies-for-safer-smarter-and-sustainable-healthcare-systems/
END:VEVENT
BEGIN:VEVENT
DTSTART;TZID=UTC:20260123T090000
DTEND;TZID=UTC:20260123T120000
DTSTAMP:20260420T225518
CREATED:20260118T222250Z
LAST-MODIFIED:20260118T222250Z
UID:23036-1769158800-1769169600@alum.up.edu.ph
SUMMARY:UP Department of Geodetic Engineering 54th Department Seminar
DESCRIPTION:UP DGE invites you to the 54th Department Seminar featuring insightful presentations from our invited speakers!\n\nTalk #1: “A LADM-Based Digital Platform for Spatially-Enabled Land Administration in Local Government”\nAsst. Prof. Oliver T. Macapinlac is an Assistant Professor at the University of the Philippines Department of Geodetic Engineering. He specializes in geo-simulation\, geomatics for land administration\, surveying and geospatial computations\, geo-databases\, spatial data infrastructure (SDI)\, WebGIS and geoportals\, as well as geospatial programming and algorithms.\n\nTalk #2: “Remote Sensing\, Climate Science\, Hydrology\, and Environmental Engineering”\nDr. Tarendra Lakhankar is a Senior Scientist and Adjunct Professor at the City University of New York and serves as the Director of the Education and Training pillar at the CUNY CREST Institute. He is also the Co-Lead for Education and Capacity Building of the UNU-Hub at CCNY. His areas of specialization include hydrology\, climate science\, and remote sensing.\n\nDate: 23 January 2026\nTime: 9:00 AM – 12:00 PM\nVenue: GE Theater\, Melchor Hall\, UP Diliman\n\nPre-register through this link:\nhttps://tinyurl.com/54thdeptsemreg\nSee you there!
URL:https://alum.up.edu.ph/event/up-department-of-geodetic-engineering-54th-department-seminar/
END:VEVENT
BEGIN:VEVENT
DTSTART;TZID=UTC:20260123T120000
DTEND;TZID=UTC:20260123T130000
DTSTAMP:20260420T225518
CREATED:20260107T165237Z
LAST-MODIFIED:20260122T173251Z
UID:22939-1769169600-1769173200@alum.up.edu.ph
SUMMARY:Health Updates Webinar #270 "Ingay! The Silet Killer: Noise-Induced Hearing Loss"
DESCRIPTION:The University of the Philippines\,\nin partnership with the UP Manila – National Institutes of Health\,\nand in cooperation with UP Philippine General Hospital and UP College of Medicine\,\nwould like to invite you to attend this webinar! \n  \nRegistration slots are limited to this HEALTH UPDATES webinar\nSo sign up NOW:\nbit.ly/HealthUpdatesWebinar270 \n  \nWebinar #270\nJanuary 23\, 2025 (Friday)\, 12:00 noon\nIngay! The Silent Killer\nNoise-Induced Hearing Loss\n\nPresenter:\nDR. CHRISTOPHER MALORRE E. CALAQUIAN\nChair\, Philippine Academy of Neurotology\, Otology\, and Related Sciences\nDean\, College of Medicine\, Pamantasan ng Lungsod ng Muntinlupa – Ospital ng Muntinlupa\nClinical Associate Professor\, Department of Otorhinolaryngology\nUP College of Medicine and UP – Philippine General Hospital\n\n———————————————————–\n\nWebinar #270\nJanuary 23\, 2025 (Friday)\, 12:00 noon\nIngay! The Silent Killer\nNoise-Induced Hearing Loss\n\nAs the Philippines undergoes rapid industrialization and urban expansion\, the auditory health of our population faces an escalating\, yet often invisible\, challenge. Noise-Induced Hearing Loss (NIHL) has transitioned from a purely occupational concern to a pervasive public health crisis\, exacerbated by the ubiquitous presence of high-decibel environmental stimuli and unsafe recreational listening habits among the youth. In 2026\, the clinical reality for frontline healthcare providers is the increasing frequency of patients presenting with insidious sensorineural deficits that could have been entirely mitigated through early intervention and robust preventative education.\n\nIn this week’s episode\, we will dissect the latest epidemiological data specific to the Philippine context\, where socioeconomic factors often dictate the accessibility of ear and hearing care. We will discuss how to recognize early “red flags” such as persistent tinnitus or difficulty with speech discrimination in noisy environments\, and how this ability is paramount to preventing irreversible disability. We will also touch on the implementation of the Occupational Safety and Health Standards (RA 11058) and the Department of Health’s latest initiatives for integrated ear care. We will discuss the practical application of the hierarchy of controls and the selection of appropriate hearing protection devices\, tailored to the unique exposures found in local industries and urban settings.\n\nOur main speaker is Dr. Christopher Malorre E. Calaquian\, who is Chair of the Philippine Academy of Neurotology\, Otology\, and Related Sciences. He also serves as the Dean of the College of Medicine\, Pamantasan ng Lungsod ng Muntinlupa – Ospital ng Muntinlupa. He is also a Clinical Associate Professor\, Department of Otorhinolaryngology of the UP College of Medicine and UP – Philippine General Hospital.\n\nJoin us as we learn how to work toward a future where preventable silence is no longer an accepted consequence of modern life. Together\, we can stop preventable deaths!
URL:https://alum.up.edu.ph/event/health-updates-webinar-270/
END:VEVENT
BEGIN:VEVENT
DTSTART;TZID=UTC:20260123T140000
DTEND;TZID=UTC:20260123T160000
DTSTAMP:20260420T225518
CREATED:20260121T160526Z
LAST-MODIFIED:20260121T160526Z
UID:23072-1769176800-1769184000@alum.up.edu.ph
SUMMARY:“Disasters and Uprisings: Journalism Behind the Headlines”
DESCRIPTION:Join us this January 23 @2PM\, CMC Auditorium.\n\nSource: UP College of Media and Communication Facebook
URL:https://alum.up.edu.ph/event/disasters-and-uprisings-journalism-behind-the-headlines/
END:VEVENT
BEGIN:VEVENT
DTSTART;TZID=UTC:20260123T160000
DTEND;TZID=UTC:20260123T180000
DTSTAMP:20260420T225518
CREATED:20260120T135736Z
LAST-MODIFIED:20260120T135736Z
UID:23049-1769184000-1769191200@alum.up.edu.ph
SUMMARY:UPSE-PCED Friday Seminar "Trends and Driving Forces of High Value Agriculture"
DESCRIPTION:📣 HAPPENING ON FRIDAY\, January 23\, 2025. 4:00 PM\, at the Judith R. Duavit-Vasquez and Class of 1984 Lecture Room (UPSE 105)\n🎓 UPSE-PCED Friday Seminar\n\n🧠📚💡Global agriculture is transforming as consumer preferences shift from staple cereals to fruits\, vegetables\, fish\, livestock\, and dairy. These high-value products take center stage\, creating opportunities to tackle poverty and improve food security.\nWhat’s driving this shift? Higher incomes\, rapid urbanization\, expanding trade\, supermarkets and cold storage\, improved infrastructure\, new technologies\, and effective public policies.\n\nJoin us for the first Friday seminar of 2026 and explore the drivers of the high-value revolution as well as its implications for farmers\, markets\, and the future of food.\n\n📝 Please register using the links below or by scanning the QR codes in the poster:\n📍 Onsite: https://tinyurl.com/mwnxhc3c \n📍 Zoom: https://tinyurl.com/hr6sa2z6 \n\n👀 We’d love to see you there!\n\nSource: UP School of Economics Facebook
URL:https://alum.up.edu.ph/event/upse-pced-friday-seminar-trends-and-driving-forces-of-high-value-agriculture/
END:VEVENT
END:VCALENDAR