BEGIN:VCALENDAR
VERSION:2.0
PRODID:-//UP Alumni Website - ECPv6.15.16//NONSGML v1.0//EN
CALSCALE:GREGORIAN
METHOD:PUBLISH
X-WR-CALNAME:UP Alumni Website
X-ORIGINAL-URL:https://alum.up.edu.ph
X-WR-CALDESC:Events for UP Alumni Website
REFRESH-INTERVAL;VALUE=DURATION:PT1H
X-Robots-Tag:noindex
X-PUBLISHED-TTL:PT1H
BEGIN:VTIMEZONE
TZID:UTC
BEGIN:STANDARD
TZOFFSETFROM:+0000
TZOFFSETTO:+0000
TZNAME:UTC
DTSTART:20240101T000000
END:STANDARD
END:VTIMEZONE
BEGIN:VTIMEZONE
TZID:Asia/Manila
BEGIN:STANDARD
TZOFFSETFROM:+0800
TZOFFSETTO:+0800
TZNAME:PST
DTSTART:20250101T000000
END:STANDARD
END:VTIMEZONE
BEGIN:VEVENT
DTSTART;TZID=UTC:20251216T090000
DTEND;TZID=UTC:20260307T160000
DTSTAMP:20260424T225921
CREATED:20251211T155412Z
LAST-MODIFIED:20251211T155412Z
UID:22891-1765875600-1772899200@alum.up.edu.ph
SUMMARY:Notes for Tomorrow Exhibit
DESCRIPTION:Notes for Tomorrow\nIn collaboration with Independent Curators International (ICI)\n\n16 December 2025 to 07 March 2026\nUP Vargas Museum 1/F Galleries\nExhibition preview on 16 December 2025\, 4:00 PM to 7:00 PM\nat the UP Vargas Museum\, West Wing Gallery\n\n‘Notes for Tomorrow’ features artworks from around the world brought together in 2020 to reflect on a new global reality ushered in by the COVID-19 pandemic. Coming out of a moment where collective crisis had to be managed through collective care\, Independent Curators International (ICI) turned to 30 curators from 25 countries to consider the issues that have come to the fore in the pandemic’s aftermath\, asking each of them to share one artwork that they believe is vital to be seen today.\n\nThe UP Vargas Museum hosts the exhibition’s first iteration in Southeast Asia\, opening on 16 December 2025\, bringing together works across various geographies\, narratives\, and disciplines that stray from the colonial canon. The selected artists present works that question monumentality and seek the wisdom of localities. In this necessary moment of cultural transition\, each work acts as a source of inspiration from the recent past toward new futures. Rather than proposing a single path forward\, the artworks in Notes for Tomorrow present a network of overlapping solutions.\n\n___\n\nArtists of ‘Notes for Tomorrow’: Madiha Aijaz\, Ernesto Bautista\, Maeve Brennan\, Vajiko Chachkhiani\, Luke Luokun Cheng\, A Liberated Library for Education\, Inspiration\, and Action\, Nothando Chiwanga\, Shezad Dawood\, Demian DinéYazhi’\, Cao Guimarães\, Ilana Harris-Babou\, Rei Hayama\, Amrita Hepi\, INVASORIX\, Tamás Kaszás\, Ali Kazma\, David Lozano\, Mona Marzouk\, Joiri Minaya\, Peter Morin\, Omehen\, Daniela Ortiz\, Kristina Kay Robinson\, Luiz Roque\, Mark Salvatus\, Ibrahima Thiam\, u/n multitude\, Wayne Kaumualii Westlake\, and Yan Shi\n\nSource: UP Vargas Museum Facebook
URL:https://alum.up.edu.ph/event/notes-for-tomorrow-exhibit/
END:VEVENT
BEGIN:VEVENT
DTSTART;TZID=UTC:20260114T080000
DTEND;TZID=UTC:20260221T170000
DTSTAMP:20260424T225921
CREATED:20260113T161227Z
LAST-MODIFIED:20260113T161227Z
UID:22958-1768377600-1771693200@alum.up.edu.ph
SUMMARY:Redesigning Patient-Centered Care: Innovating Lean Strategies for Safer\, Smarter\, and Sustainable Healthcare Systems
DESCRIPTION:Learn how to improve patient experience by enrolling in our newest training program: Redesigning Patient-Centered Care: Innovating Lean Strategies for Safer\, Smarter\, and Sustainable Healthcare Systems starting on 14 February until 21 March\, 2026.\n\nIn collaboration with the UPD Department of Industrial Engineering and Operations Research\, this 6-week certification program will equip hospital and clinic executives\, administrators\, and healthcare leaders to redesign patient-centered care systems through the integration of Lean Thinking and Innovation.\n\n✍🏻 Pre-register now! – https://bit.ly/2026NECRegistration\n💭 Still have questions? You may send us an email at nec.training@up.edu.ph or contact 8981-8500 loc. 3004\, 3005\, 3048.\n\nThis is UP NEC: Connecting minds that shape the nation! 🚀\n\nSource: UP NEC Training Facebook
URL:https://alum.up.edu.ph/event/redesigning-patient-centered-care-innovating-lean-strategies-for-safer-smarter-and-sustainable-healthcare-systems/
END:VEVENT
BEGIN:VEVENT
DTSTART;VALUE=DATE:20260201
DTEND;VALUE=DATE:20260301
DTSTAMP:20260424T225921
CREATED:20260118T214859Z
LAST-MODIFIED:20260118T214859Z
UID:23035-1769904000-1772323199@alum.up.edu.ph
SUMMARY:UP Diliman Arts and Culture Festival 2026
DESCRIPTION:Isang Unibersidad para sa Inklusibo at Mapagkalingang Lipunan\n\nSa UP Diliman Arts and Culture Festival 2026\,binibigyang-halaga ang mga gawain sa loob at labas ng campus na nagpapahalaga at nagdiriwang sa iba’t ibang anyo ng kaalaman\, karanasan\, at pagpapahayag na humuhubog sa ating komunidad.\n\nSa pamamagitan ng mga malikhaing proyekto\, pagtatanghal\, at programa\, ang sining ay magiging daluyan ng pakikilahok\, pagkilala\, at sama-samang pagkilos.\n\nMagkita-kita tayo sa iba’t ibang aktibidad ngayong Pebrero upang makibahagi sa pagbuo ng isang inklusibong Unibersidad.\nMakilahok. Makibahagi. Kumilos.\n\nKasama ka.\n\nBisitahin lamang ang bit.ly/UPDACF2026 o i-scan ang QR code para sa iba pang detalye.\n\nPoster by Cyp Damot\n\nSource: UP Diliman OICA Facebook
URL:https://alum.up.edu.ph/event/up-diliman-arts-and-culture-festival-2026/
END:VEVENT
BEGIN:VEVENT
DTSTART;TZID=UTC:20260202T080000
DTEND;TZID=UTC:20260214T170000
DTSTAMP:20260424T225921
CREATED:20260125T184932Z
LAST-MODIFIED:20260125T184932Z
UID:23126-1770019200-1771088400@alum.up.edu.ph
SUMMARY:UP College of Dentistry 111th Foundation Week
DESCRIPTION:COMING UP: UP College of Dentistry 111th Foundation Week\n\n🗓️ Important Dates:\n\nFebruary 2\, 2026 (Monday)\n– Flag Raising Ceremony\n– White Coat and Pinning Ceremony\n\nFebruary 3\, 2026 (Tuesday)\n– Faculty and Student Exchange Research Presentations\n\nFebruary 4\, 2026 (Wednesday)\n– Free Clinics for UP Manila Employees\n\nFebruary 5\, 2026 (Thursday)\n– “Alay Pasasalamat” A Thanksgiving Event\n– “Kumusta na ang College?” Open House and Afternoon Tea\n\nFebruary 8\, 2026 (Sunday)\n– Alumni Homecoming “25 Years Strong: Redefining Success Beyond Dentistry”\n\nFebruary 13-14\, 2026 (Friday-Saturday)\n– Dentolympics\n– UPCD Got Talent\n– Ambassador and Ambassadress of Smiles\n\nSee event poster in the comment section for more details.\n\nSource: University of the Philippines Manila Facebook
URL:https://alum.up.edu.ph/event/up-college-of-dentistry-111th-foundation-week/
END:VEVENT
BEGIN:VEVENT
DTSTART;TZID=UTC:20260209T083000
DTEND;TZID=UTC:20260209T173000
DTSTAMP:20260424T225921
CREATED:20260106T173328Z
LAST-MODIFIED:20260106T173936Z
UID:22929-1770625800-1770658200@alum.up.edu.ph
SUMMARY:CAREER IN PUBLIC SERVICE JOB FAIR 2026 - Wayfinding: Navigating Careers with Impact in Public Service
DESCRIPTION:Ready to chart a meaningful career path?\n\nJoin us for a full-day job fair connecting students with government agencies. Discover opportunities to serve\, lead\, and make an impact in the public sector. The CIPS Job Fair 2026 lighthouse is here to guide you.\n\n📅 9 February 2026 (Monday)\n⏰ 8:30 AM – 5:30 PM\n📍 UPSE Auditorium\n\nMeet government agencies\, learn about career pathways in public service\, and take the next step toward purposeful work that matters.\n\nRegister here: https://forms.gle/44R9Vi7dUAyNRHp69\n\nSee you as we navigate careers with impact! Open to ALL college students. Graduates are also welcome to join!\n\nSource: UP School of Economics Facebook
URL:https://alum.up.edu.ph/event/career-in-public-service-job-fair-2026/
END:VEVENT
BEGIN:VEVENT
DTSTART;TZID=UTC:20260209T100000
DTEND;TZID=UTC:20260209T120000
DTSTAMP:20260424T225921
CREATED:20260129T160930Z
LAST-MODIFIED:20260129T160930Z
UID:23180-1770631200-1770638400@alum.up.edu.ph
SUMMARY:Leveraging CRISPR Gene Editing to Uncover Disease Mechanisms and Drive Drug Discovery
DESCRIPTION:Discover how CRISPR is transforming disease research and drug discovery! 🧬\n\nHear from Dr. Kalay Bertulfo (NYU Medical Center) as she shares cutting-edge insights on gene editing and therapeutic target discovery.\n\n📅 Feb 9\, 2026; 10 AM\n📍 NIMBB Room 107\n\nSource: National Institute of Molecular Biology and Biotechnology UP Diliman Facebook
URL:https://alum.up.edu.ph/event/leveraging-crispr-gene-editing-to-uncover-disease-mechanisms-and-drive-drug-discovery/
END:VEVENT
BEGIN:VEVENT
DTSTART;TZID=Asia/Manila:20260209T100000
DTEND;TZID=Asia/Manila:20260209T170000
DTSTAMP:20260424T225921
CREATED:20260204T001221Z
LAST-MODIFIED:20260204T001221Z
UID:23220-1770631200-1770656400@alum.up.edu.ph
SUMMARY:“Sustainability of the Tropical Eucheumatoid Seaweed Industry”
DESCRIPTION:The UP Marine Science Institute invites everyone to a hybrid seminar on the Philippine seaweed industry. With NAST Academician Dr. Gisela Concepcion as the Master of Ceremonies\, join us as Dr. Michael Roleda of UP MSI and Co-Founder and Vice Chairperson Rosalind Wee of W. Group Inc. discuss the current state of the country’s eucheumatoid seaweed industry.\n\nEucheumatoid seaweeds such as Kappaphycus alvarezii\, Kappaphycus striatus\, and Eucheuma denticulatum are the center of the Philippine seaweed industry. As major sources of carrageenan\, a valuable hydrocolloid that is widely used in food and household products\, these seaweeds built a multimillion-peso industry that have supported our seaweed farmers and processors for decades. Analyzing the environmental and socio-economic issues that surround it is critical to securing the industry’s sustainability.\n\n“Sustainability of the Tropical Eucheumatoid Seaweed Industry” will be held on February 9\, 2026\, 10:00 AM. As a hybrid webinar\, guests will allowed to attend at the MSI AVR or through Zoom.\n\nRegister now: bit.ly/MSISeaweedIndustry\n\nThis is a free public seminar that is co-organized by the UP Marine Science Institute\, the Algal Ecophysiology Laboratory\, and W Hydrocolloids\, Inc. Special guests from key seaweed industry players\, Fonterra and Sherratt Ingredients\, and officials from UP Diliman will also be present.\n\nFor more updates\, follow Algal Ecophysiology Laboratory.\n\nADDENDUM: Vice Chairperson Wee’s title has been updated.\n\nSource: UP Marine Science Institute Facebook
URL:https://alum.up.edu.ph/event/sustainability-of-the-tropical-eucheumatoid-seaweed-industry/
END:VEVENT
BEGIN:VEVENT
DTSTART;TZID=Asia/Manila:20260209T130000
DTEND;TZID=Asia/Manila:20260209T160000
DTSTAMP:20260424T225921
CREATED:20260204T003811Z
LAST-MODIFIED:20260204T003827Z
UID:23228-1770642000-1770652800@alum.up.edu.ph
SUMMARY:ABUEVA IKOTOUR: Whom Art Should Serve\, a roving survey of Napoleon V. Abueva’s public art in UP Diliman
DESCRIPTION:The Bulwagan ng Dangal University Heritage Museum presents ABUEVA IKOTOUR: Whom Art Should Serve\, a roving survey of Napoleon V. Abueva’s public art in UP Diliman. The walking and riding tour utilizes the UP Ikot jeepney\, a campus icon since the University’s transfer to Diliman in 1949.\n\nNapoleon V. Abueva (1930–2018)\, the youngest recipient of the National Artist award\, created many of UP Diliman’s enduring landmarks\, including The Crucifix\, University Gateway\, Tribute to Higher Education\, Siyam na Diwata ng Sining\, Three Women Sewing a Flag\, and Magdangal. This ikotouring exhibition commemorates the 50th anniversary of his conferment as National Artist.\n\n🗓 Tour schedules:\nFebruary 9\, 16\, and 23 (Mondays)\n1:00–4:00 PM\n\n📌 Registration details\, including QR codes and links\, will be posted in a separate post\, please watch out for it.\n\nThis project is part of the UP Diliman Arts and Culture Festival 2026 (UPDACF 2026)\, themed “Isang Unibersidad para sa Isang Inklusibo at Mapagkalingang Lipunan\,” which highlights and celebrates initiatives within and beyond the UP Diliman campus that value diverse forms of knowledge\, experience\, and expression that shape our community.\n\nJoin us and reflect on public art\, movement\, and the enduring question: Whom should art serve?\n\nSource: Bulwagan ng Dangal University Heritage Museum Facebook
URL:https://alum.up.edu.ph/event/abueva-ikotour/
END:VEVENT
BEGIN:VEVENT
DTSTART;TZID=Asia/Manila:20260209T150000
DTEND;TZID=Asia/Manila:20260209T170000
DTSTAMP:20260424T225921
CREATED:20260204T004251Z
LAST-MODIFIED:20260204T004251Z
UID:23235-1770649200-1770656400@alum.up.edu.ph
SUMMARY:IB 40th Anniversary Seminar: Using Biological Principles in Good Governance
DESCRIPTION:In celebration of the Institute of Biology’s 40th Anniversary\, we are hosting a special webinar titled “Using Biological Principles in Good Governance.” We are honored to welcome Hon. Maria Elena Ramona M. Ragragio\, Mayor of Magallanes\, Sorsogon\, as our guest speaker to discuss how scientific frameworks can drive innovation in public service.\n\nThe session will be held on February 9\, 2026\, at 3:00 PM via Zoom\, with Dr. Lerrie Ann Ipulan-Colet as our moderator.\n\nAll students\, faculty\, staff\, and alumni are invited to attend and join this insightful discussion on the intersection of science and leadership.\n\nYou can register through the link below:\nhttps://up-edu.zoom.us/…/register/1nTagBcURJOAtSEwa44arg\n\nSource: UP Institute of Biology Facebook
URL:https://alum.up.edu.ph/event/ib-40th-anniversary-seminar-using-biological-principles-in-good-governance/
END:VEVENT
END:VCALENDAR