BEGIN:VCALENDAR
VERSION:2.0
PRODID:-//UP Alumni Website - ECPv6.15.16//NONSGML v1.0//EN
CALSCALE:GREGORIAN
METHOD:PUBLISH
X-WR-CALNAME:UP Alumni Website
X-ORIGINAL-URL:https://alum.up.edu.ph
X-WR-CALDESC:Events for UP Alumni Website
REFRESH-INTERVAL;VALUE=DURATION:PT1H
X-Robots-Tag:noindex
X-PUBLISHED-TTL:PT1H
BEGIN:VTIMEZONE
TZID:UTC
BEGIN:STANDARD
TZOFFSETFROM:+0000
TZOFFSETTO:+0000
TZNAME:UTC
DTSTART:20240101T000000
END:STANDARD
END:VTIMEZONE
BEGIN:VTIMEZONE
TZID:Asia/Manila
BEGIN:STANDARD
TZOFFSETFROM:+0800
TZOFFSETTO:+0800
TZNAME:PST
DTSTART:20250101T000000
END:STANDARD
END:VTIMEZONE
BEGIN:VEVENT
DTSTART;TZID=UTC:20251216T090000
DTEND;TZID=UTC:20260307T160000
DTSTAMP:20260423T195206
CREATED:20251211T155412Z
LAST-MODIFIED:20251211T155412Z
UID:22891-1765875600-1772899200@alum.up.edu.ph
SUMMARY:Notes for Tomorrow Exhibit
DESCRIPTION:Notes for Tomorrow\nIn collaboration with Independent Curators International (ICI)\n\n16 December 2025 to 07 March 2026\nUP Vargas Museum 1/F Galleries\nExhibition preview on 16 December 2025\, 4:00 PM to 7:00 PM\nat the UP Vargas Museum\, West Wing Gallery\n\n‘Notes for Tomorrow’ features artworks from around the world brought together in 2020 to reflect on a new global reality ushered in by the COVID-19 pandemic. Coming out of a moment where collective crisis had to be managed through collective care\, Independent Curators International (ICI) turned to 30 curators from 25 countries to consider the issues that have come to the fore in the pandemic’s aftermath\, asking each of them to share one artwork that they believe is vital to be seen today.\n\nThe UP Vargas Museum hosts the exhibition’s first iteration in Southeast Asia\, opening on 16 December 2025\, bringing together works across various geographies\, narratives\, and disciplines that stray from the colonial canon. The selected artists present works that question monumentality and seek the wisdom of localities. In this necessary moment of cultural transition\, each work acts as a source of inspiration from the recent past toward new futures. Rather than proposing a single path forward\, the artworks in Notes for Tomorrow present a network of overlapping solutions.\n\n___\n\nArtists of ‘Notes for Tomorrow’: Madiha Aijaz\, Ernesto Bautista\, Maeve Brennan\, Vajiko Chachkhiani\, Luke Luokun Cheng\, A Liberated Library for Education\, Inspiration\, and Action\, Nothando Chiwanga\, Shezad Dawood\, Demian DinéYazhi’\, Cao Guimarães\, Ilana Harris-Babou\, Rei Hayama\, Amrita Hepi\, INVASORIX\, Tamás Kaszás\, Ali Kazma\, David Lozano\, Mona Marzouk\, Joiri Minaya\, Peter Morin\, Omehen\, Daniela Ortiz\, Kristina Kay Robinson\, Luiz Roque\, Mark Salvatus\, Ibrahima Thiam\, u/n multitude\, Wayne Kaumualii Westlake\, and Yan Shi\n\nSource: UP Vargas Museum Facebook
URL:https://alum.up.edu.ph/event/notes-for-tomorrow-exhibit/
END:VEVENT
BEGIN:VEVENT
DTSTART;TZID=UTC:20260114T080000
DTEND;TZID=UTC:20260221T170000
DTSTAMP:20260423T195206
CREATED:20260113T161227Z
LAST-MODIFIED:20260113T161227Z
UID:22958-1768377600-1771693200@alum.up.edu.ph
SUMMARY:Redesigning Patient-Centered Care: Innovating Lean Strategies for Safer\, Smarter\, and Sustainable Healthcare Systems
DESCRIPTION:Learn how to improve patient experience by enrolling in our newest training program: Redesigning Patient-Centered Care: Innovating Lean Strategies for Safer\, Smarter\, and Sustainable Healthcare Systems starting on 14 February until 21 March\, 2026.\n\nIn collaboration with the UPD Department of Industrial Engineering and Operations Research\, this 6-week certification program will equip hospital and clinic executives\, administrators\, and healthcare leaders to redesign patient-centered care systems through the integration of Lean Thinking and Innovation.\n\n✍🏻 Pre-register now! – https://bit.ly/2026NECRegistration\n💭 Still have questions? You may send us an email at nec.training@up.edu.ph or contact 8981-8500 loc. 3004\, 3005\, 3048.\n\nThis is UP NEC: Connecting minds that shape the nation! 🚀\n\nSource: UP NEC Training Facebook
URL:https://alum.up.edu.ph/event/redesigning-patient-centered-care-innovating-lean-strategies-for-safer-smarter-and-sustainable-healthcare-systems/
END:VEVENT
BEGIN:VEVENT
DTSTART;VALUE=DATE:20260201
DTEND;VALUE=DATE:20260301
DTSTAMP:20260423T195206
CREATED:20260118T214859Z
LAST-MODIFIED:20260118T214859Z
UID:23035-1769904000-1772323199@alum.up.edu.ph
SUMMARY:UP Diliman Arts and Culture Festival 2026
DESCRIPTION:Isang Unibersidad para sa Inklusibo at Mapagkalingang Lipunan\n\nSa UP Diliman Arts and Culture Festival 2026\,binibigyang-halaga ang mga gawain sa loob at labas ng campus na nagpapahalaga at nagdiriwang sa iba’t ibang anyo ng kaalaman\, karanasan\, at pagpapahayag na humuhubog sa ating komunidad.\n\nSa pamamagitan ng mga malikhaing proyekto\, pagtatanghal\, at programa\, ang sining ay magiging daluyan ng pakikilahok\, pagkilala\, at sama-samang pagkilos.\n\nMagkita-kita tayo sa iba’t ibang aktibidad ngayong Pebrero upang makibahagi sa pagbuo ng isang inklusibong Unibersidad.\nMakilahok. Makibahagi. Kumilos.\n\nKasama ka.\n\nBisitahin lamang ang bit.ly/UPDACF2026 o i-scan ang QR code para sa iba pang detalye.\n\nPoster by Cyp Damot\n\nSource: UP Diliman OICA Facebook
URL:https://alum.up.edu.ph/event/up-diliman-arts-and-culture-festival-2026/
END:VEVENT
BEGIN:VEVENT
DTSTART;TZID=Asia/Manila:20260211T080000
DTEND;TZID=Asia/Manila:20260228T170000
DTSTAMP:20260423T195206
CREATED:20260211T054956Z
LAST-MODIFIED:20260211T054956Z
UID:23336-1770796800-1772298000@alum.up.edu.ph
SUMMARY:UP Tacloban College National Arts Month
DESCRIPTION:UP Tacloban College\, through the Division of Humanities and UP Tacloban – Leyte Samar Heritage Center\, joins the country in celebrating this year’s National Arts Month.\n\nCheck out our schedule of activities:\n\nTsika-LIT: Literary Conversations\nConversation with Professor Emeritus Merlie Alunan on being recognized as one of the 12 Royal Society of Literature International Writers for 2025\n11 February 2026\n1:00 PM – 4:00 PM\nLeyte Samar Heritage Center\, UP Tacloban College\n\nBook Launching: Tawo\, Tubig\, Tuna (A Collection of Narratives about Natural Landmarks in Eastern Visayas)\n20 February 2026\n1:30 PM – 4:00 PM\nLeyte Samar Heritage Center\, UP Tacloban College\n\nTagay Sangkay 2026: International Food and Wine Festival\n24 February 2026\n1:00 PM – 7:00 PM\nMulti-purpose Building\, UP Tacloban College\n\nKarit Anyag Arts Workshop\n28 February 2026\n8:00 AM – 5:00 PM\nMahaplag National High School\, Mahaplag\, Leyte\n\nSource: UP Tacloban College – Division of Humanities Facebook
URL:https://alum.up.edu.ph/event/up-tacloban-college-national-arts-month/
END:VEVENT
BEGIN:VEVENT
DTSTART;TZID=Asia/Manila:20260216T080000
DTEND;TZID=Asia/Manila:20260220T170000
DTSTAMP:20260423T195206
CREATED:20260219T010412Z
LAST-MODIFIED:20260219T010412Z
UID:23393-1771228800-1771606800@alum.up.edu.ph
SUMMARY:2026 UPLB National Arts Month Calendar of Activities
DESCRIPTION:Read more here: UPLB celebrates National Arts Month with FRINGE 2026
URL:https://alum.up.edu.ph/event/2026-uplb-national-arts-month-calendar-of-activities/
END:VEVENT
BEGIN:VEVENT
DTSTART;TZID=Asia/Manila:20260218T100000
DTEND;TZID=Asia/Manila:20260218T120000
DTSTAMP:20260423T195206
CREATED:20260204T234244Z
LAST-MODIFIED:20260204T234244Z
UID:23268-1771408800-1771416000@alum.up.edu.ph
SUMMARY:"Implications of the ITLOS\, IAtCHR\, and ICJ Advisory Opinions for Corporate Accountability”
DESCRIPTION:The Institute of International Legal Studies of the University of the Philippines Law Center is hosting a Lecture by Professor Jacqueline Peel entitled “Implications of the ITLOS\, IAtCHR\, and ICJ Advisory Opinions for Corporate Accountability” on 18 February 2026 at the Malcolm Theater\, UP Diliman from 10:00 AM – 11:40 AM. Registration begins at 9:30 AM.\n\nProf. Peel is a leading\, internationally-recognized expert in the field of environmental and climate change law and has written extensively on international environmental law and climate change litigation.\n\nProf. Jacqueline Peel’s lecture will be followed by reactions from the academe\, the civil society\, and private organizations.\n\nRegister via https://bit.ly/ProfPeelLecture to reserve a seat.\n\nThis forum will be delivered via a face-to-face modality.\n\nSee you there!\n\nSource: Institute of International Legal Studies Facebook
URL:https://alum.up.edu.ph/event/implications-of-the-itlos-iatchr-and-icj-advisory-opinions-for-corporate-accountability/
END:VEVENT
BEGIN:VEVENT
DTSTART;TZID=UTC:20260218T100000
DTEND;TZID=UTC:20260218T123000
DTSTAMP:20260423T195206
CREATED:20260127T162455Z
LAST-MODIFIED:20260127T162455Z
UID:23139-1771408800-1771417800@alum.up.edu.ph
SUMMARY:The Bamboo Organ Festival Masterclass
DESCRIPTION:The University of the Philippines College of Music once again partners with the Las Piñas International Bamboo Organ Festival for a morning of free masterclasses and lectures led by distinguished guest artists of this year’s festival.\n\nHappening on February 18 (10am to 1230pm) at the UP College of Music\, the event will feature the following sessions:\n• Toshiyuki Shibata — flute masterclass\n• Dr. Eudenice Palaruan — conducting and vocal performance practice of villancicos\n• Andrés Cea Galán — lecture on Spanish organ music\n\nThis collaborative program offers students\, educators\, and performers a rare opportunity to engage with internationally acclaimed artists and deepen their musical and pedagogical insights into early music.\n\nAdmission is free and open to the public.\n\nSource:UP Kolehiyo ng Musika Facebook
URL:https://alum.up.edu.ph/event/the-bamboo-organ-festival-masterclass/
END:VEVENT
BEGIN:VEVENT
DTSTART;TZID=Asia/Manila:20260218T130000
DTEND;TZID=Asia/Manila:20260218T160000
DTSTAMP:20260423T195206
CREATED:20260205T000652Z
LAST-MODIFIED:20260205T000652Z
UID:23270-1771419600-1771430400@alum.up.edu.ph
SUMMARY:Knowledge in Motion: Japanese Intellectual Contributions to Research on Southeast Asia
DESCRIPTION:📣 Here’s another insightful talk from Social Science Diliman — don’t miss it!\n\nKnowledge in Motion: Japanese Intellectual Contributions to Research on Southeast Asia\n\nJoin us for this hybrid talk\, in partnership with the UP Asian Center\, exploring how Japanese scholars have shaped Southeast Asian Studies through distinctive research traditions and collaborations. Discover Japan’s unique role in regional knowledge production and Asia-Pacific academic networks.\n\n📅 February 18\, 2026 (Wednesday)\n⏰ 1:00 PM – 4:00 PM\n📍 Asian Center Seminar Room\n\n📖 On-site attendees will receive a copy of Social Science Diliman\n💻 Participants who prefer to join online will receive access details after pre-registration.\n✨ This talk is free and open to all!\n\n🔗 Register now: https://bit.ly/SSD-KnowledgeinMotion\n\nSource: Social Science Diliman Facebook
URL:https://alum.up.edu.ph/event/knowledge-in-motion-japanese-intellectual-contributions-to-research-on-southeast-asia/
END:VEVENT
BEGIN:VEVENT
DTSTART;TZID=UTC:20260218T150000
DTEND;TZID=UTC:20260218T170000
DTSTAMP:20260423T195206
CREATED:20260129T212626Z
LAST-MODIFIED:20260129T212626Z
UID:23194-1771426800-1771434000@alum.up.edu.ph
SUMMARY:Advances in Dengue Serology and Diagnostics in Clinical Management and Vaccine Strategies
DESCRIPTION:🗓️ February 18\, 2026 (Wednesday)\n⏰ 3:00 PM\n📍 UP National Institutes of Health Conference Room\n\nRegister here: https://forms.gle/ZgzfDATbR2vHtGDd6\n\nSource: University of the Philippines Manila Facebook
URL:https://alum.up.edu.ph/event/advances-in-dengue-serology-and-diagnostics-in-clinical-management-and-vaccine-strategies/
END:VEVENT
END:VCALENDAR