BEGIN:VCALENDAR
VERSION:2.0
PRODID:-//UP Alumni Website - ECPv6.15.16//NONSGML v1.0//EN
CALSCALE:GREGORIAN
METHOD:PUBLISH
X-WR-CALNAME:UP Alumni Website
X-ORIGINAL-URL:https://alum.up.edu.ph
X-WR-CALDESC:Events for UP Alumni Website
REFRESH-INTERVAL;VALUE=DURATION:PT1H
X-Robots-Tag:noindex
X-PUBLISHED-TTL:PT1H
BEGIN:VTIMEZONE
TZID:UTC
BEGIN:STANDARD
TZOFFSETFROM:+0000
TZOFFSETTO:+0000
TZNAME:UTC
DTSTART:20240101T000000
END:STANDARD
END:VTIMEZONE
BEGIN:VTIMEZONE
TZID:Asia/Manila
BEGIN:STANDARD
TZOFFSETFROM:+0800
TZOFFSETTO:+0800
TZNAME:PST
DTSTART:20250101T000000
END:STANDARD
END:VTIMEZONE
BEGIN:VEVENT
DTSTART;TZID=UTC:20251216T090000
DTEND;TZID=UTC:20260307T160000
DTSTAMP:20260423T215310
CREATED:20251211T155412Z
LAST-MODIFIED:20251211T155412Z
UID:22891-1765875600-1772899200@alum.up.edu.ph
SUMMARY:Notes for Tomorrow Exhibit
DESCRIPTION:Notes for Tomorrow\nIn collaboration with Independent Curators International (ICI)\n\n16 December 2025 to 07 March 2026\nUP Vargas Museum 1/F Galleries\nExhibition preview on 16 December 2025\, 4:00 PM to 7:00 PM\nat the UP Vargas Museum\, West Wing Gallery\n\n‘Notes for Tomorrow’ features artworks from around the world brought together in 2020 to reflect on a new global reality ushered in by the COVID-19 pandemic. Coming out of a moment where collective crisis had to be managed through collective care\, Independent Curators International (ICI) turned to 30 curators from 25 countries to consider the issues that have come to the fore in the pandemic’s aftermath\, asking each of them to share one artwork that they believe is vital to be seen today.\n\nThe UP Vargas Museum hosts the exhibition’s first iteration in Southeast Asia\, opening on 16 December 2025\, bringing together works across various geographies\, narratives\, and disciplines that stray from the colonial canon. The selected artists present works that question monumentality and seek the wisdom of localities. In this necessary moment of cultural transition\, each work acts as a source of inspiration from the recent past toward new futures. Rather than proposing a single path forward\, the artworks in Notes for Tomorrow present a network of overlapping solutions.\n\n___\n\nArtists of ‘Notes for Tomorrow’: Madiha Aijaz\, Ernesto Bautista\, Maeve Brennan\, Vajiko Chachkhiani\, Luke Luokun Cheng\, A Liberated Library for Education\, Inspiration\, and Action\, Nothando Chiwanga\, Shezad Dawood\, Demian DinéYazhi’\, Cao Guimarães\, Ilana Harris-Babou\, Rei Hayama\, Amrita Hepi\, INVASORIX\, Tamás Kaszás\, Ali Kazma\, David Lozano\, Mona Marzouk\, Joiri Minaya\, Peter Morin\, Omehen\, Daniela Ortiz\, Kristina Kay Robinson\, Luiz Roque\, Mark Salvatus\, Ibrahima Thiam\, u/n multitude\, Wayne Kaumualii Westlake\, and Yan Shi\n\nSource: UP Vargas Museum Facebook
URL:https://alum.up.edu.ph/event/notes-for-tomorrow-exhibit/
END:VEVENT
BEGIN:VEVENT
DTSTART;VALUE=DATE:20260201
DTEND;VALUE=DATE:20260301
DTSTAMP:20260423T215310
CREATED:20260118T214859Z
LAST-MODIFIED:20260118T214859Z
UID:23035-1769904000-1772323199@alum.up.edu.ph
SUMMARY:UP Diliman Arts and Culture Festival 2026
DESCRIPTION:Isang Unibersidad para sa Inklusibo at Mapagkalingang Lipunan\n\nSa UP Diliman Arts and Culture Festival 2026\,binibigyang-halaga ang mga gawain sa loob at labas ng campus na nagpapahalaga at nagdiriwang sa iba’t ibang anyo ng kaalaman\, karanasan\, at pagpapahayag na humuhubog sa ating komunidad.\n\nSa pamamagitan ng mga malikhaing proyekto\, pagtatanghal\, at programa\, ang sining ay magiging daluyan ng pakikilahok\, pagkilala\, at sama-samang pagkilos.\n\nMagkita-kita tayo sa iba’t ibang aktibidad ngayong Pebrero upang makibahagi sa pagbuo ng isang inklusibong Unibersidad.\nMakilahok. Makibahagi. Kumilos.\n\nKasama ka.\n\nBisitahin lamang ang bit.ly/UPDACF2026 o i-scan ang QR code para sa iba pang detalye.\n\nPoster by Cyp Damot\n\nSource: UP Diliman OICA Facebook
URL:https://alum.up.edu.ph/event/up-diliman-arts-and-culture-festival-2026/
END:VEVENT
BEGIN:VEVENT
DTSTART;TZID=Asia/Manila:20260211T080000
DTEND;TZID=Asia/Manila:20260228T170000
DTSTAMP:20260423T215310
CREATED:20260211T054956Z
LAST-MODIFIED:20260211T054956Z
UID:23336-1770796800-1772298000@alum.up.edu.ph
SUMMARY:UP Tacloban College National Arts Month
DESCRIPTION:UP Tacloban College\, through the Division of Humanities and UP Tacloban – Leyte Samar Heritage Center\, joins the country in celebrating this year’s National Arts Month.\n\nCheck out our schedule of activities:\n\nTsika-LIT: Literary Conversations\nConversation with Professor Emeritus Merlie Alunan on being recognized as one of the 12 Royal Society of Literature International Writers for 2025\n11 February 2026\n1:00 PM – 4:00 PM\nLeyte Samar Heritage Center\, UP Tacloban College\n\nBook Launching: Tawo\, Tubig\, Tuna (A Collection of Narratives about Natural Landmarks in Eastern Visayas)\n20 February 2026\n1:30 PM – 4:00 PM\nLeyte Samar Heritage Center\, UP Tacloban College\n\nTagay Sangkay 2026: International Food and Wine Festival\n24 February 2026\n1:00 PM – 7:00 PM\nMulti-purpose Building\, UP Tacloban College\n\nKarit Anyag Arts Workshop\n28 February 2026\n8:00 AM – 5:00 PM\nMahaplag National High School\, Mahaplag\, Leyte\n\nSource: UP Tacloban College – Division of Humanities Facebook
URL:https://alum.up.edu.ph/event/up-tacloban-college-national-arts-month/
END:VEVENT
BEGIN:VEVENT
DTSTART;VALUE=DATE:20260219
DTEND;VALUE=DATE:20260228
DTSTAMP:20260423T215310
CREATED:20260205T234410Z
LAST-MODIFIED:20260205T234410Z
UID:23282-1771459200-1772236799@alum.up.edu.ph
SUMMARY:CSWCD Week 2026
DESCRIPTION:🌱 SAVE THE DATE: SIBOL 2026 IS BLOOMING! 🌸\n\nMark your calendars and gear up for CSWCD Week 2026!\n🗓 February 19-27\, 2026\n\nNgayong taon\, magsasama-sama tayo sa temang:\nSIBOL: Pagpapayabong ng Nasimulan at ng Bagong Pag-asa\n\nHighlight Events ✨\nHindi lang ito basta selebrasyon; ito ay pagkilala sa ating kasaysayan at pagtanaw sa ating kinabukasan.\n\nAbangan ang mga sumusunod na aktibidad:\n\n🗓February 19 (Huwebes)\nSimula ng CSWCD Week\n🌱Pagpupunla sa Hardin ng CSWCD\n☕️ Paglulunsad ng Bazaar 🎨Paint Jam/Mural\n🕘 9:00 AM – 11:00 AM 🧭 CSWCD Walkway\n\n🗓February 20 (Biyernes)\nSeremonya ng Pagtatalaga ng Dekano\n🕘 1:30 PM – 4:00 PM 🧭 Bulwagang Tandang Sora\nGabi ng Sining\n🕘 5:30 PM- 8:00 PM 🧭 CSWCD Walkway\n\n🗓February 23 (Lunes)\nPaglulunsad ng PJSD 18\n🕘 5:00 PM – 7:00 PM 🧭 CSWCD Seminar Room\n\n🗓February 24 (Martes)\nDCD Forum\nPatuloy na Pagsulong sa Sama-aralan:\nMga Kwento ng Pakikipamuhay\, Pag-asa\, at Pagkilos\n🕘 9:00 AM – 12:00 NN 🧭 Bulwagang Tandang Sora\nPaglulunsad ng Smart Library Attendance Kiosk\n🕘 1:00 PM – 3:00 PM 🧭 CSWCD Library\nAkwe at Palarong CSWCD at Zumba\n🕘 3:00 PM – 5:00 PM 🧭 CSWCD Walkway\n🕘 1:00 PM – 3:00 PM 🧭\n\n🗓February 25 (Miyerkules)\nKomemorasyon ng EDSA@40\n\n🗓February 26 (Huwebes)\nInterdisciplinary Conference\nGender\, Power\, and Politics in the Philippines:\nInterdisciplinary Perspectives\nDepartment of Women and Development Studies\n🕘 9:00 AM – 5:30 PM 🧭 Bulwagang Tandang Sora\nKalingang DSW:\nTuloy-tuloy na Sigla sa Muling Pag-sibol\n🕘 9:00 AM – 5:30 PM 🧭 CSWCD Library\n\n🗓February 27 (Biyernes)\nCSWCD Alumni Association Forum\nEDSA@40: Paggunita\, Pagsusuri\, at Pakikibaka\npara sa Kinabukasan\n🕘 9:00 AM – 12:00 NN 🧭 Seminar Room\nHuling Araw ng Bazaar\n🕘 9:00 AM – 6:00 PM 🧭 CSWCD Walkway\nPangwakas na Pagdiriwang\n🏆 Pagkilala sa mga Faculty at REPS na may Natatanging Tagumpay 💐 Service Awards 🎨 Pagpapasinaya ng Mural\n🕘 1:30 PM – 4:00 PM 🧭 Bulwagang Tandang Sora\n\nKitakits sa CSWCD! 🙌\n\nSource: College of Social Work and Community Development Facebook
URL:https://alum.up.edu.ph/event/cswcd-week-2026/
END:VEVENT
BEGIN:VEVENT
DTSTART;TZID=UTC:20260226T090000
DTEND;TZID=UTC:20260226T173000
DTSTAMP:20260423T215310
CREATED:20260121T165306Z
LAST-MODIFIED:20260121T165306Z
UID:23074-1772096400-1772127000@alum.up.edu.ph
SUMMARY:Gender\, Power\, and Politics in the Philippines: Interdisciplinary Perspectives
DESCRIPTION:📣 Join Us!\n\nGender\, Power\, and Politics in the Philippines: Interdisciplinary Perspectives\n\nThe University of the Philippines Diliman – College of Social Work and Community Development\, through the Department of Women and Development Studies\, in partnership with the Australian National University – Philippine Institute\, invites you to an interdisciplinary conference that examines a range of sites where gender structures social and political life from formal political institutions to digital and underground publics\, intimate economies of sex\, care\, and labour\, the family\, markets\, and everyday practices.\n\n✨ See our exciting line-up of speakers!\n📅 February 26\, 2026\n⏰ 9:00 AM – 5:30 PM\n📍 Bulwagang Tandang Sora\, CSWCD\, UP Diliman\n💻 Hybrid event (online and face-to-face)\n⚠️ Limited slots for face-to-face participants\n📌 Register using this link: https://bit.ly/GPPPConference\n\nSource: UP Department of Women and Development Studies Facebook
URL:https://alum.up.edu.ph/event/gender-power-and-politics-in-the-philippines-interdisciplinary-perspectives/
END:VEVENT
BEGIN:VEVENT
DTSTART;TZID=Asia/Manila:20260226T130000
DTEND;TZID=Asia/Manila:20260226T150000
DTSTAMP:20260423T215310
CREATED:20260225T010936Z
LAST-MODIFIED:20260225T011004Z
UID:23459-1772110800-1772118000@alum.up.edu.ph
SUMMARY:2026 UPD REB Monthly Ethics Seminar Series (MESS) "On Art\, Culture\, and Research Ethics"
DESCRIPTION:We’re Back!\n\n“On Art\, Culture\, and Research Ethics”\n\n🗓 : 26 February 2026 (Thursday)\n⏰: 1:00 PM to 3:00 PM\n🏠 : NSRI Conference Room\, Miranda Hall\, UP Diliman\n🎥 : Live via Zoom and Facebook\n\nWe’re celebrating Arts month with the 1st episode of the 2026 UPD REB Monthly Ethics Seminar Series (MESS) on February 26\, 2026 (Thursday) at 1:00 PM to 3:00 PM at the NSRI Conference Room\, Miranda Hall and live via Zoom and Facebook.\n\nCelebrating with us is Prof. Abdulmari “Toym” de Leon Imao\, Jr.\, a multi-awarded multi-media artist and the Dean of the College of Fine Arts of the University of the Philippines Diliman.\n\nJoining him is Prof. Pedro “Edru” R. Abraham\, Jr.\, Founder – Artistic Director Emeritus of the Kontemporaryong Gamelan Pilipino (UP Kontra-GaPi)\, the resident ethnic music and dance ensemble of the UP Diliman College of Arts and Letters which strives to express music and kindred arts from indigenous Philippines and its Asian roots.\n\nEnriching the discussion of Prof. Toym and Prof. Edru’s lectures on art\, culture\, and research ethics\, is Renee C. Talavera\, Chief of the Program Management Division of the National Commission for Culture and the Arts\, who will provide an overview of the Commission’s mandate and its historical background vis-a-vis research ethics.\n\nDon’t miss out on our celebration of arts month!\n\nSee you there!\n\nRegister now and let us know your inquiries in advance via: https://forms.gle/YRm5AQU8iLWPqKWi6\n\nTune in for more updates!!!\n\nMissed an Episode?\nVisit our Official YouTube Channel!\nhttps://www.youtube.com/@updilimanreb\n\nSource: UP Diliman Research Ethics Board Facebook
URL:https://alum.up.edu.ph/event/on-art-culture-and-research-ethics/
END:VEVENT
BEGIN:VEVENT
DTSTART;TZID=Asia/Manila:20260226T160000
DTEND;TZID=Asia/Manila:20260226T173000
DTSTAMP:20260423T215310
CREATED:20260211T003105Z
LAST-MODIFIED:20260211T003105Z
UID:23312-1772121600-1772127000@alum.up.edu.ph
SUMMARY:Resilience Live 20th episode
DESCRIPTION:📣 JOIN US FOR EPISODE 20\n\nWhat role does artistic expression play in disaster resilience?\nFind out in the 20th episode of Resilience Live\, featuring Asst. Prof. Leomar P. Requejo of the Polytechnic University of the Philippines.\n \n📅 26 February 2026 (Thursday)\n⏰ 4:00 PM (UTC+8)\n💻 Zoom\n🔗 Register now: https://up-edu.zoom.us/…/register/3p85fDLXRWW7cvVNMXkEwA \n\nThis event is brought to you by the UP Resilience Institute – NOAH Center.\n\nIn partnership with:\nAssociation of Filipino Forestry Students – UPLB\nAssociation of Geologists and Geological Engineers of Mapua\nAteneo Institute of Sustainability – AIS\nBiology Society LPU – Laguna\nEarth Island Institute Philippines\nEcoLaya – Environmental Advocates\nEnvironmental Science for Social Change\nFuture Earth Philippines\nGeographic Society of the University of the Philippines ❨UP GeogSoc❩\nGeological Organization of Partido State University\nSLSU Center for Hazard and Environmental Resource Mapping – CHERM\nUnited Architects of the Philippines\nUPLB-Interdisciplinary Studies Center for INREM\n\nSource: UP Resilience Institute Facebook
URL:https://alum.up.edu.ph/event/resilience-live-20th-episode/
END:VEVENT
END:VCALENDAR