BEGIN:VCALENDAR
VERSION:2.0
PRODID:-//UP Alumni Website - ECPv6.15.16//NONSGML v1.0//EN
CALSCALE:GREGORIAN
METHOD:PUBLISH
X-WR-CALNAME:UP Alumni Website
X-ORIGINAL-URL:https://alum.up.edu.ph
X-WR-CALDESC:Events for UP Alumni Website
REFRESH-INTERVAL;VALUE=DURATION:PT1H
X-Robots-Tag:noindex
X-PUBLISHED-TTL:PT1H
BEGIN:VTIMEZONE
TZID:Asia/Manila
BEGIN:STANDARD
TZOFFSETFROM:+0800
TZOFFSETTO:+0800
TZNAME:PST
DTSTART:20250101T000000
END:STANDARD
END:VTIMEZONE
BEGIN:VEVENT
DTSTART;TZID=Asia/Manila:20260301T080000
DTEND;TZID=Asia/Manila:20260331T170000
DTSTAMP:20260423T152959
CREATED:20260305T053606Z
LAST-MODIFIED:20260305T053606Z
UID:23560-1772352000-1774976400@alum.up.edu.ph
SUMMARY:UPCWGS Women’s Month 2026 Schedule of Activities
DESCRIPTION:
URL:https://alum.up.edu.ph/event/upcwgs-womens-month-2026-schedule-of-activities/
END:VEVENT
BEGIN:VEVENT
DTSTART;TZID=Asia/Manila:20260301T080000
DTEND;TZID=Asia/Manila:20260331T170000
DTSTAMP:20260423T152959
CREATED:20260311T010639Z
LAST-MODIFIED:20260311T010639Z
UID:23660-1772352000-1774976400@alum.up.edu.ph
SUMMARY:UP Fine Arts Gallery MARCH 2026 Exhibitions
DESCRIPTION:MARCH AT PAROLA ☀️\n\nJoin us this month at the UP Fine Arts Gallery with our lineup of exhibitions and events\, featuring the legacy exhibition of Araceli Limcaco-Dans\, an artist talk by Jose Tence-Ruiz\, along with presentations by students and organizations from the UP College of Fine Arts and the university.\n\n📌 EXHIBITIONS\n\nCheloy: Impressions from a Beautiful Soul\nGallery One\, Gallery\, Atrium\nUntil March 31\n\nTuro-turo: VC 23 Block Z Class Exhibition\nGallery Foyer\nUntil March 31\n\nArt\, Heart\, and Hearth\nGallery Lobby\n\nEpey Community Pantry\nGallery Lobby\n\n📌 EVENTS\n\nFilm Showing\nTambisan sa Sining\nMarch 14\n\nArt as a Practice\, not a Career:\nAn Artist Talk by Jose Tence Ruiz\nMarch 17\n\nBaha-Bahayan\nUP College of Music Graduation Recital\nMarch 21-22\n\nCrochet Workshop\nPISARA\nMarch 23\n\nSketching Siesta\nMarch 27\n\nAll events will be held at the Multipurpose Hall. More information will be announced soon.\n\nFREE AND OPEN TO THE PUBLIC\n\nThe UP Fine Arts Gallery is open from Tuesday to Saturday\, 9 AM to 4 PM at the Arts and Design West Hall\, College of Fine Arts\, Diliman\, Quezon City. For inquiries\, you may message us at cfagallery.upd@up.edu.ph or call us at +63-2-8981-8500 local 3988.\n\nSource: UP Fine Arts Gallery Facebook
URL:https://alum.up.edu.ph/event/up-fine-arts-gallery-march-2026-exhibitions/
END:VEVENT
BEGIN:VEVENT
DTSTART;TZID=Asia/Manila:20260309T080000
DTEND;TZID=Asia/Manila:20260328T170000
DTSTAMP:20260423T152959
CREATED:20260309T053600Z
LAST-MODIFIED:20260309T053600Z
UID:23604-1773043200-1774717200@alum.up.edu.ph
SUMMARY:UP Diliman International Day of Mathematics 2026
DESCRIPTION:🎉 Celebrate the International Day of Mathematics (IDM) 2026 at UPD IMath! 📐✨\n\nThe theme for this year’s IDM is Mathematics and Hope.\n\nThales said\, “Hope is the most universal of all human possessions.” More than 2\,500 years later\, we can also say that mathematics is one of the most universal human possessions.\n\nConnecting hope and mathematics creates opportunities for deeper insight and knowledge. Mathematics gives us hope to understand reality and truth clearly\, share common definitions\, learn cooperation\, use data responsibly\, find win-win strategies\, and more.\n\nGet ready for a week filled with ideas\, inspiration\, and of course… pi(e)! 🥧\n\nThe Institute of Mathematics invites everyone to join our exciting IDM 2026 activities:\n\n🎓 IDM 2026 @ UPD: Mini-Symposium on Mathematics and Hope\n📅 16 March 2026 (Monday)\n📍 Institute of Biology Auditorium\n⏰ 1:00–4:30 PM\n(Registration: 1:00–1:30 PM | Program starts at 1:30 PM)\n\nInspiring talks by distinguished speakers:\n\n🔹 Arts\, Patterns\, and Symmetry\nJose Maria P. Balmaceda\, Ph. D.\nProfessor Emeritus\, Institute of Mathematics\n\n🔹 Music and Religion\nFidel R. Nemenzo\, D. Sc.\nProfessor\, Institute of Mathematics\n\n🔹 AI: Math in Action\nRenier G. Mendoza\, Dr. rer. nat.\nProfessor\, Institute of Mathematics\nThe symposium is free of charge\, and the talks are intended for a general audience.\n\n📝 Register here:\nhttps://forms.gle/ifsGf8gwnALEWX7K8\n\n⚠️ Limited seats available — sign up now!\n🥧 Pi(e) Day (+3)\n📅 17 March 2026 (Tuesday)\n⏰ 3:14 PM\n📍 MBAN Ground Floor Lobby\n\nJoin us as we count down to 3:14 PM and enjoy FREE pi(e) slices (while supplies last)! 🎊\n\n🖊️ Freedom Wall\n📅 09–13 March 2026\n📍 MB Third Floor\n\nShare your answer to the question: “How has mathematics given you hope?”\n\nSelected responses will receive a prize the following week!\n\nWe are also promoting events organized by IMath-based student organizations — UP Mathematics Majors Circle and UP Mathematics Club!\nThe 34th Mathirang Matibay \n📅 14 March 2026\nOrganized by the UP Mathematics Majors’ Circle\nThe 52nd Annual Nationwide Search for the Math Wizard\n\n📅 28 March 2026\nOrganized by the UP Mathematics Club\n\nFor more details and announcements\, please visit their official Facebook pages.\n\nCome celebrate the beauty\, creativity\, and hope that mathematics brings to our lives. Bring your friends\, your curiosity\, and your love for math!\n\nIMath webpage: https://math.upd.edu.ph/…/celebrate-the-international…\n\nSource: UP Diliman Institute of Mathematics Facebook
URL:https://alum.up.edu.ph/event/up-diliman-international-day-of-mathematics-2026/
END:VEVENT
BEGIN:VEVENT
DTSTART;TZID=Asia/Manila:20260311T090000
DTEND;TZID=Asia/Manila:20260311T103000
DTSTAMP:20260423T152959
CREATED:20260220T003530Z
LAST-MODIFIED:20260220T003530Z
UID:23443-1773219600-1773225000@alum.up.edu.ph
SUMMARY:"MRSL LAB Stories\, Episode 1: Harnessing the Potential of Lactic Acid Bacteria (LAB) in health\, medical\, and food industrial applications"
DESCRIPTION:The Microbiological Research and Services Laboratory (MRSL) of the UP Diliman Natural Sciences Research Institute is pleased to announce the upcoming webinar\, “MRSL LAB Stories\, Episode 1: Harnessing the Potential of Lactic Acid Bacteria (LAB) in health\, medical\, and food industrial applications” with Dr. Trisye Endang Sutriswate Rahayu from the Universitas Gadjah Mada\, Yogyakarta\, Indonesia and Dr. Francisco B. Elegado of the UPLB BIOTECH\, Los Banos\, Laguna.\n\nWe are inviting students\, faculty\, and staff to join us on March 11\, 2026 (9 am) for an insightful discussion on LABs via Zoom.\n\nRegister at bit.ly/LABstories1 or by scanning the QR code.\n\nSource: Microbiological Research and Services Laboratory Facebook
URL:https://alum.up.edu.ph/event/mrsl-lab-stories-episode-1/
END:VEVENT
BEGIN:VEVENT
DTSTART;TZID=Asia/Manila:20260311T120000
DTEND;TZID=Asia/Manila:20260311T130000
DTSTAMP:20260423T152959
CREATED:20260310T235851Z
LAST-MODIFIED:20260310T235851Z
UID:23619-1773230400-1773234000@alum.up.edu.ph
SUMMARY:"Iconoclasm and Imperial Narratives: The Destruction of Cultural Heritage in West Asia and North Africa"
DESCRIPTION:Heritage in the face of conflict…\n\nThis Wednesday (11 March 2026) as Dr. Robin Asbury tackles a timely discussion on “Iconoclasm and Imperial Narratives: The Destruction of Cultural Heritage in West Asia and North Africa” at Seminar Room 2\, Albert Hall\, UP Diliman from 12nn to 1pm.\nCome on over\, bring your lunch\, and see you there!\n\nSource: Binalot Talks Facebook Group
URL:https://alum.up.edu.ph/event/iconoclasm-and-imperial-narratives-the-destruction-of-cultural-heritage-in-west-asia-and-north-africa/
END:VEVENT
BEGIN:VEVENT
DTSTART;TZID=Asia/Manila:20260311T140000
DTEND;TZID=Asia/Manila:20260311T153000
DTSTAMP:20260423T152959
CREATED:20260311T003316Z
LAST-MODIFIED:20260311T003316Z
UID:23644-1773237600-1773243000@alum.up.edu.ph
SUMMARY:“Microglia\, the Neuroimmune System\, and Their Roles in Neurodegenerative Diseases”
DESCRIPTION:🧠 NIMBB Research Seminar\n\nJoin us for a seminar on “Microglia\, the Neuroimmune System\, and Their Roles in Neurodegenerative Diseases” featuring Dr. Janssen M. Kotah\, DOST Balik Scientist Awardee and Postdoctoral Researcher from the University Medical Center Groningen\, Netherlands.\n\nThis talk will explore the critical roles of microglia—the resident immune cells of the central nervous system—in maintaining brain homeostasis and their involvement in neurodegenerative diseases. The seminar will also highlight how modern approaches such as transcriptomics and big data analysis are advancing our understanding of microglial biology.\n\n📅 11 March 2026\n⏰ 2:00 PM\n📍 NIMBB Conference Room\n\nThis is a face-to-face event.\n\nSource: National Institute of Molecular Biology and Biotechnology UP Diliman Facebook
URL:https://alum.up.edu.ph/event/microglia-the-neuroimmune-system-and-their-roles-in-neurodegenerative-diseases/
END:VEVENT
BEGIN:VEVENT
DTSTART;TZID=Asia/Manila:20260311T140000
DTEND;TZID=Asia/Manila:20260311T160000
DTSTAMP:20260423T152959
CREATED:20260311T010248Z
LAST-MODIFIED:20260311T010248Z
UID:23654-1773237600-1773244800@alum.up.edu.ph
SUMMARY:“Entangled Interests: Past\, Present\, and Future of the Iran Crisis”
DESCRIPTION:How can we better understand the evolving Iran crisis?\n\nJoin the UP Asian Center for “Entangled Interests: Past\, Present\, and Future of the Iran Crisis\,” a timely webinar that examines the historical roots\, contemporary dynamics\, and possible trajectories of one of the most complex geopolitical issues in the Middle East. It also seeks to discuss how OFWs will be affected by the conflict.\n\n📅 11 March 2026; 2:00 PM\, PHT (Manila Time)\n💻 Online via Zoom\n🔗 Register now: bit.ly/acirancrisis\n\nFeaturing Dr. Henelito Sevilla Jr.\, Dr. Haluk Karadag\, and Dr. Evangeline Montoya-Katigbak. Join us for a timely conversation that seeks to deepen public understanding of a crisis with far-reaching regional and global implications.\n\nSource: Asian Center\, UP Diliman Facebook
URL:https://alum.up.edu.ph/event/entangled-interests-past-present-and-future-of-the-iran-crisis/
END:VEVENT
BEGIN:VEVENT
DTSTART;TZID=Asia/Manila:20260311T173000
DTEND;TZID=Asia/Manila:20260311T190000
DTSTAMP:20260423T152959
CREATED:20260225T015853Z
LAST-MODIFIED:20260225T015853Z
UID:23499-1773250200-1773255600@alum.up.edu.ph
SUMMARY:UP-PGH Chapel Community Lenten Recollection (A Call to Intimacy: Embracing the Cross)
DESCRIPTION:COMING UP: A Call to Intimacy: Embracing the Cross\n\nA UP-PGH Chapel Community Lenten Recollection\n\n🗓️ March 11\, 2026 (Wednesday)\n⏰ 5:30 PM – 7:00 PM\n📍 UP-PGH Chapel\n\nSource: University of the Philippines Manila Facebook
URL:https://alum.up.edu.ph/event/up-pgh-chapel-community-lenten-recollection/
END:VEVENT
END:VCALENDAR