BEGIN:VCALENDAR
VERSION:2.0
PRODID:-//UP Alumni Website - ECPv6.15.16//NONSGML v1.0//EN
CALSCALE:GREGORIAN
METHOD:PUBLISH
X-WR-CALNAME:UP Alumni Website
X-ORIGINAL-URL:https://alum.up.edu.ph
X-WR-CALDESC:Events for UP Alumni Website
REFRESH-INTERVAL;VALUE=DURATION:PT1H
X-Robots-Tag:noindex
X-PUBLISHED-TTL:PT1H
BEGIN:VTIMEZONE
TZID:Asia/Manila
BEGIN:STANDARD
TZOFFSETFROM:+0800
TZOFFSETTO:+0800
TZNAME:PST
DTSTART:20250101T000000
END:STANDARD
END:VTIMEZONE
BEGIN:VEVENT
DTSTART;TZID=Asia/Manila:20260301T080000
DTEND;TZID=Asia/Manila:20260331T170000
DTSTAMP:20260420T072300
CREATED:20260305T053606Z
LAST-MODIFIED:20260305T053606Z
UID:23560-1772352000-1774976400@alum.up.edu.ph
SUMMARY:UPCWGS Women’s Month 2026 Schedule of Activities
DESCRIPTION:
URL:https://alum.up.edu.ph/event/upcwgs-womens-month-2026-schedule-of-activities/
END:VEVENT
BEGIN:VEVENT
DTSTART;TZID=Asia/Manila:20260301T080000
DTEND;TZID=Asia/Manila:20260331T170000
DTSTAMP:20260420T072300
CREATED:20260311T010639Z
LAST-MODIFIED:20260311T010639Z
UID:23660-1772352000-1774976400@alum.up.edu.ph
SUMMARY:UP Fine Arts Gallery MARCH 2026 Exhibitions
DESCRIPTION:MARCH AT PAROLA ☀️\n\nJoin us this month at the UP Fine Arts Gallery with our lineup of exhibitions and events\, featuring the legacy exhibition of Araceli Limcaco-Dans\, an artist talk by Jose Tence-Ruiz\, along with presentations by students and organizations from the UP College of Fine Arts and the university.\n\n📌 EXHIBITIONS\n\nCheloy: Impressions from a Beautiful Soul\nGallery One\, Gallery\, Atrium\nUntil March 31\n\nTuro-turo: VC 23 Block Z Class Exhibition\nGallery Foyer\nUntil March 31\n\nArt\, Heart\, and Hearth\nGallery Lobby\n\nEpey Community Pantry\nGallery Lobby\n\n📌 EVENTS\n\nFilm Showing\nTambisan sa Sining\nMarch 14\n\nArt as a Practice\, not a Career:\nAn Artist Talk by Jose Tence Ruiz\nMarch 17\n\nBaha-Bahayan\nUP College of Music Graduation Recital\nMarch 21-22\n\nCrochet Workshop\nPISARA\nMarch 23\n\nSketching Siesta\nMarch 27\n\nAll events will be held at the Multipurpose Hall. More information will be announced soon.\n\nFREE AND OPEN TO THE PUBLIC\n\nThe UP Fine Arts Gallery is open from Tuesday to Saturday\, 9 AM to 4 PM at the Arts and Design West Hall\, College of Fine Arts\, Diliman\, Quezon City. For inquiries\, you may message us at cfagallery.upd@up.edu.ph or call us at +63-2-8981-8500 local 3988.\n\nSource: UP Fine Arts Gallery Facebook
URL:https://alum.up.edu.ph/event/up-fine-arts-gallery-march-2026-exhibitions/
END:VEVENT
BEGIN:VEVENT
DTSTART;TZID=Asia/Manila:20260309T080000
DTEND;TZID=Asia/Manila:20260328T170000
DTSTAMP:20260420T072300
CREATED:20260309T053600Z
LAST-MODIFIED:20260309T053600Z
UID:23604-1773043200-1774717200@alum.up.edu.ph
SUMMARY:UP Diliman International Day of Mathematics 2026
DESCRIPTION:🎉 Celebrate the International Day of Mathematics (IDM) 2026 at UPD IMath! 📐✨\n\nThe theme for this year’s IDM is Mathematics and Hope.\n\nThales said\, “Hope is the most universal of all human possessions.” More than 2\,500 years later\, we can also say that mathematics is one of the most universal human possessions.\n\nConnecting hope and mathematics creates opportunities for deeper insight and knowledge. Mathematics gives us hope to understand reality and truth clearly\, share common definitions\, learn cooperation\, use data responsibly\, find win-win strategies\, and more.\n\nGet ready for a week filled with ideas\, inspiration\, and of course… pi(e)! 🥧\n\nThe Institute of Mathematics invites everyone to join our exciting IDM 2026 activities:\n\n🎓 IDM 2026 @ UPD: Mini-Symposium on Mathematics and Hope\n📅 16 March 2026 (Monday)\n📍 Institute of Biology Auditorium\n⏰ 1:00–4:30 PM\n(Registration: 1:00–1:30 PM | Program starts at 1:30 PM)\n\nInspiring talks by distinguished speakers:\n\n🔹 Arts\, Patterns\, and Symmetry\nJose Maria P. Balmaceda\, Ph. D.\nProfessor Emeritus\, Institute of Mathematics\n\n🔹 Music and Religion\nFidel R. Nemenzo\, D. Sc.\nProfessor\, Institute of Mathematics\n\n🔹 AI: Math in Action\nRenier G. Mendoza\, Dr. rer. nat.\nProfessor\, Institute of Mathematics\nThe symposium is free of charge\, and the talks are intended for a general audience.\n\n📝 Register here:\nhttps://forms.gle/ifsGf8gwnALEWX7K8\n\n⚠️ Limited seats available — sign up now!\n🥧 Pi(e) Day (+3)\n📅 17 March 2026 (Tuesday)\n⏰ 3:14 PM\n📍 MBAN Ground Floor Lobby\n\nJoin us as we count down to 3:14 PM and enjoy FREE pi(e) slices (while supplies last)! 🎊\n\n🖊️ Freedom Wall\n📅 09–13 March 2026\n📍 MB Third Floor\n\nShare your answer to the question: “How has mathematics given you hope?”\n\nSelected responses will receive a prize the following week!\n\nWe are also promoting events organized by IMath-based student organizations — UP Mathematics Majors Circle and UP Mathematics Club!\nThe 34th Mathirang Matibay \n📅 14 March 2026\nOrganized by the UP Mathematics Majors’ Circle\nThe 52nd Annual Nationwide Search for the Math Wizard\n\n📅 28 March 2026\nOrganized by the UP Mathematics Club\n\nFor more details and announcements\, please visit their official Facebook pages.\n\nCome celebrate the beauty\, creativity\, and hope that mathematics brings to our lives. Bring your friends\, your curiosity\, and your love for math!\n\nIMath webpage: https://math.upd.edu.ph/…/celebrate-the-international…\n\nSource: UP Diliman Institute of Mathematics Facebook
URL:https://alum.up.edu.ph/event/up-diliman-international-day-of-mathematics-2026/
END:VEVENT
BEGIN:VEVENT
DTSTART;TZID=Asia/Manila:20260313T100000
DTEND;TZID=Asia/Manila:20260313T113000
DTSTAMP:20260420T072300
CREATED:20260305T054338Z
LAST-MODIFIED:20260305T054338Z
UID:23562-1773396000-1773401400@alum.up.edu.ph
SUMMARY:WALANG KUKURAP: Empowering Women in the Fight Against Corruption
DESCRIPTION:WALANG KUKURAP: Empowering Women in the Fight Against Corruption\n\nIn honor of Women’s Month\, the UP SOLAIR Gender and Wellness Committee\, alongside our partners in government and the UP community\, warmly invites you to a vital conversation on the transformative power of Filipino women.\n\nCorruption costs our nation dearly\, but women are standing at the forefront of change. Whether you are from the academe\, the labor sector\, or government\, your voice matters. Come join us as we discuss how women are leading the way as vanguards of a more transparent and resilient nation.\n\nWhen: March 13\, 2026 | 10:00 AM – 11:30 AM\nWhere: Pilar Herrera Hall\, CSSP\, UP Diliman\n\nWe are honored to host a panel of distinguished leaders from the Civil Service Commission\, the Office of the Solicitor General\, and inspiring youth and labor representatives.\n\nWe can’t wait to see you there!\n\nSource: UP School of Labor and Industrial Relations Facebook
URL:https://alum.up.edu.ph/event/walang-kukurap-empowering-women-in-the-fight-against-corruption/
END:VEVENT
BEGIN:VEVENT
DTSTART;TZID=Asia/Manila:20260313T100000
DTEND;TZID=Asia/Manila:20260313T120000
DTSTAMP:20260420T072300
CREATED:20260311T001226Z
LAST-MODIFIED:20260311T001226Z
UID:23620-1773396000-1773403200@alum.up.edu.ph
SUMMARY:OIL Diliman Umalohokan with Singapore Management University
DESCRIPTION:Explore graduate study opportunities with Singapore Management University (SMU).\n\nJoin the OIL Diliman Umalohokan Series featuring a masterclass and graduate program information session by SMU\, highlighting programs in IT in Business\, Finance\, Management\, and Entrepreneurship\, plus scholarship opportunities for qualified applicants.\n\n📅 13 March 2026 (Fri) | 10:00 AM – 12:00 PM\n📍 Room 116-118\, Palma Hall\n🔗 Register here: https://forms.gle/4XfqcYMYktACC1Wy9\n\nThis session is open to all interested UP Diliman students\, faculty\, REPS\, and staff.\n\nSee you there!\n\nSource: Office of International Linkages Diliman – OVCAA\, UP Diliman Facebook
URL:https://alum.up.edu.ph/event/oil-diliman-umalohokan-with-singapore-management-university/
END:VEVENT
BEGIN:VEVENT
DTSTART;TZID=Asia/Manila:20260313T100000
DTEND;TZID=Asia/Manila:20260313T120000
DTSTAMP:20260420T072300
CREATED:20260313T001428Z
LAST-MODIFIED:20260313T001449Z
UID:23675-1773396000-1773403200@alum.up.edu.ph
SUMMARY:TAPATAN SA DILIMAN 2026
DESCRIPTION:TAPATAN SA DILIMAN 2026: Panayam sa mga nominado para sa Chancellorship Kasama ang Komunidad ng UP\nBukas na\, 13 Marso 2026 (Biyernes)\nMula alas-10nu hanggang alas-12nt\nCollege of Media and Communication Auditorium\n—\nAng TAPATAN SA DILIMAN 2026 ay bukas na diyalogo kasama ang mga nominado ng UP Diliman 2026 Chancellorship. Inorganisa ng All U.P. Academic Employees Union Diliman Chapter\, katuwang ang University Student Council at iba pang mga organisasyon\, layon ng aktibidad na mapatampok ang mga isyung kinahaharap ng komunidad ng UP Diliman\, pati na rin ang susing papel ng Unibersidad sa kasalukuyang krisis pang-ekonomiya at panlipunan ng bansa.\n\nBibigyan ng pagkakataong makapagbahagi ng mga katanungan ang mga fakulti\, REPS\, kawani\, JOCOS\, agency-hired\, maininda\, pati na rin ang mga residente ng UP campus.\n\nSource: All UP Academic Employees Union – Diliman Chapter Facebook
URL:https://alum.up.edu.ph/event/tapatan-sa-diliman-2026/
END:VEVENT
BEGIN:VEVENT
DTSTART;TZID=Asia/Manila:20260313T113000
DTEND;TZID=Asia/Manila:20260313T123000
DTSTAMP:20260420T072300
CREATED:20260311T005912Z
LAST-MODIFIED:20260311T005912Z
UID:23653-1773401400-1773405000@alum.up.edu.ph
SUMMARY:Choral Music of Moana: Polynesian Choral Singing Traditions
DESCRIPTION:We’ve got something special for you 🎶\n\nWe are inviting you to join us on Friday\, March 13\, 2026 (11:30 AM – 12:30 PM) for an exciting lecture about the Choral Music of Moana: Polynesian Choral Singing Traditions. This topic will be showcasing the historical context and the variety of choral sounds of choral and communal singing throughout Polynesia\, led by Mr. Iese Purcell Wilson.\n\n📅 Friday\, 13 March 2026\n⏰ 11:30 AM – 12:30 PM\n📍 ANX 212 (RTP Hall)\, UP College of Music\n\n🎫 Free Admission for all! Please register by scanning the QR code on the poster or through the link below 🔽🔽🔽\nhttps://tinyurl.com/IeseWilsonLecture\n\nWe are so excited for this lecture! See you there! 😁\n\nFor inquiries\, contact: rrbusuego@up.edu.ph\n\nSource: UP Kolehiyo ng Musika Facebook
URL:https://alum.up.edu.ph/event/choral-music-of-moana-polynesian-choral-singing-traditions/
END:VEVENT
BEGIN:VEVENT
DTSTART;TZID=Asia/Manila:20260313T120000
DTEND;TZID=Asia/Manila:20260313T130000
DTSTAMP:20260420T072300
CREATED:20260219T232814Z
LAST-MODIFIED:20260313T004605Z
UID:23417-1773403200-1773406800@alum.up.edu.ph
SUMMARY:Health Updates Webinar #277 "Is My 16-Year Old Girl At Risk for Pregnancy?" Findings from National Research
DESCRIPTION:The University of the Philippines\,\nin partnership with the UP Manila – National Institutes of Health\,\nand in cooperation with UP Philippine General Hospital and UP College of Medicine\,\nwould like to invite you to attend this webinar! \n  \nRegistration slots are limited to this HEALTH UPDATES webinar\nSo sign up NOW:\nbit.ly/HealthUpdatesWebinar277 \nWebinar #277\nMarch 13\, 2026 (Friday)\, 12:00 noon\nIs My 16-Year Old At Risk for Pregnancy?\nFindings from National Research\n\nPresenter:\nDR. Mario R. Festin\nFounding Director\, Institute of Reproductive Health\nNational Institutes of Health\nUniversity of the Philippines Manila\n\n———————————————————–\n\nWebinar #277\nMarch 13\, 2026 (Friday)\, 12:00 noon\nIs My 16-Year Old At Risk for Pregnancy?\nFindings from National Research\n\nThe persistent challenge of adolescent gestation in the Philippines represents not merely a localized sociological concern but a multifaceted public health crisis that demands an integrated\, evidence-based clinical response. Frontline healthcare workers are indispensable in navigating the intricate biological and psychosocial landscapes associated with teenage pregnancy.\n\nIn this week’s episode\, we will attempt to dissect the current trajectory of adolescent maternal health within the Philippine archipelago. Our discussion will move beyond superficial statistics to address the physiological complexities of early-onset pregnancy\, including the heightened risks of pre-eclampsia\, systemic gestational hypertension\, and the long-term sequelae of adolescent pelvic disproportion. We will also explore the critical role of interdisciplinary collaboration in fostering a continuum of care that prioritizes patient autonomy and ethical counseling.\n\nThe urgency of this dialogue is underscored by the evolving digital landscape and its impact on health literacy among the youth. As we analyze the shifts in health-seeking behaviors\, our discussion will also encompass the implementation of youth-friendly health services and the optimization of referral pathways within the primary care network.\n\nOur main discussant is Dr. Mario R. Festin\, who is the Founding Director of the Institute of Reproductive Health of the National Institutes of Health\, University of the Philippines Manila. Join us as we synthesize clinical excellence with strategic communication to catalyze a more resilient and informed healthcare workforce. Together\, we can redefine the standard of care for the next generation\, ensuring that every encounter at the frontline of medicine becomes a pivotal moment for intervention\, education\, and holistic
URL:https://alum.up.edu.ph/event/health-updates-webinar-277/
END:VEVENT
BEGIN:VEVENT
DTSTART;TZID=Asia/Manila:20260313T160000
DTEND;TZID=Asia/Manila:20260313T173000
DTSTAMP:20260420T072300
CREATED:20260311T002301Z
LAST-MODIFIED:20260311T002301Z
UID:23629-1773417600-1773423000@alum.up.edu.ph
SUMMARY:"Labor market effects of artificial intelligence: Evidence from Philippine occupations"
DESCRIPTION:HAPPENING ON FRIDAY\, March 13\, 2026. 4:00 PM\, at the Judith R. Duavit-Vasquez and Class of 1984 Lecture Room (UPSE 105)\n\n🎓 UPSE-PCED Friday Seminar\, the second seminar in the series this March\, featuring researchers from the Bangko Sentral ng Pilipinas Research Academy.\n\n🧠📚💡Abstract: Recent advances in artificial intelligence (AI) have elevated concerns about the impact of technological progress in the labor market\, especially the displacement of workers. This study examines the labor market effects of AI in the Philippines\, a developing country with significant engagement in cognitive services. To translate existing AI-related measures that were constructed using the O*NET database to the Philippine context\, we implement a two-step matching process: assessing semantic similarity between occupational task sets and performing manual review to ensure contextual consistency. We then estimate the long-difference regression between 2019 and 2024 of labor market outcomes on the AI occupational exposure measure.\n\nOverall\, we find that occupational exposure to AI is linked to lower real wage growth\, but it does not appear to have a significant relationship with employment growth and change in unemployment risk. However\, in occupations with low complementarity with AI\, greater exposure to AI is associated with lower employment growth and increased unemployment risk.\n\nLabor market outcomes connected to higher exposure to AI also vary by an occupation’s exposure to the IT-BPM sector. These findings highlight the heterogeneous effects of AI under nuanced labor market conditions in a developing economy. – with Ralph Joshua P. Macarasig\n\n📝 Please register using the links below or by scanning the QR codes in the poster:\n\n📍 Onsite: https://tinyurl.com/et42edck\n📍 Zoom: https://tinyurl.com/4acudj49\n\n👀 We’d love to see you!\n\nSource: UP School of Economics Facebook
URL:https://alum.up.edu.ph/event/labor-market-effects-of-artificial-intelligence-evidence-from-philippine-occupations/
END:VEVENT
END:VCALENDAR