BEGIN:VCALENDAR
VERSION:2.0
PRODID:-//UP Alumni Website - ECPv6.15.16//NONSGML v1.0//EN
CALSCALE:GREGORIAN
METHOD:PUBLISH
X-WR-CALNAME:UP Alumni Website
X-ORIGINAL-URL:https://alum.up.edu.ph
X-WR-CALDESC:Events for UP Alumni Website
REFRESH-INTERVAL;VALUE=DURATION:PT1H
X-Robots-Tag:noindex
X-PUBLISHED-TTL:PT1H
BEGIN:VTIMEZONE
TZID:Asia/Manila
BEGIN:STANDARD
TZOFFSETFROM:+0800
TZOFFSETTO:+0800
TZNAME:PST
DTSTART:20250101T000000
END:STANDARD
END:VTIMEZONE
BEGIN:VEVENT
DTSTART;TZID=Asia/Manila:20260301T080000
DTEND;TZID=Asia/Manila:20260331T170000
DTSTAMP:20260422T212044
CREATED:20260305T053606Z
LAST-MODIFIED:20260305T053606Z
UID:23560-1772352000-1774976400@alum.up.edu.ph
SUMMARY:UPCWGS Women’s Month 2026 Schedule of Activities
DESCRIPTION:
URL:https://alum.up.edu.ph/event/upcwgs-womens-month-2026-schedule-of-activities/
END:VEVENT
BEGIN:VEVENT
DTSTART;TZID=Asia/Manila:20260301T080000
DTEND;TZID=Asia/Manila:20260331T170000
DTSTAMP:20260422T212044
CREATED:20260311T010639Z
LAST-MODIFIED:20260311T010639Z
UID:23660-1772352000-1774976400@alum.up.edu.ph
SUMMARY:UP Fine Arts Gallery MARCH 2026 Exhibitions
DESCRIPTION:MARCH AT PAROLA ☀️\n\nJoin us this month at the UP Fine Arts Gallery with our lineup of exhibitions and events\, featuring the legacy exhibition of Araceli Limcaco-Dans\, an artist talk by Jose Tence-Ruiz\, along with presentations by students and organizations from the UP College of Fine Arts and the university.\n\n📌 EXHIBITIONS\n\nCheloy: Impressions from a Beautiful Soul\nGallery One\, Gallery\, Atrium\nUntil March 31\n\nTuro-turo: VC 23 Block Z Class Exhibition\nGallery Foyer\nUntil March 31\n\nArt\, Heart\, and Hearth\nGallery Lobby\n\nEpey Community Pantry\nGallery Lobby\n\n📌 EVENTS\n\nFilm Showing\nTambisan sa Sining\nMarch 14\n\nArt as a Practice\, not a Career:\nAn Artist Talk by Jose Tence Ruiz\nMarch 17\n\nBaha-Bahayan\nUP College of Music Graduation Recital\nMarch 21-22\n\nCrochet Workshop\nPISARA\nMarch 23\n\nSketching Siesta\nMarch 27\n\nAll events will be held at the Multipurpose Hall. More information will be announced soon.\n\nFREE AND OPEN TO THE PUBLIC\n\nThe UP Fine Arts Gallery is open from Tuesday to Saturday\, 9 AM to 4 PM at the Arts and Design West Hall\, College of Fine Arts\, Diliman\, Quezon City. For inquiries\, you may message us at cfagallery.upd@up.edu.ph or call us at +63-2-8981-8500 local 3988.\n\nSource: UP Fine Arts Gallery Facebook
URL:https://alum.up.edu.ph/event/up-fine-arts-gallery-march-2026-exhibitions/
END:VEVENT
BEGIN:VEVENT
DTSTART;TZID=Asia/Manila:20260309T080000
DTEND;TZID=Asia/Manila:20260328T170000
DTSTAMP:20260422T212044
CREATED:20260309T053600Z
LAST-MODIFIED:20260309T053600Z
UID:23604-1773043200-1774717200@alum.up.edu.ph
SUMMARY:UP Diliman International Day of Mathematics 2026
DESCRIPTION:🎉 Celebrate the International Day of Mathematics (IDM) 2026 at UPD IMath! 📐✨\n\nThe theme for this year’s IDM is Mathematics and Hope.\n\nThales said\, “Hope is the most universal of all human possessions.” More than 2\,500 years later\, we can also say that mathematics is one of the most universal human possessions.\n\nConnecting hope and mathematics creates opportunities for deeper insight and knowledge. Mathematics gives us hope to understand reality and truth clearly\, share common definitions\, learn cooperation\, use data responsibly\, find win-win strategies\, and more.\n\nGet ready for a week filled with ideas\, inspiration\, and of course… pi(e)! 🥧\n\nThe Institute of Mathematics invites everyone to join our exciting IDM 2026 activities:\n\n🎓 IDM 2026 @ UPD: Mini-Symposium on Mathematics and Hope\n📅 16 March 2026 (Monday)\n📍 Institute of Biology Auditorium\n⏰ 1:00–4:30 PM\n(Registration: 1:00–1:30 PM | Program starts at 1:30 PM)\n\nInspiring talks by distinguished speakers:\n\n🔹 Arts\, Patterns\, and Symmetry\nJose Maria P. Balmaceda\, Ph. D.\nProfessor Emeritus\, Institute of Mathematics\n\n🔹 Music and Religion\nFidel R. Nemenzo\, D. Sc.\nProfessor\, Institute of Mathematics\n\n🔹 AI: Math in Action\nRenier G. Mendoza\, Dr. rer. nat.\nProfessor\, Institute of Mathematics\nThe symposium is free of charge\, and the talks are intended for a general audience.\n\n📝 Register here:\nhttps://forms.gle/ifsGf8gwnALEWX7K8\n\n⚠️ Limited seats available — sign up now!\n🥧 Pi(e) Day (+3)\n📅 17 March 2026 (Tuesday)\n⏰ 3:14 PM\n📍 MBAN Ground Floor Lobby\n\nJoin us as we count down to 3:14 PM and enjoy FREE pi(e) slices (while supplies last)! 🎊\n\n🖊️ Freedom Wall\n📅 09–13 March 2026\n📍 MB Third Floor\n\nShare your answer to the question: “How has mathematics given you hope?”\n\nSelected responses will receive a prize the following week!\n\nWe are also promoting events organized by IMath-based student organizations — UP Mathematics Majors Circle and UP Mathematics Club!\nThe 34th Mathirang Matibay \n📅 14 March 2026\nOrganized by the UP Mathematics Majors’ Circle\nThe 52nd Annual Nationwide Search for the Math Wizard\n\n📅 28 March 2026\nOrganized by the UP Mathematics Club\n\nFor more details and announcements\, please visit their official Facebook pages.\n\nCome celebrate the beauty\, creativity\, and hope that mathematics brings to our lives. Bring your friends\, your curiosity\, and your love for math!\n\nIMath webpage: https://math.upd.edu.ph/…/celebrate-the-international…\n\nSource: UP Diliman Institute of Mathematics Facebook
URL:https://alum.up.edu.ph/event/up-diliman-international-day-of-mathematics-2026/
END:VEVENT
BEGIN:VEVENT
DTSTART;TZID=Asia/Manila:20260314T133000
DTEND;TZID=Asia/Manila:20260328T170000
DTSTAMP:20260422T212044
CREATED:20260313T005223Z
LAST-MODIFIED:20260313T005425Z
UID:23679-1773495000-1774717200@alum.up.edu.ph
SUMMARY:Hiraya Filipina: Mangarap. Lumikha. Mamuno Exhibit
DESCRIPTION:🌸 Celebrate Women’s Month 2026 with Art\, Creativity\, and Leadership! 🎨\n\nThe Art Education Area\, in partnership with the Art Ventures and Advocacy Network (ArtVAN)\, invites you to the opening of our Women’s Month exhibit: “Hiraya Filipina: Mangarap. Lumikha. Mamuno.” Join us as we celebrate the boundless vision\, creativity\, and diverse experiences of the modern Filipina through visual arts\, providing a meaningful space for reflection on women’s roles in education\, community building\, and nation-making.\n\nFollowing the exhibit opening\, dive into our hands-on art workshops designed to enrich the professional and creative practices of the UPCEd community. No prior art experience is needed—just bring your enthusiasm! ✨\n\n📅 Date: Saturday\, March 14\, 2026\n📍 Venue: College of Education\, UP Diliman\n⏰ Afternoon Schedule:\n1:30 PM: “Hiraya Filipina” Exhibit Opening\n2:30 PM – 5:00 PM: Art Workshops (Registration opens at 2:30 PM)\n\nChoose your creative adventure for the workshop (Limited to 20 slots each!):\n\n📱 Workshop 1: Mixed Media Animation (Room 106) Transform your device into a portable studio! Learn to blend live-action video with digital illustrations using apps like CapCut and Canva.\nWhat to bring: Any device with a Wi-Fi connection.\n\n🧶 Workshop 2: Fuzzy Wire Sculpture (Room 114) Relax and get hands-on by bending and twisting colorful fuzzy wires into fun shapes like flowers\, animals\, or abstract art.\n\nWhat to bring: Nothing! All materials are provided—just bring yourself! 😁\n\nSecure your workshop spot before they fill up! Please complete the registration form below to reserve your space. We can’t wait to celebrate and create with you!\n\nRegister here: https://forms.gle/LbNQqirp22TpouW3A\n\nSource: UP College of Education Facebook
URL:https://alum.up.edu.ph/event/hiraya-filipina-mangarap-lumikha-mamuno-exhibit/
END:VEVENT
BEGIN:VEVENT
DTSTART;TZID=Asia/Manila:20260318T090000
DTEND;TZID=Asia/Manila:20260319T160000
DTSTAMP:20260422T212044
CREATED:20260306T060145Z
LAST-MODIFIED:20260306T060145Z
UID:23596-1773824400-1773936000@alum.up.edu.ph
SUMMARY:Future Ready: UP Manila Career Expo 2026
DESCRIPTION:Future Ready: UP Manila Career Expo 2026\n\n🗓️ March 18-19\, 2026 (Wednesday-Thursday)\n⏰ 9:00 AM – 4:00 PM\n📍 Rizal Hall and Theater\, College of Arts and Sciences\n\nRegister here: bit.ly/UPMCareerExpo26\n\nFollow for more updates and details: https://www.facebook.com/student.center.upm\n\nSource: University of the Philippines Manila Facebook
URL:https://alum.up.edu.ph/event/future-ready-up-manila-career-expo-2026/
END:VEVENT
BEGIN:VEVENT
DTSTART;TZID=Asia/Manila:20260318T093000
DTEND;TZID=Asia/Manila:20260318T113000
DTSTAMP:20260422T212044
CREATED:20260311T004458Z
LAST-MODIFIED:20260311T004458Z
UID:23645-1773826200-1773833400@alum.up.edu.ph
SUMMARY:2nd PAntalastasan International Academic Seminar
DESCRIPTION:Event Announcement!\n\nThe UP NCPAG – Center for Leadership\, Citizenship and Democracy invites you to attend the 2nd PAntalastasan International Academic Seminar to be held on March 18 at 9:30-11:30 am in UP-NCPAG Case Room.\n\nDr. Risako Ishii\, UP-NCPAG Visiting Professor\, will present her paper entitled “A Consideration of Intermediary Organizations in the Philippines – Insights from the Case of CSO Academy.” Her paper examines the role and contribution of intermediary organizations\, such as the Pasig City’s CSO Academy\, in enhancing the capacity of civil society organizations for their genuine participation in the governance processes of the local government unit.\n\nDr. Erwin Alampay will serve as Reactor.\n\nTo read the Abstract\, please click this link: https://drive.google.com/…/1X2nMQevqWT73RhGwO5pmxMzNDHT…\n\nPlease join the seminar! To register\, please access this Google form: https://forms.gle/pb9koZdAFc6CQGH39\n\nSource: UP-NCPAG Facebook
URL:https://alum.up.edu.ph/event/2nd-pantalastasan-international-academic-seminar/
END:VEVENT
BEGIN:VEVENT
DTSTART;TZID=Asia/Manila:20260318T100000
DTEND;TZID=Asia/Manila:20260318T113000
DTSTAMP:20260422T212044
CREATED:20260313T001308Z
LAST-MODIFIED:20260313T001308Z
UID:23674-1773828000-1773833400@alum.up.edu.ph
SUMMARY:"What’s (Not) In a Letter? Filipinx\, Coloniality\, and the Ontologics and Semiotics of Trans Erasure in Online Discourses"
DESCRIPTION:The Department of English and Comparative Literature invites everyone to Dr. Jennifer B. Delfino’s lecture entitled “What’s (Not) In a Letter? Filipinx\, Coloniality\, and the Ontologics and Semiotics of Trans Erasure in Online Discourses” on Mar. 18\, 10 AM via Facebook live.\n\nThough feminist and queer scholars have demonstrated that heteronormative ideologies of gender and sexuality are central to organizing colonial and postcolonial relations of power\, the analysis of such ideologies is virtually absent from work on language and colonialism\, as is the analysis of the forms of erasure undergirding this ideological work. Centering an analysis of the semiotics and ontologics of trans erasure in postcolonial subject-making\, this talk examines a subset of social media posts related to the 2021-2022 online “Filipinx controversy”\, which is a debate about the authenticity of ethnonyms Filipino versus Filipinx following the 2021 addition of Filipinx to Dictionary.com. Drawing from postcolonial semiotics (Reyes 2023) and trans linguistics (Zimman 2020)\, the talk discusses how idealized Filipino identity models reactivate colonial logics of racial\, gender\, and sexual difference via discourses of “raciolinguistic authenticity”\, a concept I propose to describe how raciolinguistic ideologies delimit the discursive construction of linguistic and cultural authenticity to heteronormative perceptions of ways of being and speaking.\n\nThe talk will critically examine Filipino discourses of raciolinguistic authenticity from a queer diaspora perspective that centers Filipinx experiences of erasure and transphobia amidst the predominance of claims in social media posts that Filipino is “already gender-neutral\,” which come not from Filipinos located in the Philippines\, but from cis straight Filipino Americans located in the United States. In highlighting the discursive circulation of anti-Filipinx stances online\, this talk interrogates postcolonial perspectives on queerness and transgender identities as exclusively “Western” phenomena that threaten to disrupt Filipino cultural and national authenticity.\n\nDr. Jennifer B. Delfino is an Associate Professor of Anthropology at University of Illinois Urbana-Champaign. A Filipino American born and raised in the San Francisco Bay Area\, her research focuses on the impact of racialization\, gender\, and colonialism on the language practices of minoritized groups in the United States.\n\nShe is the author of Speaking of Race: Language\, Identity\, and Schooling Experiences Among African American Children and several peer-reviewed articles on linguistic and racial formations in liberal democracies. Her forthcoming research explores Ethnic Studies programs and heritage ideologies among Filipino Americans in higher education.\n\nSource: UPD Department of English and Comparative Literature Facebook
URL:https://alum.up.edu.ph/event/whats-not-in-a-letter-filipinx-coloniality-and-the-ontologics-and-semiotics-of-trans-erasure-in-online-discourses/
END:VEVENT
BEGIN:VEVENT
DTSTART;TZID=Asia/Manila:20260318T130000
DTEND;TZID=Asia/Manila:20260318T170000
DTSTAMP:20260422T212044
CREATED:20260313T013046Z
LAST-MODIFIED:20260313T013046Z
UID:23692-1773838800-1773853200@alum.up.edu.ph
SUMMARY:“Babae\, Babae...Bakit ka Gumagawa?”
DESCRIPTION:Everyone is invited to our event entitled “Babae\, Babae…Bakit ka Gumagawa?”. This is part of our event series Conversations Through Art. Be there on March 18\, 2026 from 1pm to 5pm at the conference room of the UP Center for Women’s and Gender Studies\, Magsaysay Avenue corner Ylanan Street\, University of the Philippines Diliman\, Quezon City.\n\nRegister via https://tinyurl.com/CTAbabae\n\nWe will have a community-core afternoon filled with art exhibits; humanity-driven anik-aniks such as stickers\, prints\, pouches\, and tote bags made with political prisoners which will be exhibited; and Asian artists talk-and-listens.\n\nAs for the discussions\, the first one is entitled “In Search of a Road of Togetherness: Rethinking the Public in a World of Boundaries”. Independent cultural worker Yun Chen (51 Personae) from Shanghai and artist Lilin from Hong Kong will share their collaborative journey over the past few years\, tracing how their work has moved between Shanghai and Hong Kong. They will also reflect on how they attempt to build empathy and connections outside institutional frameworks\, and how they continue to support and inspire one another intellectually and politically.\n\nThe second talk is entitled “Babae\, Babae…Bakit ka Gumagawa?” It features TkTk Feminist Printmakers and The O Home who will talk about their experience visiting the Correctional Institution for Women (CIW) where they interacted with ten political prisoners who are part of the campaign Free Our Sisters\, Free Our Selves. The political prisoners drew and wrote about their experiences. The artists say “Dito sa Babae\, Babae…Bakit ka Gumagawa?\, pag-uusapan natin ang mga mahirap sabihin na sasabihin pa rin at ang mga mahirap gawin na gagawin pa rin\, kahit na may umaalingawngaw na – bakit?”\n\nSource: UP Center for Women’s and Gender Studies Facebook
URL:https://alum.up.edu.ph/event/babae-babae-bakit-ka-gumagawa/
END:VEVENT
BEGIN:VEVENT
DTSTART;TZID=Asia/Manila:20260318T150000
DTEND;TZID=Asia/Manila:20260318T163000
DTSTAMP:20260422T212044
CREATED:20260225T020020Z
LAST-MODIFIED:20260225T020020Z
UID:23505-1773846000-1773851400@alum.up.edu.ph
SUMMARY:Severe or Non-severe? Overcoming Diagnostic Hesitation in Pediatric TB Treatment
DESCRIPTION:COMING UP: Severe or Non-severe? Overcoming Diagnostic Hesitation in Pediatric TB Treatment\n\n🗓️ March 18\, 2026 (Wednesday)\n⏰ 3:00 PM – 4:30 PM\n💻 Via Zoom\n\nRegister here: http://tinyurl.com/PedsCXR\n\nSource: University of the Philippines Manila Facebook
URL:https://alum.up.edu.ph/event/severe-or-non-severe-overcoming-diagnostic-hesitation-in-pediatric-tb-treatment/
END:VEVENT
BEGIN:VEVENT
DTSTART;TZID=Asia/Manila:20260318T150000
DTEND;TZID=Asia/Manila:20260318T163000
DTSTAMP:20260422T212044
CREATED:20260317T073256Z
LAST-MODIFIED:20260317T073256Z
UID:23715-1773846000-1773851400@alum.up.edu.ph
SUMMARY:Severe or Non-severe? Overcoming Diagnostic Hesitation in Pediatric TB Treatment
DESCRIPTION:Severe or Non-severe? Overcoming Diagnostic Hesitation in Pediatric TB Treatment\n\n🗓️ March 18\, 2026 (Wednesday)\n⏰ 3:00 PM – 4:30 PM\n📷 Via Zoom\n\nRegister here: https://up-edu.zoom.us/webinar/register/WN_ph-1ScgjSEep-FYonjcojw?utm_source=PH-FB&utm_medium=OC&utm_campaign=202602-OC-MSFUPCXR-webinar&appeal=&donation_frequency=&donation_currency=#/registration\n\nSource: University of the Philippines Manila Facebook
URL:https://alum.up.edu.ph/event/severe-or-non-severe-overcoming-diagnostic-hesitation-in-pediatric-tb-treatment-2/
END:VEVENT
END:VCALENDAR