BEGIN:VCALENDAR
VERSION:2.0
PRODID:-//UP Alumni Website - ECPv6.15.16//NONSGML v1.0//EN
CALSCALE:GREGORIAN
METHOD:PUBLISH
X-WR-CALNAME:UP Alumni Website
X-ORIGINAL-URL:https://alum.up.edu.ph
X-WR-CALDESC:Events for UP Alumni Website
REFRESH-INTERVAL;VALUE=DURATION:PT1H
X-Robots-Tag:noindex
X-PUBLISHED-TTL:PT1H
BEGIN:VTIMEZONE
TZID:Asia/Manila
BEGIN:STANDARD
TZOFFSETFROM:+0800
TZOFFSETTO:+0800
TZNAME:PST
DTSTART:20250101T000000
END:STANDARD
END:VTIMEZONE
BEGIN:VEVENT
DTSTART;TZID=Asia/Manila:20260320T130000
DTEND;TZID=Asia/Manila:20260424T170000
DTSTAMP:20260423T170235
CREATED:20260219T055716Z
LAST-MODIFIED:20260219T055716Z
UID:23399-1774011600-1777050000@alum.up.edu.ph
SUMMARY:UPLB CSSP Webinar Series (The Next Gen of Farming: Harnessing Science and Nature for Resilient Crops and Healthier World)
DESCRIPTION:Bananas! Are you doing some work in bananas? We’ve got one for you in our next webinar. Scientist Roane Gardoce of UPLB will be talking about genomics and biotechnological solutions to major diseases of bananas!\n\nLooks like some geekwork will be unveiled!\nJoin us in our CSSP Webinar  Episode 4.\nScan the QR code or register via the link below.\n\n🔗 https://tinyurl.com/2026CSSPWebinar4\n\nSource: Crop Science Society of the Philippines Facebook
URL:https://alum.up.edu.ph/event/uplb-cssp-webinar-series-the-next-gen-of-farming-harnessing-science-and-nature-for-resilient-crops-and-healthier-world/
END:VEVENT
BEGIN:VEVENT
DTSTART;TZID=Asia/Manila:20260411T080000
DTEND;TZID=Asia/Manila:20260509T170000
DTSTAMP:20260423T170235
CREATED:20260410T001437Z
LAST-MODIFIED:20260410T001437Z
UID:23901-1775894400-1778346000@alum.up.edu.ph
SUMMARY:Ang Tubig\, na Tahanan
DESCRIPTION:Ang Tubig\, na Tahanan\n\nIsang pangwakas na eksibit mula sa Paglayag at Paglaya Program ng Concerned Artists of the Philippines\, UP CSWCD Research and Extension for Development Office (REDO) at mga Komunidad ng Mangingisda ng Pamalakaya\n\nSimula pa noong 2024\, naging katuwang ng Concerned Artists of the Philippines ang Pamalakaya sa paglulubog ng mga artista ng bayan sa mga komunidad ng mangingisda. Dito lubos na napag-aaralan ang malubhang kondisyon ng nasabing sektor—ang panganib sa kanilang kabuhayan at tirahan dulot ng lumalalang kondisyon ng Laguna de Bay at Manila Bay\, dahil na rin sa mga reclamation projects at dredging na isinasagawa sa kanilang lugar.\n\nSa suporta ng Office of Extension Coordination\, Office of the Vice Chancellor for Research and Development\, napalawig ng CAP at UP CSWCD REDO ang programang ito bilang Paglayag at Paglaya\, kung saan nagsagawa ang organisasyon ng mga art workshop sa mga kabataan ng komunidad. Ang eksibit na ito ay ang kulminasyon ng nasabing proyekto\, tampok ang mga sining na nilikha ng mga mangingisda mula sa mga workshop\, pati na ang mga sining na ginawa ng artista ng CAP na sumama sa mga paglubog.\n\n📍 Abril 11 – Mayo 9\, 2026\nPasinaya: Abril 11\, 2026 2:00-4:00PM\nUniversity of the Philippines College of Social Work and Community Development\n1st Floor Walkway\n\nSource: College of Social Work and Community Development Facebook
URL:https://alum.up.edu.ph/event/ang-tubig-na-tahanan/
END:VEVENT
BEGIN:VEVENT
DTSTART;TZID=Asia/Manila:20260414T080000
DTEND;TZID=Asia/Manila:20260415T170000
DTSTAMP:20260423T170235
CREATED:20260225T014846Z
LAST-MODIFIED:20260225T014846Z
UID:23483-1776153600-1776272400@alum.up.edu.ph
SUMMARY:Introduction to Biorisk Management & Chemical Security and Safety Training (Batch 2)
DESCRIPTION:COMING UP: Introduction to Biorisk Management & Chemical Security and Safety Training (Batch 2)\n\n🗓️ April 14-15\, 2026 (Tuesday-Wednesday)\n📍 Hotel Kimberly Manila\n\nRegister here: https://forms.gle/NNe9fzMm2H2fK67N7\n\nSource: University of the Philippines Manila Facebook
URL:https://alum.up.edu.ph/event/introduction-to-biorisk-management-chemical-security-and-safety-training-batch-2/
END:VEVENT
BEGIN:VEVENT
DTSTART;TZID=Asia/Manila:20260414T090000
DTEND;TZID=Asia/Manila:20260516T170000
DTSTAMP:20260423T170235
CREATED:20260410T000952Z
LAST-MODIFIED:20260410T001006Z
UID:23899-1776157200-1778950800@alum.up.edu.ph
SUMMARY:HERE DOWON II: THE FOUNDING OF JOSEON
DESCRIPTION:THIS APRIL AT PAROLA 🐻🇰🇷\nHERE DOWON II: THE FOUNDING OF JOSEON\nA Solo Exhibition by Jungyeon Seo\n​\nWelcoming the month of April\, the UP Korea Research Center\, with the support of the Korean Women’s Association\, and the UP Fine Arts Gallery (Parola) of the UP College of Fine Arts cordially invite you to a special exhibit of traditional Korean painting by contemporary artist and Jinchaewa painter Jungyeon Seo.\n​\nTitled Here Dowon II: The Founding of Joseon\, the exhibit is part of the UP KRC’s 10th anniversary celebration as a UP Systemwide Korean studies hub dedicated to fostering Philippines-Korea academic and cultural exchanges.\n​\nThe exhibit puts the spotlight on Jinchaehwa\, or more commonly known as Minhwa\, a tradition of Korean true-color painting and a style of art that uses delicate\, deep\, and rich pigments\, often applied to silk or paper. A practitioner of this traditional art\, Ms. Seo is currently finishing her master’s program at the College of Creative Humanities and Arts of Hansung University in ​ Seoul.\n​\nThe exhibit opens at 4:00 p.m. on April 14 (Tuesday) and will run until the 16th of May\, 2026.\n​\nFREE AND OPEN TO THE PUBLIC\n​\nThe UP Fine Arts Gallery is open from Tuesday to Saturday\, 9 AM to 4 PM at the Arts and Design West Hall\, College of Fine Arts\, Diliman\, Quezon City. For inquiries\, you may message us at cfagallery.upd@up.edu.ph or call us at +63-2-8981-8500 local 3988.\n\nSource: UP Fine Arts Gallery Facebook
URL:https://alum.up.edu.ph/event/here-dowon-ii-the-founding-of-joseon/
END:VEVENT
BEGIN:VEVENT
DTSTART;TZID=Asia/Manila:20260415T113000
DTEND;TZID=Asia/Manila:20260415T130000
DTSTAMP:20260423T170235
CREATED:20260410T000416Z
LAST-MODIFIED:20260410T000416Z
UID:23890-1776252600-1776258000@alum.up.edu.ph
SUMMARY:HANDLE WITH CARE: Curating Art Activities for Children with Special Needs with Prof. Dayang Yraola
DESCRIPTION:The UPCFA Department of Theory presents the 6th installment to our Brown Bag Series:\nHANDLE WITH CARE: Curating Art Activities for Children with Special Needs with Prof. Dayang Yraola\n\nApril 15\, 2026\, 11:30AM-1:00PM\nUPCFA Arts and Design Building West Hall\, Conference Room\n\nProf. Yraola will present learnings and challenges experienced in organizing art activities for children with special needs\, such as children with cancer and blood diseases\, and neurodivergent youth\, held during her sabbatical leave.\n\nSource: UPCFA Department of Theory Facebook
URL:https://alum.up.edu.ph/event/handle-with-care-curating-art-activities-for-children-with-special-needs-with-prof-dayang-yraola/
END:VEVENT
BEGIN:VEVENT
DTSTART;TZID=Asia/Manila:20260415T140000
DTEND;TZID=Asia/Manila:20260415T153000
DTSTAMP:20260423T170235
CREATED:20260408T000204Z
LAST-MODIFIED:20260408T000205Z
UID:23859-1776261600-1776267000@alum.up.edu.ph
SUMMARY:Pamana at Hamon: Silbi at Bisa ng Panitikan sa Panahon ng Ligalig
DESCRIPTION:Sa pagdiriwang ng Buwan ng Panitikan\, malugod kayong inaanyayahan ng Larangan ng Panitikan\, Departamento ng Filipino at Panitikan ng Pilipinas para sa Pamana at Hamon: Silbi at Bisa ng Panitikan sa Panahon ng Ligalig\, isang serye ng mga panayam sa bawat Miyerkules ng Abril 2026.\n\nTatlong de kalibreng manunulat ang magbibigay ng panayam sa kung papaano hinuhubog ng panitikan ang bayan at daigdig\, sa kabila ng iba’t ibang anyo at hugis ng ligalig na patuloy nating sinusuong.\n\nMagaganap ang bawat panayam sa Abril 15\, 22\, at 29\, ika-2:00 nh\, Palma Hall Pavilion 1 Rm 1131.\nAng pagdiriwang ng Buwan ng Panitikan ay kasabay rin ng pagdiriwang ng DFPP para sa ika-60 taon na anibersaryo ng pagkakatatag nito.\n\nMagkita-kita tayong lahat!\n\nSource: UP Departamento ng Filipino at Panitikan ng Pilipinas Facebook
URL:https://alum.up.edu.ph/event/pamana-at-hamon-silbi-at-bisa-ng-panitikan-sa-panahon-ng-ligalig/
END:VEVENT
BEGIN:VEVENT
DTSTART;TZID=Asia/Manila:20260415T143000
DTEND;TZID=Asia/Manila:20260415T170000
DTSTAMP:20260423T170235
CREATED:20260414T001859Z
LAST-MODIFIED:20260414T001859Z
UID:23921-1776263400-1776272400@alum.up.edu.ph
SUMMARY:“When Humans Meet Wildlife: Stories from the Ocean and Mountains of Peru”
DESCRIPTION:Due to the new work arrangements in the Institute of Biology\, the seminar of Mr. Miguel Antonio Valderrama Herrera\, a TROPIMUNDO student from the NGO Conservaccion\, has been rescheduled. The lecture\, entitled “When Humans Meet Wildlife: Stories from the Ocean and Mountains of Peru\,” will now be held on 15 April 2026 at 2:30 PM in Room 203\, Institute of Biology.\n\nWe encourage everyone to attend and learn from Mr. Herrera’s experiences in wildlife conservation and human–wildlife interactions in Peru.\n\nSource: UP Institute of Biology Facebook
URL:https://alum.up.edu.ph/event/when-humans-meet-wildlife-stories-from-the-ocean-and-mountains-of-peru-2/
END:VEVENT
END:VCALENDAR