BEGIN:VCALENDAR
VERSION:2.0
PRODID:-//UP Alumni Website - ECPv6.15.16//NONSGML v1.0//EN
CALSCALE:GREGORIAN
METHOD:PUBLISH
X-WR-CALNAME:UP Alumni Website
X-ORIGINAL-URL:https://alum.up.edu.ph
X-WR-CALDESC:Events for UP Alumni Website
REFRESH-INTERVAL;VALUE=DURATION:PT1H
X-Robots-Tag:noindex
X-PUBLISHED-TTL:PT1H
BEGIN:VTIMEZONE
TZID:Asia/Manila
BEGIN:STANDARD
TZOFFSETFROM:+0800
TZOFFSETTO:+0800
TZNAME:PST
DTSTART:20250101T000000
END:STANDARD
END:VTIMEZONE
BEGIN:VEVENT
DTSTART;TZID=Asia/Manila:20260411T080000
DTEND;TZID=Asia/Manila:20260509T170000
DTSTAMP:20260423T122407
CREATED:20260410T001437Z
LAST-MODIFIED:20260410T001437Z
UID:23901-1775894400-1778346000@alum.up.edu.ph
SUMMARY:Ang Tubig\, na Tahanan
DESCRIPTION:Ang Tubig\, na Tahanan\n\nIsang pangwakas na eksibit mula sa Paglayag at Paglaya Program ng Concerned Artists of the Philippines\, UP CSWCD Research and Extension for Development Office (REDO) at mga Komunidad ng Mangingisda ng Pamalakaya\n\nSimula pa noong 2024\, naging katuwang ng Concerned Artists of the Philippines ang Pamalakaya sa paglulubog ng mga artista ng bayan sa mga komunidad ng mangingisda. Dito lubos na napag-aaralan ang malubhang kondisyon ng nasabing sektor—ang panganib sa kanilang kabuhayan at tirahan dulot ng lumalalang kondisyon ng Laguna de Bay at Manila Bay\, dahil na rin sa mga reclamation projects at dredging na isinasagawa sa kanilang lugar.\n\nSa suporta ng Office of Extension Coordination\, Office of the Vice Chancellor for Research and Development\, napalawig ng CAP at UP CSWCD REDO ang programang ito bilang Paglayag at Paglaya\, kung saan nagsagawa ang organisasyon ng mga art workshop sa mga kabataan ng komunidad. Ang eksibit na ito ay ang kulminasyon ng nasabing proyekto\, tampok ang mga sining na nilikha ng mga mangingisda mula sa mga workshop\, pati na ang mga sining na ginawa ng artista ng CAP na sumama sa mga paglubog.\n\n📍 Abril 11 – Mayo 9\, 2026\nPasinaya: Abril 11\, 2026 2:00-4:00PM\nUniversity of the Philippines College of Social Work and Community Development\n1st Floor Walkway\n\nSource: College of Social Work and Community Development Facebook
URL:https://alum.up.edu.ph/event/ang-tubig-na-tahanan/
END:VEVENT
BEGIN:VEVENT
DTSTART;TZID=Asia/Manila:20260414T090000
DTEND;TZID=Asia/Manila:20260516T170000
DTSTAMP:20260423T122407
CREATED:20260410T000952Z
LAST-MODIFIED:20260410T001006Z
UID:23899-1776157200-1778950800@alum.up.edu.ph
SUMMARY:HERE DOWON II: THE FOUNDING OF JOSEON
DESCRIPTION:THIS APRIL AT PAROLA 🐻🇰🇷\nHERE DOWON II: THE FOUNDING OF JOSEON\nA Solo Exhibition by Jungyeon Seo\n​\nWelcoming the month of April\, the UP Korea Research Center\, with the support of the Korean Women’s Association\, and the UP Fine Arts Gallery (Parola) of the UP College of Fine Arts cordially invite you to a special exhibit of traditional Korean painting by contemporary artist and Jinchaewa painter Jungyeon Seo.\n​\nTitled Here Dowon II: The Founding of Joseon\, the exhibit is part of the UP KRC’s 10th anniversary celebration as a UP Systemwide Korean studies hub dedicated to fostering Philippines-Korea academic and cultural exchanges.\n​\nThe exhibit puts the spotlight on Jinchaehwa\, or more commonly known as Minhwa\, a tradition of Korean true-color painting and a style of art that uses delicate\, deep\, and rich pigments\, often applied to silk or paper. A practitioner of this traditional art\, Ms. Seo is currently finishing her master’s program at the College of Creative Humanities and Arts of Hansung University in ​ Seoul.\n​\nThe exhibit opens at 4:00 p.m. on April 14 (Tuesday) and will run until the 16th of May\, 2026.\n​\nFREE AND OPEN TO THE PUBLIC\n​\nThe UP Fine Arts Gallery is open from Tuesday to Saturday\, 9 AM to 4 PM at the Arts and Design West Hall\, College of Fine Arts\, Diliman\, Quezon City. For inquiries\, you may message us at cfagallery.upd@up.edu.ph or call us at +63-2-8981-8500 local 3988.\n\nSource: UP Fine Arts Gallery Facebook
URL:https://alum.up.edu.ph/event/here-dowon-ii-the-founding-of-joseon/
END:VEVENT
BEGIN:VEVENT
DTSTART;TZID=Asia/Manila:20260418T090000
DTEND;TZID=Asia/Manila:20260516T160000
DTSTAMP:20260423T122407
CREATED:20260407T002507Z
LAST-MODIFIED:20260407T002507Z
UID:23823-1776502800-1778947200@alum.up.edu.ph
SUMMARY:Intensive English Program for Filipinos
DESCRIPTION:Upgrade your English language skills with the Intensive English Program for Filipinos. “Grammar Plus” will help you look at grammar in a different way\, designed to help teachers\, government workers\, and office workers improve their English language skills by leaning into what makes us human. It is designed to help students pass professional exams that test English grammar\, reading comprehension\, writing ability\, listening comprehension\, and speaking skills.\n\nYou can find more information here: https://docs.google.com/…/1232Za0Tjbne9G9cZkja8…/edit…\n\nFor inquiries\, please email Mr. Mark Angelo Francisco at mbfrancisco3@up.edu.ph or iepdeclupd@gmail.com with the subject heading: IEP APR2026 Inquiry/Enrollment (Family Name\, Given Name). You may also send a message through this number: 09999933917.\n\nThe fee for the 30-hour course is P4\,900.00\, payable at Land Bank of the Philippines.\n\nStudents will be given a certificate of attendance if they are able to complete at least 24 hours of training\n\nSource: UPD Department of English and Comparative Literature Facebook
URL:https://alum.up.edu.ph/event/intensive-english-program-for-filipinos/
END:VEVENT
BEGIN:VEVENT
DTSTART;TZID=Asia/Manila:20260425T080000
DTEND;TZID=Asia/Manila:20260429T170000
DTSTAMP:20260423T122407
CREATED:20260211T015243Z
LAST-MODIFIED:20260211T015243Z
UID:23313-1777104000-1777482000@alum.up.edu.ph
SUMMARY:2nd UP-FAHLA Healthcare Informatics and PACS Administrator Certification Course
DESCRIPTION:🗓️ Course Dates\n– Level 1: Healthcare Informatics Foundation – April 25\, 2026\n– Level 2-A: Healthcare Informatics Practitioner (Intermediate) – April 27–29\, 2026\n– Level 2-B: PACS Administrator Certification Course – April 27–29\, 2026\n\n📍 University of the Philippines Manila\n\nRegister here: https://bit.ly/UPFAHLA2026\n\nSource: University of the Philippines Manila Facebook
URL:https://alum.up.edu.ph/event/2nd-up-fahla-healthcare-informatics-and-pacs-administrator-certification-course/
END:VEVENT
BEGIN:VEVENT
DTSTART;TZID=Asia/Manila:20260427T080000
DTEND;TZID=Asia/Manila:20260428T170000
DTSTAMP:20260423T122407
CREATED:20260407T053927Z
LAST-MODIFIED:20260407T053927Z
UID:23834-1777276800-1777395600@alum.up.edu.ph
SUMMARY:Tambali: Integrative Art\, Spirituality\, and Healing in Psychosocial Therapy
DESCRIPTION:Tambali: Integrative Art\, Spirituality\, and Healing in Psychosocial Therapy ✨🌿🗣️\n\nRegistration is now open! The conference is FREE and open to the public\, but slots are limited.\n\nTambali is an interdisciplinary conference that addresses the growing mental health concerns in Filipino communities through culturally grounded\, spiritually rooted\, and integrative approaches to healing. Anchored in the Visayan concept of Tambali\, meaning “healing” or “remedy\,” the conference emphasizes that trauma is not only individual\, but also collective\, generational\, and deeply connected to culture\, history\, and spirituality. It was launched during Pag-aboll 2025: International Conference on Mindanao Studies last November 21\, 2025 at\nMalagos Garden Resort\, Davao City.\n\n📍 Central Mindanao University\, Bukidnon\n📅 April 27–28\, 2026\n\nScan the QR code or register through this link: https://forms.gle/uznssDiXg4yMnPN28\nDeadline of registration: 15 April 2026.\n\nJoin us to learn more about culturally grounded\, spiritually rooted\, and integrative approaches to healing through keynote and plenary talks\, panel discussions\, workshops\, ritual spaces\, and artistic performances!\n\nOrganized by:\nUP Mindanao Office of Research\n\nIn partnership with:\nCentral Mindanao University – College of Arts and Sciences\n\nSupported by:\nNational Commission for Culture and the Arts\n\nSource: University of the Philippines Mindanao Facebook
URL:https://alum.up.edu.ph/event/tambali-integrative-art-spirituality-and-healing-in-psychosocial-therapy/
END:VEVENT
BEGIN:VEVENT
DTSTART;TZID=Asia/Manila:20260427T090000
DTEND;TZID=Asia/Manila:20260427T120000
DTSTAMP:20260423T122407
CREATED:20260423T001429Z
LAST-MODIFIED:20260423T001429Z
UID:24047-1777280400-1777291200@alum.up.edu.ph
SUMMARY:Intellectual Property Awareness Webinar 2026
DESCRIPTION:Intellectual Property Awareness Webinar 2026\n\nIn celebration of IP Month\, we are pleased to invite you to the Intellectual Property Awareness Webinar (IPAW)!\n\n📅 Monday\, April 27\, 2026\n🕛 9:00 AM – 12:00 PM\n💻 FREE and open to all participants\n\nJoin us to enhance your understanding of intellectual property and learn practical strategies to protect your innovations!\n\nWe look forward to seeing you there ~\n\nRegister here: https://forms.gle/HAKJhE8XZia94svo7\n\nSource: UP Diliman Technology Transfer and Business Development Office Facebook
URL:https://alum.up.edu.ph/event/intellectual-property-awareness-webinar-2026/
END:VEVENT
BEGIN:VEVENT
DTSTART;TZID=Asia/Manila:20260427T133000
DTEND;TZID=Asia/Manila:20260427T150000
DTSTAMP:20260423T122407
CREATED:20260414T051129Z
LAST-MODIFIED:20260414T051129Z
UID:23938-1777296600-1777302000@alum.up.edu.ph
SUMMARY:“Deepfakes & AI-Powered Online Abuse on Women: A Forum on AI Violence and Protecting Women”
DESCRIPTION:“At first\, I was thinking\, how did they find me? What made them think to use my face for a video like that? It’s unfair. It’s bullying. It’s just… stepping all over you.” —Angel Aquino\, in an interview with Allure Magazine\n\nThis Sexual Assault Awareness Month\, the Kasarian Gender Studies Program\, in partnership with Sigma Delta Pi Sorority\, invites the UP Baguio community to “Deepfakes & AI-Powered Online Abuse on Women: A Forum on AI Violence and Protecting Women\,” with women’s rights advocate and UP Baguio alumna Angel Aquino!\n\nJoin us on April 27\, 1:30 PM\, at the CSS-AVR as we listen to Ms. Aquino share her experience as a victim-survivor of online sexual abuse through a deepfake\, where AI was used to exploit her identity\, image\, and dignity.\n\nThis forum is beyond awareness\, it is a reflection of a culture that continues to normalize the violation of women in both physical and digital spaces. In an age of advancing technology\, we must protect\, resist\, and ensure that no woman’s identity can be stolen or manipulated for the sexual gratification of others.\n\nSee you! 💜\n\n(Photo Courtesy: Excel Panlaque via Mega Magazine) \nSource: UPB Kasarian Gender Studies Program Facebook
URL:https://alum.up.edu.ph/event/deepfakes-ai-powered-online-abuse-on-women-a-forum-on-ai-violence-and-protecting-women/
END:VEVENT
END:VCALENDAR