BEGIN:VCALENDAR
VERSION:2.0
PRODID:-//UP Alumni Website - ECPv6.15.16//NONSGML v1.0//EN
CALSCALE:GREGORIAN
METHOD:PUBLISH
X-ORIGINAL-URL:https://alum.up.edu.ph
X-WR-CALDESC:Events for UP Alumni Website
REFRESH-INTERVAL;VALUE=DURATION:PT1H
X-Robots-Tag:noindex
X-PUBLISHED-TTL:PT1H
BEGIN:VTIMEZONE
TZID:Asia/Manila
BEGIN:STANDARD
TZOFFSETFROM:+0800
TZOFFSETTO:+0800
TZNAME:PST
DTSTART:20250101T000000
END:STANDARD
END:VTIMEZONE
BEGIN:VTIMEZONE
TZID:UTC
BEGIN:STANDARD
TZOFFSETFROM:+0000
TZOFFSETTO:+0000
TZNAME:UTC
DTSTART:20250101T000000
END:STANDARD
END:VTIMEZONE
BEGIN:VEVENT
DTSTART;TZID=Asia/Manila:20260519T080000
DTEND;TZID=Asia/Manila:20260521T170000
DTSTAMP:20260425T193806
CREATED:20260311T002826Z
LAST-MODIFIED:20260311T002840Z
UID:23630-1779177600-1779382800@alum.up.edu.ph
SUMMARY:Research and Extension for Development Office (REDO) 2026 Training Series
DESCRIPTION:Looking to strengthen and level up your skills in 2026?\n\nThe Research and Extension for Development Office (REDO) is excited to share its 2026 training series\, designed to strengthen skills in project development\, management\, research\, extension\, organizing\, and development practice.\n\nWe invite community partners\, government agencies\, NGOs\, academic institutions\, and development practitioners to join us in building skills\, exchanging knowledge\, and turning ideas into meaningful action for communities.\n\n📅 Check out the 2026 training schedule\n🔗 Register via this link: https://forms.gle/gMc5u9H9Lw1dLipj8\n🤝 Learn together. Share experiences. Create impact.\n\nSlots may be limited—register early!\n\nSource: College of Social Work and Community Development Facebook
URL:https://alum.up.edu.ph/event/redo-2026-training-series/
END:VEVENT
BEGIN:VEVENT
DTSTART;TZID=Asia/Manila:20260519T080000
DTEND;TZID=Asia/Manila:20260521T170000
DTSTAMP:20260425T193806
CREATED:20260417T005727Z
LAST-MODIFIED:20260417T005727Z
UID:23997-1779177600-1779382800@alum.up.edu.ph
SUMMARY:DNA Analysis Laboratory Milestone Celebration
DESCRIPTION:Join us celebrate 30 years of action and service! There will be an open house (lab) on May 19 in the morning and a 2-day webinar on May 20-21.\n\nThe winners of the essay competition will be announced on May 21. The registration is free but tour slots\, and webinar zoom slots are limited so register early!\n\nSource: Milestone Celebration Facebook Event page
URL:https://alum.up.edu.ph/event/dna-analysis-laboratory-milestone-celebration/
END:VEVENT
BEGIN:VEVENT
DTSTART;TZID=Asia/Manila:20260522T070000
DTEND;TZID=Asia/Manila:20260522T093000
DTSTAMP:20260425T193806
CREATED:20260423T060740Z
LAST-MODIFIED:20260423T060740Z
UID:24069-1779433200-1779442200@alum.up.edu.ph
SUMMARY:9th UPSEAA Golf Tournament
DESCRIPTION:⛳️SAVE THE DATE! ⛳️\n\nMark your calendars for the 9th UPSEAA Golf Tournament!\n📅 May 22\, 2026 (Friday)\n📍 South Forbes Golf City\, Silang\, Cavite\n🕖 Tee Time: 7:00 A.M.\n\nJoin fellow UPSE alumni and friends for a morning of friendly competition\, meaningful connections\, and a shared purpose.\nEvery swing supports UPSEAA projects\, including our Scholarship Program and other initiatives that give back to the UP School of Economics community.\n\nWhether you’re playing\, sponsoring\, or cheering from the sidelines\, your participation helps us invest in the next generation of Iskolar ng Bayan.\n\nStay tuned for registration details — and start building your team! 🏌️‍♂️🏌️‍♀️\n\nSource: U.P. School of Economics Alumni Association Facebook
URL:https://alum.up.edu.ph/event/9th-upseaa-golf-tournament/
END:VEVENT
BEGIN:VEVENT
DTSTART;TZID=Asia/Manila:20260522T080000
DTEND;TZID=Asia/Manila:20260522T170000
DTSTAMP:20260425T193806
CREATED:20260324T054109Z
LAST-MODIFIED:20260324T054109Z
UID:23751-1779436800-1779469200@alum.up.edu.ph
SUMMARY:Plant Chromosome Preparation Workshop
DESCRIPTION:The BRSL will conduct a Plant Chromosome Preparation Workshop this coming May 22\, 2026\, 8:00 AM to 5:00 PM at NSRI Conference Hall\, Miranda Hall\, University of the Philippines Diliman. Limited slots only.\n\nReserve your slots by scanning the QR code below or through this link: https://tinyurl.com/Genotox2026\n\nSource: Biological Research and Services Laboratory Facebook
URL:https://alum.up.edu.ph/event/plant-chromosome-preparation-workshop/
END:VEVENT
BEGIN:VEVENT
DTSTART;TZID=Asia/Manila:20260524T040000
DTEND;TZID=Asia/Manila:20260524T080000
DTSTAMP:20260425T193806
CREATED:20260414T235507Z
LAST-MODIFIED:20260414T235507Z
UID:23951-1779595200-1779609600@alum.up.edu.ph
SUMMARY:UP SIKLAB RUN 2026
DESCRIPTION:The registration for the “UP SIKLAB RUN 2026” is now open.\n\nThe fun run will happen on May 24 at UP Diliman.\n\nTo join\, register at https://raceroster.com/events/2026/115954/up-siklab-run-2026.\n\nThe event is organized by Runrio\, Inc. and supported by the All UP Workers Union\, UP System Human Resource Development Office\, and the UP Office for Athletics and Sports Development.\n\nFor inquiries\, email siklabrun@runrio.com.\n\nSource: UP Diliman Facebook
URL:https://alum.up.edu.ph/event/up-siklab-run-2026/
END:VEVENT
BEGIN:VEVENT
DTSTART;TZID=Asia/Manila:20260601T080000
DTEND;TZID=Asia/Manila:20260613T170000
DTSTAMP:20260425T193806
CREATED:20260305T053913Z
LAST-MODIFIED:20260305T053913Z
UID:23561-1780300800-1781370000@alum.up.edu.ph
SUMMARY:Speak UP Workshop Series
DESCRIPTION:REGISTRATION ONGOING: Avail early bird discounted rates until March 31!\n\nThe UP Department of Speech Communication and Theatre Arts proudly opens the early bird registration for our Speak UP Workshop Series. Get Php 1\,000 off when you register on or before March 31\, 2026!\n\nREGISTER HERE! LIMITED SLOTS AVAILABLE!\n➡️ https://forms.gle/h17wSSuf53XXwPMq9\n\n🎭 Storytelling and Performance for Kids (Ages 6 to 😎\nDevelop self-confidence through guided reading and storytelling activities\nJune 01 to 11 (MTWThF) | 10:00 AM to 12:00 PM\nRegular rate: Php 8\,000\nEarly bird rate: Php 7\,000\n\n🗣️ Basic Public Speaking for Tweens (Ages 9 to 12)\nImprove your verbal and nonverbal communication skills for various public speaking events!\nJune 01 to 11 (MTWThF) | 10:00 AM to 12:00 PM\nRegular rate: Php 8\,000\nEarly bird rate: Php 7\,000\n\n💡 Advanced Public Speaking and Argumentation for Teens (Ages 13 to 17)\nLearn advanced speech development techniques ideal for competition training!\nJune 01 to 11 (MTWThF) | 10:00 AM to 12:00 PM\nRegular rate: Php 10\,000\nEarly bird rate: Php 9\,000\n\n👥 Effective Communication for Professionals (Ages 18+)\nAdvance your career by developing presentation skills in the workplace!\nJune 6 and 13 (Sat) | 9:00 AM to 4:00 PM\nRegular rate: Php 10\,000\nEarly bird rate: Php 9\,000\n\n✔️ Workshop facilitators are faculty members from the UP Department of Speech Communication and Theatre Arts.\n✔️ Workshop fee includes a kit and a certificate of completion.\n✔️ All sessions will be held face-to-face in fully air-conditioned classrooms.\n✔️ A maximum of 15 students will be accommodated per section for an optimal learning experience.\n\nMessage us at dscta-rcwe.upd@up.edu.ph for inquiries and concerns.\n\nSource: Workshops by the UP Department of Speech Communication and Theatre Arts Facebook
URL:https://alum.up.edu.ph/event/speak-up-workshop-series/
END:VEVENT
BEGIN:VEVENT
DTSTART;VALUE=DATE:20260607
DTEND;VALUE=DATE:20260608
DTSTAMP:20260425T193806
CREATED:20260128T171551Z
LAST-MODIFIED:20260407T064722Z
UID:23154-1780790400-1780876799@alum.up.edu.ph
SUMMARY:UPAA Freedom Run UPLB
DESCRIPTION:A new run date is set.\n\nThe UP Freedom Run will now take place on June 7\, 2026 at UPLB\, Laguna.\n\nThank you for your patience and understanding as we work towards a smooth and meaningful event for all.\n\nRefund and slot retention options are available. Just scan the QR code.\n\nMessage us for details.\n\nPlease check this page for future updates.\n\nWe look forward to running with you soon.\n\nSource: UPAA Freedom Run – UPLB Facebook page
URL:https://alum.up.edu.ph/event/upaa-freedom-run/
END:VEVENT
BEGIN:VEVENT
DTSTART;TZID=Asia/Manila:20260608T080000
DTEND;TZID=Asia/Manila:20260611T170000
DTSTAMP:20260425T193806
CREATED:20260417T004936Z
LAST-MODIFIED:20260417T004936Z
UID:23988-1780905600-1781197200@alum.up.edu.ph
SUMMARY:2026 ASPAP International Conference
DESCRIPTION:Discover the themes of the upcoming 2026 ASPAP International Conference!\n\nJoin us at the 2026 ASPAP International Conference as scholars\, practitioners\, and policymakers come together to advance integrity\, accountability\, and reform in the public sector.\n\nThis year’s conference theme: “Governance Under Pressure: Advancing Public Sector Integrity\, Accountability\, and Reform in an Age of Complexity.”\n\nThe conference will cover\, but is not limited to\, the following subthemes:\n\n🔹 Governing in Turbulent Times: Public Administration Amid Crisis and Disruption\n🔹 The Crisis of Integrity: Corruption\, Trust Deficits\, and Institutional Breakdown\n🔹 Digital Governance Under Scrutiny: Ethics\, Risks\, and Accountability in Emerging Technologies\n🔹 Resilient Institutions: Designing Adaptive and Future-Ready Public Sector Systems\n🔹 Public Sector Reform in Complex Systems: Rethinking Bureaucracy and Governance Models\n🔹 Decentralization\, Local Governance\, and Uneven Capacity Under Pressure\n🔹 Evidence\, Policy\, and Decision-Making in High-Uncertainty Contexts\n\nThe conference will also feature the PAhayag Masterclass Seminar Series\, bringing expert-led sessions on the latest trends and methods in public administration education and research.\n\n📅 June 8–11\, 2026\n🎟️ Only 150 slots available\, register now until April 17: https://forms.gle/xaUBfHCqj844Dmhc7\n\nFor more details\, download the conference primer: http://bit.ly/4eoAmlj\n\nStay tuned for updates via our official Facebook pages: UP NCPAG and ASPAP Inc.\n\nWe look forward to seeing you this June!\n\nSource: UP-NCPAG Facebook
URL:https://alum.up.edu.ph/event/2026-aspap-international-conference/
END:VEVENT
BEGIN:VEVENT
DTSTART;TZID=Asia/Manila:20260616T080000
DTEND;TZID=Asia/Manila:20260618T170000
DTSTAMP:20260425T193806
CREATED:20260311T003013Z
LAST-MODIFIED:20260311T003013Z
UID:23636-1781596800-1781802000@alum.up.edu.ph
SUMMARY:Research and Extension for Development Office (REDO) 2026 Training Series
DESCRIPTION:Looking to strengthen and level up your skills in 2026?\n\nThe Research and Extension for Development Office (REDO) is excited to share its 2026 training series\, designed to strengthen skills in project development\, management\, research\, extension\, organizing\, and development practice.\n\nWe invite community partners\, government agencies\, NGOs\, academic institutions\, and development practitioners to join us in building skills\, exchanging knowledge\, and turning ideas into meaningful action for communities.\n\n📅 Check out the 2026 training schedule\n🔗 Register via this link: https://forms.gle/gMc5u9H9Lw1dLipj8\n🤝 Learn together. Share experiences. Create impact.\n\nSlots may be limited—register early!\n\nSource: College of Social Work and Community Development Facebook
URL:https://alum.up.edu.ph/event/redo-2026-training-series-2/
END:VEVENT
BEGIN:VEVENT
DTSTART;TZID=Asia/Manila:20260711T080000
DTEND;TZID=Asia/Manila:20260711T170000
DTSTAMP:20260425T193806
CREATED:20260422T003714Z
LAST-MODIFIED:20260422T004145Z
UID:24031-1783756800-1783789200@alum.up.edu.ph
SUMMARY:4th Audiometrician Training Course
DESCRIPTION:ANNOUNCEMENT: 4th Audiometrician Training Course\n\n🗓️ May 30\, 2026 (Saturday)\nJune 6\, 13\, 20\, & 27\, 2026 (Saturday)\nJuly 4 & 11\, 2026 (Saturday)\n⏰ 8:00 AM – 5:00 PM\n📍 Ear Unit\, Philippine General Hospital\n\nRegister here: https://forms.gle/hf2LwWX9aM5DMjVZ7\n\nSource: University of the Philippines Manila Facebook
URL:https://alum.up.edu.ph/event/4th-audiometrician-training-course/
END:VEVENT
BEGIN:VEVENT
DTSTART;VALUE=DATE:20260807
DTEND;VALUE=DATE:20260809
DTSTAMP:20260425T193806
CREATED:20260421T004941Z
LAST-MODIFIED:20260421T005101Z
UID:24022-1786060800-1786233599@alum.up.edu.ph
SUMMARY:10th UPINHF ANNUAL INTERNATIONAL FORUM
DESCRIPTION:“Linking Experiences\, Inspiring Excellence in Healthcare”\n\nAugust 7 & 8\, 2026\nEmbassy Suites by Hilton Los Angeles International Airport South\n1440 East Imperial Ave.\, El Segundo\, CA 90245\nRegister and Pay By Mail or Zelle.\n\nPlease send Payment to Francia Edquilag\, UPINHF Treasurer.\nZelle: aabad220@gmail.com (UPINHF Account)\nCheck: Payable to UPINHF\, mail to Francia Edquilag\, 56 New Street\, Bloomfield\, NJ 07003\n\nFor hotel reservation\, please visit the link or scan the QR code.\nLink: tinyurl.com/UPINHF2026Convention\n\nRead more about the event here.
URL:https://alum.up.edu.ph/event/10th-upinhf-annual-international-forum/
END:VEVENT
BEGIN:VEVENT
DTSTART;TZID=Asia/Manila:20260826T080000
DTEND;TZID=Asia/Manila:20260828T170000
DTSTAMP:20260425T193806
CREATED:20260311T003046Z
LAST-MODIFIED:20260311T003046Z
UID:23637-1787731200-1787936400@alum.up.edu.ph
SUMMARY:Research and Extension for Development Office (REDO) 2026 Training Series
DESCRIPTION:Looking to strengthen and level up your skills in 2026?\n\nThe Research and Extension for Development Office (REDO) is excited to share its 2026 training series\, designed to strengthen skills in project development\, management\, research\, extension\, organizing\, and development practice.\n\nWe invite community partners\, government agencies\, NGOs\, academic institutions\, and development practitioners to join us in building skills\, exchanging knowledge\, and turning ideas into meaningful action for communities.\n\n📅 Check out the 2026 training schedule\n🔗 Register via this link: https://forms.gle/gMc5u9H9Lw1dLipj8\n🤝 Learn together. Share experiences. Create impact.\n\nSlots may be limited—register early!\n\nSource: College of Social Work and Community Development Facebook
URL:https://alum.up.edu.ph/event/redo-2026-training-series-3/
END:VEVENT
BEGIN:VEVENT
DTSTART;TZID=Asia/Manila:20260908T080000
DTEND;TZID=Asia/Manila:20260910T170000
DTSTAMP:20260425T193806
CREATED:20260311T003111Z
LAST-MODIFIED:20260311T003111Z
UID:23638-1788854400-1789059600@alum.up.edu.ph
SUMMARY:Research and Extension for Development Office (REDO) 2026 Training Series
DESCRIPTION:Looking to strengthen and level up your skills in 2026?\n\nThe Research and Extension for Development Office (REDO) is excited to share its 2026 training series\, designed to strengthen skills in project development\, management\, research\, extension\, organizing\, and development practice.\n\nWe invite community partners\, government agencies\, NGOs\, academic institutions\, and development practitioners to join us in building skills\, exchanging knowledge\, and turning ideas into meaningful action for communities.\n\n📅 Check out the 2026 training schedule\n🔗 Register via this link: https://forms.gle/gMc5u9H9Lw1dLipj8\n🤝 Learn together. Share experiences. Create impact.\n\nSlots may be limited—register early!\n\nSource: College of Social Work and Community Development Facebook
URL:https://alum.up.edu.ph/event/redo-2026-training-series-4/
END:VEVENT
END:VCALENDAR